| Back to Multiple platform build/check report for BioC 3.11 |
|
This page was generated on 2020-10-17 11:56:53 -0400 (Sat, 17 Oct 2020).
| TO THE DEVELOPERS/MAINTAINERS OF THE InPAS PACKAGE: Please make sure to use the following settings in order to reproduce any error or warning you see on this page. |
| Package 877/1905 | Hostname | OS / Arch | INSTALL | BUILD | CHECK | BUILD BIN | ||||||
| InPAS 1.20.0 Jianhong Ou
| malbec2 | Linux (Ubuntu 18.04.4 LTS) / x86_64 | OK | OK | OK | |||||||
| tokay2 | Windows Server 2012 R2 Standard / x64 | OK | OK | OK | [ OK ] | |||||||
| machv2 | macOS 10.14.6 Mojave / x86_64 | OK | OK | OK | OK |
| Package: InPAS |
| Version: 1.20.0 |
| Command: rm -rf InPAS.buildbin-libdir && mkdir InPAS.buildbin-libdir && C:\Users\biocbuild\bbs-3.11-bioc\R\bin\R.exe CMD INSTALL --merge-multiarch --build --library=InPAS.buildbin-libdir InPAS_1.20.0.tar.gz |
| StartedAt: 2020-10-17 10:48:42 -0400 (Sat, 17 Oct 2020) |
| EndedAt: 2020-10-17 10:50:34 -0400 (Sat, 17 Oct 2020) |
| EllapsedTime: 112.5 seconds |
| RetCode: 0 |
| Status: OK |
| PackageFile: InPAS_1.20.0.zip |
| PackageFileSize: 3.796 MiB |
##############################################################################
##############################################################################
###
### Running command:
###
### rm -rf InPAS.buildbin-libdir && mkdir InPAS.buildbin-libdir && C:\Users\biocbuild\bbs-3.11-bioc\R\bin\R.exe CMD INSTALL --merge-multiarch --build --library=InPAS.buildbin-libdir InPAS_1.20.0.tar.gz
###
##############################################################################
##############################################################################
install for i386
* installing *source* package 'InPAS' ...
** using staged installation
** R
** data
** inst
** byte-compile and prepare package for lazy loading
** help
*** installing help indices
converting help for package 'InPAS'
finding HTML links ... done
CPsite_estimation html
CPsites html
InPAS-package html
PAscore html
PAscore2 html
UTR3TotalCoverage html
UTR3eSet html
UTR3usage html
covThreshold html
coverageFromBedGraph html
coverageRate html
depthWeight html
distalAdj html
filterRes html
fisher.exact.test html
get.regions.coverage html
getCov html
getUTR3eSet html
getUTR3region html
inPAS html
lastCDSusage html
limmaAnalyze html
optimalSegmentation html
polishCPs html
prepare4GSEA html
proximalAdj html
proximalAdjByCleanUpdTSeq html
proximalAdjByPWM html
removeUTR3__UTR3 html
searchDistalCPs html
searchProximalCPs html
seqLen html
singleGroupAnalyze html
singleSampleAnalyze html
finding level-2 HTML links ... done
sortGR html
testUsage html
totalCoverage html
trimSeqnames html
usage4plot html
utr3.danRer10 html
utr3.hg19 html
utr3.mm10 html
utr3Annotation html
utr3UsageEstimation html
valley html
zScoreThrethold html
** building package indices
** installing vignettes
** testing if installed package can be loaded from temporary location
** testing if installed package can be loaded from final location
** testing if installed package keeps a record of temporary installation path
install for x64
* installing *source* package 'InPAS' ...
** testing if installed package can be loaded
* MD5 sums
packaged installation of 'InPAS' as InPAS_1.20.0.zip
* DONE (InPAS)