| Back to Multiple platform build/check report for BioC 3.11 | 
 | 
This page was generated on 2020-10-17 11:56:49 -0400 (Sat, 17 Oct 2020).
| TO THE DEVELOPERS/MAINTAINERS OF THE HilbertVis PACKAGE: Please make sure to use the following settings in order to reproduce any error or warning you see on this page. | 
| Package 820/1905 | Hostname | OS / Arch | INSTALL | BUILD | CHECK | BUILD BIN | ||||||
| HilbertVis 1.46.0 Simon Anders 
 | malbec2 | Linux (Ubuntu 18.04.4 LTS) / x86_64 | OK | OK | OK |  | ||||||
| tokay2 | Windows Server 2012 R2 Standard / x64 | OK | OK | OK | [ OK ] |  | ||||||
| machv2 | macOS 10.14.6 Mojave / x86_64 | OK | OK | WARNINGS | OK |  | 
| Package: HilbertVis | 
| Version: 1.46.0 | 
| Command: rm -rf HilbertVis.buildbin-libdir && mkdir HilbertVis.buildbin-libdir && C:\Users\biocbuild\bbs-3.11-bioc\R\bin\R.exe CMD INSTALL --merge-multiarch --build --library=HilbertVis.buildbin-libdir HilbertVis_1.46.0.tar.gz | 
| StartedAt: 2020-10-17 10:45:18 -0400 (Sat, 17 Oct 2020) | 
| EndedAt: 2020-10-17 10:45:55 -0400 (Sat, 17 Oct 2020) | 
| EllapsedTime: 36.8 seconds | 
| RetCode: 0 | 
| Status: OK | 
| PackageFile: HilbertVis_1.46.0.zip | 
| PackageFileSize: 966.8 KiB | 
##############################################################################
##############################################################################
###
### Running command:
###
###   rm -rf HilbertVis.buildbin-libdir && mkdir HilbertVis.buildbin-libdir && C:\Users\biocbuild\bbs-3.11-bioc\R\bin\R.exe CMD INSTALL --merge-multiarch --build --library=HilbertVis.buildbin-libdir HilbertVis_1.46.0.tar.gz
###
##############################################################################
##############################################################################
install for i386
* installing *source* package 'HilbertVis' ...
** using staged installation
** libs
"C:/rtools40/mingw32/bin/"gcc  -I"C:/Users/BIOCBU~1/BBS-3~1.11-/R/include" -DNDEBUG     -I"C:/extsoft/include"     -O2 -Wall  -std=gnu99 -mfpmath=sse -msse2 -mstackrealign -c hilbert.c -o hilbert.o
"C:/rtools40/mingw32/bin/"gcc  -I"C:/Users/BIOCBU~1/BBS-3~1.11-/R/include" -DNDEBUG     -I"C:/extsoft/include"     -O2 -Wall  -std=gnu99 -mfpmath=sse -msse2 -mstackrealign -c make_wiggle_vector.c -o make_wiggle_vector.o
"C:/rtools40/mingw32/bin/"gcc  -I"C:/Users/BIOCBU~1/BBS-3~1.11-/R/include" -DNDEBUG     -I"C:/extsoft/include"     -O2 -Wall  -std=gnu99 -mfpmath=sse -msse2 -mstackrealign -c shrink_vector.c -o shrink_vector.o
C:/rtools40/mingw32/bin/gcc -shared -s -static-libgcc -o HilbertVis.dll tmp.def hilbert.o make_wiggle_vector.o shrink_vector.o -LC:/extsoft/lib/i386 -LC:/extsoft/lib -LC:/Users/BIOCBU~1/BBS-3~1.11-/R/bin/i386 -lR
installing to C:/Users/biocbuild/bbs-3.11-bioc/meat/HilbertVis.buildbin-libdir/00LOCK-HilbertVis/00new/HilbertVis/libs/i386
** R
** inst
** byte-compile and prepare package for lazy loading
** help
*** installing help indices
  converting help for package 'HilbertVis'
    finding HTML links ... done
    hilbertCurve                            html  
    hilbertImage                            html  
    makeRandomTestData                      html  
    makeWiggleVector                        html  
    plotHilbertCurve                        html  
    plotLongVector                          html  
    showHilbertImage                        html  
    shrinkVector                            html  
** building package indices
** installing vignettes
** testing if installed package can be loaded from temporary location
** testing if installed package can be loaded from final location
** testing if installed package keeps a record of temporary installation path
install for x64
* installing *source* package 'HilbertVis' ...
** libs
"C:/rtools40/mingw64/bin/"gcc  -I"C:/Users/BIOCBU~1/BBS-3~1.11-/R/include" -DNDEBUG     -I"C:/extsoft/include"     -O2 -Wall  -std=gnu99 -mfpmath=sse -msse2 -mstackrealign -c hilbert.c -o hilbert.o
"C:/rtools40/mingw64/bin/"gcc  -I"C:/Users/BIOCBU~1/BBS-3~1.11-/R/include" -DNDEBUG     -I"C:/extsoft/include"     -O2 -Wall  -std=gnu99 -mfpmath=sse -msse2 -mstackrealign -c make_wiggle_vector.c -o make_wiggle_vector.o
"C:/rtools40/mingw64/bin/"gcc  -I"C:/Users/BIOCBU~1/BBS-3~1.11-/R/include" -DNDEBUG     -I"C:/extsoft/include"     -O2 -Wall  -std=gnu99 -mfpmath=sse -msse2 -mstackrealign -c shrink_vector.c -o shrink_vector.o
C:/rtools40/mingw64/bin/gcc -shared -s -static-libgcc -o HilbertVis.dll tmp.def hilbert.o make_wiggle_vector.o shrink_vector.o -LC:/extsoft/lib/x64 -LC:/extsoft/lib -LC:/Users/BIOCBU~1/BBS-3~1.11-/R/bin/x64 -lR
installing to C:/Users/biocbuild/bbs-3.11-bioc/meat/HilbertVis.buildbin-libdir/HilbertVis/libs/x64
** testing if installed package can be loaded
* MD5 sums
packaged installation of 'HilbertVis' as HilbertVis_1.46.0.zip
* DONE (HilbertVis)