| Back to Multiple platform build/check report for BioC 3.11 |
|
This page was generated on 2020-01-16 13:44:31 -0500 (Thu, 16 Jan 2020).
| Package 772/1818 | Hostname | OS / Arch | INSTALL | BUILD | CHECK | BUILD BIN | ||||||
| HDF5Array 1.15.2 Hervé Pagès
| malbec2 | Linux (Ubuntu 18.04.3 LTS) / x86_64 | OK | OK | OK | |||||||
| tokay2 | Windows Server 2012 R2 Standard / x64 | OK | OK | WARNINGS | OK | |||||||
| celaya2 | OS X 10.11.6 El Capitan / x86_64 | [ OK ] | OK | OK | OK |
| Package: HDF5Array |
| Version: 1.15.2 |
| Command: /Library/Frameworks/R.framework/Versions/Current/Resources/bin/R CMD INSTALL HDF5Array |
| StartedAt: 2020-01-15 19:04:48 -0500 (Wed, 15 Jan 2020) |
| EndedAt: 2020-01-15 19:05:18 -0500 (Wed, 15 Jan 2020) |
| EllapsedTime: 30.0 seconds |
| RetCode: 0 |
| Status: OK |
##############################################################################
##############################################################################
###
### Running command:
###
### /Library/Frameworks/R.framework/Versions/Current/Resources/bin/R CMD INSTALL HDF5Array
###
##############################################################################
##############################################################################
* installing to library ‘/Library/Frameworks/R.framework/Versions/4.0/Resources/library’
* installing *source* package ‘HDF5Array’ ...
** using staged installation
** libs
clang -I"/Library/Frameworks/R.framework/Resources/include" -DNDEBUG -I'/Library/Frameworks/R.framework/Versions/4.0/Resources/library/S4Vectors/include' -I'/Library/Frameworks/R.framework/Versions/4.0/Resources/library/Rhdf5lib/include' -isysroot /Library/Developer/CommandLineTools/SDKs/MacOSX.sdk -I/usr/local/include -fPIC -Wall -g -O2 -c DSetHandle.c -o DSetHandle.o
clang -I"/Library/Frameworks/R.framework/Resources/include" -DNDEBUG -I'/Library/Frameworks/R.framework/Versions/4.0/Resources/library/S4Vectors/include' -I'/Library/Frameworks/R.framework/Versions/4.0/Resources/library/Rhdf5lib/include' -isysroot /Library/Developer/CommandLineTools/SDKs/MacOSX.sdk -I/usr/local/include -fPIC -Wall -g -O2 -c R_init_HDF5Array.c -o R_init_HDF5Array.o
clang -I"/Library/Frameworks/R.framework/Resources/include" -DNDEBUG -I'/Library/Frameworks/R.framework/Versions/4.0/Resources/library/S4Vectors/include' -I'/Library/Frameworks/R.framework/Versions/4.0/Resources/library/Rhdf5lib/include' -isysroot /Library/Developer/CommandLineTools/SDKs/MacOSX.sdk -I/usr/local/include -fPIC -Wall -g -O2 -c S4Vectors_stubs.c -o S4Vectors_stubs.o
clang -I"/Library/Frameworks/R.framework/Resources/include" -DNDEBUG -I'/Library/Frameworks/R.framework/Versions/4.0/Resources/library/S4Vectors/include' -I'/Library/Frameworks/R.framework/Versions/4.0/Resources/library/Rhdf5lib/include' -isysroot /Library/Developer/CommandLineTools/SDKs/MacOSX.sdk -I/usr/local/include -fPIC -Wall -g -O2 -c array_selection.c -o array_selection.o
clang -I"/Library/Frameworks/R.framework/Resources/include" -DNDEBUG -I'/Library/Frameworks/R.framework/Versions/4.0/Resources/library/S4Vectors/include' -I'/Library/Frameworks/R.framework/Versions/4.0/Resources/library/Rhdf5lib/include' -isysroot /Library/Developer/CommandLineTools/SDKs/MacOSX.sdk -I/usr/local/include -fPIC -Wall -g -O2 -c h5mread.c -o h5mread.o
h5mread.c:1303:22: warning: unused function 'select_elements_from_chunk' [-Wunused-function]
static long long int select_elements_from_chunk(const DSetHandle *dset_handle,
^
1 warning generated.
clang -dynamiclib -Wl,-headerpad_max_install_names -undefined dynamic_lookup -single_module -multiply_defined suppress -L/Library/Frameworks/R.framework/Resources/lib -L/usr/local/lib -o HDF5Array.so DSetHandle.o R_init_HDF5Array.o S4Vectors_stubs.o array_selection.o h5mread.o /Library/Frameworks/R.framework/Versions/4.0/Resources/library/Rhdf5lib/lib/libhdf5.a /Library/Frameworks/R.framework/Versions/4.0/Resources/library/Rhdf5lib/lib/libsz.a -lz -F/Library/Frameworks/R.framework/.. -framework R -Wl,-framework -Wl,CoreFoundation
installing to /Library/Frameworks/R.framework/Versions/4.0/Resources/library/00LOCK-HDF5Array/00new/HDF5Array/libs
** R
** inst
** byte-compile and prepare package for lazy loading
** help
*** installing help indices
** building package indices
** testing if installed package can be loaded from temporary location
** checking absolute paths in shared objects and dynamic libraries
** testing if installed package can be loaded from final location
** testing if installed package keeps a record of temporary installation path
* DONE (HDF5Array)