| Back to Multiple platform build/check report for BioC 3.11 |
|
This page was generated on 2020-10-17 11:56:46 -0400 (Sat, 17 Oct 2020).
| TO THE DEVELOPERS/MAINTAINERS OF THE GreyListChIP PACKAGE: Please make sure to use the following settings in order to reproduce any error or warning you see on this page. |
| Package 777/1905 | Hostname | OS / Arch | INSTALL | BUILD | CHECK | BUILD BIN | ||||||
| GreyListChIP 1.20.0 Gordon Brown
| malbec2 | Linux (Ubuntu 18.04.4 LTS) / x86_64 | OK | OK | OK | |||||||
| tokay2 | Windows Server 2012 R2 Standard / x64 | OK | OK | OK | [ OK ] | |||||||
| machv2 | macOS 10.14.6 Mojave / x86_64 | OK | OK | OK | OK |
| Package: GreyListChIP |
| Version: 1.20.0 |
| Command: rm -rf GreyListChIP.buildbin-libdir && mkdir GreyListChIP.buildbin-libdir && C:\Users\biocbuild\bbs-3.11-bioc\R\bin\R.exe CMD INSTALL --merge-multiarch --build --library=GreyListChIP.buildbin-libdir GreyListChIP_1.20.0.tar.gz |
| StartedAt: 2020-10-17 10:42:28 -0400 (Sat, 17 Oct 2020) |
| EndedAt: 2020-10-17 10:43:48 -0400 (Sat, 17 Oct 2020) |
| EllapsedTime: 80.0 seconds |
| RetCode: 0 |
| Status: OK |
| PackageFile: GreyListChIP_1.20.0.zip |
| PackageFileSize: 820.6 KiB |
##############################################################################
##############################################################################
###
### Running command:
###
### rm -rf GreyListChIP.buildbin-libdir && mkdir GreyListChIP.buildbin-libdir && C:\Users\biocbuild\bbs-3.11-bioc\R\bin\R.exe CMD INSTALL --merge-multiarch --build --library=GreyListChIP.buildbin-libdir GreyListChIP_1.20.0.tar.gz
###
##############################################################################
##############################################################################
install for i386
* installing *source* package 'GreyListChIP' ...
** using staged installation
** R
** data
** inst
** byte-compile and prepare package for lazy loading
** help
*** installing help indices
converting help for package 'GreyListChIP'
finding HTML links ... done
GreyList-class html
finding level-2 HTML links ... done
calcThreshold-methods html
ce10.blacklist html
countReads-methods html
dm3.blacklist html
getKaryotype-methods html
grch37.blacklist html
grch38.blacklist html
greyList html
greyListBS html
hg19.blacklist html
hg38.blacklist html
loadKaryotype-methods html
makeGreyList-methods html
mm10.blacklist html
mm9.blacklist html
setRegions-methods html
** building package indices
** installing vignettes
** testing if installed package can be loaded from temporary location
** testing if installed package can be loaded from final location
** testing if installed package keeps a record of temporary installation path
install for x64
* installing *source* package 'GreyListChIP' ...
** testing if installed package can be loaded
* MD5 sums
packaged installation of 'GreyListChIP' as GreyListChIP_1.20.0.zip
* DONE (GreyListChIP)