This page was generated on 2020-10-17 11:54:11 -0400 (Sat, 17 Oct 2020).
GenomicFeatures 1.40.1 Bioconductor Package Maintainer
 
| Snapshot Date: 2020-10-16 14:40:19 -0400 (Fri, 16 Oct 2020) |  
| URL: https://git.bioconductor.org/packages/GenomicFeatures |  
| Branch: RELEASE_3_11 |  
| Last Commit: ee9accf |  
| Last Changed Date: 2020-07-07 04:54:13 -0400 (Tue, 07 Jul 2020) |  
 
 | malbec2  | Linux (Ubuntu 18.04.4 LTS) / x86_64  |  OK  |  OK  |  OK  |  |   | 
| tokay2  | Windows Server 2012 R2 Standard / x64  |  OK  |  OK  |  WARNINGS  |  OK  |   | 
| machv2  | macOS 10.14.6 Mojave / x86_64  |  OK  |  OK  |  OK  |  OK  |   |