Back to Multiple platform build/check report for BioC 3.11 |
|
This page was generated on 2020-01-16 13:38:06 -0500 (Thu, 16 Jan 2020).
Package 677/1818 | Hostname | OS / Arch | INSTALL | BUILD | CHECK | BUILD BIN | ||||||
GenomicAlignments 1.23.1 Bioconductor Package Maintainer
| malbec2 | Linux (Ubuntu 18.04.3 LTS) / x86_64 | OK | OK | OK | |||||||
tokay2 | Windows Server 2012 R2 Standard / x64 | OK | OK | WARNINGS | OK | |||||||
celaya2 | OS X 10.11.6 El Capitan / x86_64 | OK | OK | OK | [ OK ] |
Package: GenomicAlignments |
Version: 1.23.1 |
Command: rm -rf GenomicAlignments.buildbin-libdir && mkdir GenomicAlignments.buildbin-libdir && /Users/biocbuild/BBS/utils/build-universal.sh GenomicAlignments_1.23.1.tar.gz /Library/Frameworks/R.framework/Versions/Current/Resources/bin/R GenomicAlignments.buildbin-libdir |
StartedAt: 2020-01-16 10:59:28 -0500 (Thu, 16 Jan 2020) |
EndedAt: 2020-01-16 11:00:23 -0500 (Thu, 16 Jan 2020) |
EllapsedTime: 54.9 seconds |
RetCode: 0 |
Status: OK |
PackageFile: GenomicAlignments_1.23.1.tgz |
PackageFileSize: 2.307 MiB |
############################################################################## ############################################################################## ### ### Running command: ### ### rm -rf GenomicAlignments.buildbin-libdir && mkdir GenomicAlignments.buildbin-libdir && /Users/biocbuild/BBS/utils/build-universal.sh GenomicAlignments_1.23.1.tar.gz /Library/Frameworks/R.framework/Versions/Current/Resources/bin/R GenomicAlignments.buildbin-libdir ### ############################################################################## ############################################################################## >>>>>>> >>>>>>> INSTALLATION WITH 'R CMD INSTALL --preclean --no-multiarch --library=GenomicAlignments.buildbin-libdir GenomicAlignments_1.23.1.tar.gz' >>>>>>> * installing *source* package ‘GenomicAlignments’ ... ** using staged installation ** libs clang -I"/Library/Frameworks/R.framework/Resources/include" -DNDEBUG -I'/Library/Frameworks/R.framework/Versions/4.0/Resources/library/S4Vectors/include' -I'/Library/Frameworks/R.framework/Versions/4.0/Resources/library/IRanges/include' -isysroot /Library/Developer/CommandLineTools/SDKs/MacOSX.sdk -I/usr/local/include -fPIC -Wall -g -O2 -c IRanges_stubs.c -o IRanges_stubs.o clang -I"/Library/Frameworks/R.framework/Resources/include" -DNDEBUG -I'/Library/Frameworks/R.framework/Versions/4.0/Resources/library/S4Vectors/include' -I'/Library/Frameworks/R.framework/Versions/4.0/Resources/library/IRanges/include' -isysroot /Library/Developer/CommandLineTools/SDKs/MacOSX.sdk -I/usr/local/include -fPIC -Wall -g -O2 -c R_init_GenomicAlignments.c -o R_init_GenomicAlignments.o clang -I"/Library/Frameworks/R.framework/Resources/include" -DNDEBUG -I'/Library/Frameworks/R.framework/Versions/4.0/Resources/library/S4Vectors/include' -I'/Library/Frameworks/R.framework/Versions/4.0/Resources/library/IRanges/include' -isysroot /Library/Developer/CommandLineTools/SDKs/MacOSX.sdk -I/usr/local/include -fPIC -Wall -g -O2 -c S4Vectors_stubs.c -o S4Vectors_stubs.o clang -I"/Library/Frameworks/R.framework/Resources/include" -DNDEBUG -I'/Library/Frameworks/R.framework/Versions/4.0/Resources/library/S4Vectors/include' -I'/Library/Frameworks/R.framework/Versions/4.0/Resources/library/IRanges/include' -isysroot /Library/Developer/CommandLineTools/SDKs/MacOSX.sdk -I/usr/local/include -fPIC -Wall -g -O2 -c cigar_utils.c -o cigar_utils.o clang -I"/Library/Frameworks/R.framework/Resources/include" -DNDEBUG -I'/Library/Frameworks/R.framework/Versions/4.0/Resources/library/S4Vectors/include' -I'/Library/Frameworks/R.framework/Versions/4.0/Resources/library/IRanges/include' -isysroot /Library/Developer/CommandLineTools/SDKs/MacOSX.sdk -I/usr/local/include -fPIC -Wall -g -O2 -c coordinate_mapping_methods.c -o coordinate_mapping_methods.o clang -I"/Library/Frameworks/R.framework/Resources/include" -DNDEBUG -I'/Library/Frameworks/R.framework/Versions/4.0/Resources/library/S4Vectors/include' -I'/Library/Frameworks/R.framework/Versions/4.0/Resources/library/IRanges/include' -isysroot /Library/Developer/CommandLineTools/SDKs/MacOSX.sdk -I/usr/local/include -fPIC -Wall -g -O2 -c encodeOverlaps_methods.c -o encodeOverlaps_methods.o clang -dynamiclib -Wl,-headerpad_max_install_names -undefined dynamic_lookup -single_module -multiply_defined suppress -L/Library/Frameworks/R.framework/Resources/lib -L/usr/local/lib -o GenomicAlignments.so IRanges_stubs.o R_init_GenomicAlignments.o S4Vectors_stubs.o cigar_utils.o coordinate_mapping_methods.o encodeOverlaps_methods.o -F/Library/Frameworks/R.framework/.. -framework R -Wl,-framework -Wl,CoreFoundation installing to /Users/biocbuild/bbs-3.11-bioc/meat/GenomicAlignments.buildbin-libdir/00LOCK-GenomicAlignments/00new/GenomicAlignments/libs ** R ** inst ** byte-compile and prepare package for lazy loading ** help *** installing help indices ** building package indices ** installing vignettes ** testing if installed package can be loaded from temporary location ** checking absolute paths in shared objects and dynamic libraries ** testing if installed package can be loaded from final location ** testing if installed package keeps a record of temporary installation path * DONE (GenomicAlignments) >>>>>>> >>>>>>> FIXING LINKS FOR GenomicAlignments.buildbin-libdir/GenomicAlignments/libs//GenomicAlignments.so >>>>>>> install_name_tool -change "/usr/local/lib/libgcc_s.1.dylib" "/Library/Frameworks/R.framework/Versions/4.0/Resources/lib/libgcc_s.1.dylib" "GenomicAlignments.buildbin-libdir/GenomicAlignments/libs//GenomicAlignments.so" install_name_tool -change "/usr/local/lib/libgfortran.3.dylib" "/Library/Frameworks/R.framework/Versions/4.0/Resources/lib/libgfortran.3.dylib" "GenomicAlignments.buildbin-libdir/GenomicAlignments/libs//GenomicAlignments.so" install_name_tool -change "/usr/local/lib/libreadline.5.2.dylib" "/Library/Frameworks/R.framework/Versions/4.0/Resources/lib/libreadline.5.2.dylib" "GenomicAlignments.buildbin-libdir/GenomicAlignments/libs//GenomicAlignments.so" install_name_tool -change "/usr/local/lib/libreadline.dylib" "/Library/Frameworks/R.framework/Versions/4.0/Resources/lib/libreadline.dylib" "GenomicAlignments.buildbin-libdir/GenomicAlignments/libs//GenomicAlignments.so" install_name_tool -change "/usr/local/lib/libquadmath.0.dylib" "/Library/Frameworks/R.framework/Versions/4.0/Resources/lib/libquadmath.0.dylib" "GenomicAlignments.buildbin-libdir/GenomicAlignments/libs//GenomicAlignments.so"