| Back to Multiple platform build/check report for BioC 3.11 |
|
This page was generated on 2020-01-16 13:38:19 -0500 (Thu, 16 Jan 2020).
| Package 674/1818 | Hostname | OS / Arch | INSTALL | BUILD | CHECK | BUILD BIN | ||||||
| GenomeInfoDb 1.23.6 Bioconductor Package Maintainer
| malbec2 | Linux (Ubuntu 18.04.3 LTS) / x86_64 | OK | OK | OK | |||||||
| tokay2 | Windows Server 2012 R2 Standard / x64 | OK | OK | WARNINGS | OK | |||||||
| celaya2 | OS X 10.11.6 El Capitan / x86_64 | OK | OK | [ OK ] | OK |
| Package: GenomeInfoDb |
| Version: 1.23.6 |
| Command: /Library/Frameworks/R.framework/Versions/Current/Resources/bin/R CMD check --install=check:GenomeInfoDb.install-out.txt --library=/Library/Frameworks/R.framework/Versions/Current/Resources/library --no-vignettes --timings GenomeInfoDb_1.23.6.tar.gz |
| StartedAt: 2020-01-16 04:48:45 -0500 (Thu, 16 Jan 2020) |
| EndedAt: 2020-01-16 04:51:52 -0500 (Thu, 16 Jan 2020) |
| EllapsedTime: 186.4 seconds |
| RetCode: 0 |
| Status: OK |
| CheckDir: GenomeInfoDb.Rcheck |
| Warnings: 0 |
##############################################################################
##############################################################################
###
### Running command:
###
### /Library/Frameworks/R.framework/Versions/Current/Resources/bin/R CMD check --install=check:GenomeInfoDb.install-out.txt --library=/Library/Frameworks/R.framework/Versions/Current/Resources/library --no-vignettes --timings GenomeInfoDb_1.23.6.tar.gz
###
##############################################################################
##############################################################################
* using log directory ‘/Users/biocbuild/bbs-3.11-bioc/meat/GenomeInfoDb.Rcheck’
* using R Under development (unstable) (2019-12-14 r77572)
* using platform: x86_64-apple-darwin15.6.0 (64-bit)
* using session charset: UTF-8
* using option ‘--no-vignettes’
* checking for file ‘GenomeInfoDb/DESCRIPTION’ ... OK
* this is package ‘GenomeInfoDb’ version ‘1.23.6’
* package encoding: UTF-8
* checking package namespace information ... OK
* checking package dependencies ... OK
* checking if this is a source package ... OK
* checking if there is a namespace ... OK
* checking for hidden files and directories ... OK
* checking for portable file names ... OK
* checking for sufficient/correct file permissions ... OK
* checking whether package ‘GenomeInfoDb’ can be installed ... OK
* checking installed package size ... OK
* checking package directory ... OK
* checking ‘build’ directory ... OK
* checking DESCRIPTION meta-information ... OK
* checking top-level files ... OK
* checking for left-over files ... OK
* checking index information ... OK
* checking package subdirectories ... OK
* checking R files for non-ASCII characters ... OK
* checking R files for syntax errors ... OK
* checking whether the package can be loaded ... OK
* checking whether the package can be loaded with stated dependencies ... OK
* checking whether the package can be unloaded cleanly ... OK
* checking whether the namespace can be loaded with stated dependencies ... OK
* checking whether the namespace can be unloaded cleanly ... OK
* checking dependencies in R code ... NOTE
Unexported object imported by a ':::' call: ‘utils:::.roman2numeric’
See the note in ?`:::` about the use of this operator.
* checking S3 generic/method consistency ... OK
* checking replacement functions ... OK
* checking foreign function calls ... OK
* checking R code for possible problems ... OK
* checking Rd files ... OK
* checking Rd metadata ... OK
* checking Rd cross-references ... OK
* checking for missing documentation entries ... OK
* checking for code/documentation mismatches ... OK
* checking Rd \usage sections ... OK
* checking Rd contents ... OK
* checking for unstated dependencies in examples ... OK
* checking sizes of PDF files under ‘inst/doc’ ... OK
* checking files in ‘vignettes’ ... OK
* checking examples ... OK
Examples with CPU (user + system) or elapsed time > 5s
user system elapsed
loadTaxonomyDb 14.178 0.454 14.650
GenomeDescription-class 12.107 0.897 13.012
seqlevels-wrappers 9.225 0.661 9.890
seqinfo 8.755 0.793 9.867
fetchExtendedChromInfoFromUCSC 2.388 0.679 6.274
* checking for unstated dependencies in ‘tests’ ... OK
* checking tests ...
Running ‘run_unitTests.R’
OK
* checking for unstated dependencies in vignettes ... OK
* checking package vignettes in ‘inst/doc’ ... OK
* checking running R code from vignettes ... SKIPPED
* checking re-building of vignette outputs ... SKIPPED
* checking PDF version of manual ... OK
* DONE
Status: 1 NOTE
See
‘/Users/biocbuild/bbs-3.11-bioc/meat/GenomeInfoDb.Rcheck/00check.log’
for details.
GenomeInfoDb.Rcheck/00install.out
############################################################################## ############################################################################## ### ### Running command: ### ### /Library/Frameworks/R.framework/Versions/Current/Resources/bin/R CMD INSTALL GenomeInfoDb ### ############################################################################## ############################################################################## * installing to library ‘/Library/Frameworks/R.framework/Versions/4.0/Resources/library’ * installing *source* package ‘GenomeInfoDb’ ... ** using staged installation ** R ** inst ** byte-compile and prepare package for lazy loading ** help *** installing help indices ** building package indices ** installing vignettes ** testing if installed package can be loaded from temporary location ** testing if installed package can be loaded from final location ** testing if installed package keeps a record of temporary installation path * DONE (GenomeInfoDb)
GenomeInfoDb.Rcheck/tests/run_unitTests.Rout
R Under development (unstable) (2019-12-14 r77572) -- "Unsuffered Consequences"
Copyright (C) 2019 The R Foundation for Statistical Computing
Platform: x86_64-apple-darwin15.6.0 (64-bit)
R is free software and comes with ABSOLUTELY NO WARRANTY.
You are welcome to redistribute it under certain conditions.
Type 'license()' or 'licence()' for distribution details.
R is a collaborative project with many contributors.
Type 'contributors()' for more information and
'citation()' on how to cite R or R packages in publications.
Type 'demo()' for some demos, 'help()' for on-line help, or
'help.start()' for an HTML browser interface to help.
Type 'q()' to quit R.
> require("GenomeInfoDb") || stop("unable to load GenomeInfoDb package")
Loading required package: GenomeInfoDb
Loading required package: BiocGenerics
Loading required package: parallel
Attaching package: 'BiocGenerics'
The following objects are masked from 'package:parallel':
clusterApply, clusterApplyLB, clusterCall, clusterEvalQ,
clusterExport, clusterMap, parApply, parCapply, parLapply,
parLapplyLB, parRapply, parSapply, parSapplyLB
The following objects are masked from 'package:stats':
IQR, mad, sd, var, xtabs
The following objects are masked from 'package:base':
Filter, Find, Map, Position, Reduce, anyDuplicated, append,
as.data.frame, basename, cbind, colnames, dirname, do.call,
duplicated, eval, evalq, get, grep, grepl, intersect, is.unsorted,
lapply, mapply, match, mget, order, paste, pmax, pmax.int, pmin,
pmin.int, rank, rbind, rownames, sapply, setdiff, sort, table,
tapply, union, unique, unsplit, which, which.max, which.min
Loading required package: S4Vectors
Loading required package: stats4
Attaching package: 'S4Vectors'
The following object is masked from 'package:base':
expand.grid
Loading required package: IRanges
[1] TRUE
> GenomeInfoDb:::.test()
RUNIT TEST PROTOCOL -- Thu Jan 16 04:51:38 2020
***********************************************
Number of test functions: 20
Number of errors: 0
Number of failures: 0
1 Test Suite :
GenomeInfoDb RUnit Tests - 20 test functions, 0 errors, 0 failures
Number of test functions: 20
Number of errors: 0
Number of failures: 0
>
> proc.time()
user system elapsed
10.097 0.847 10.890
GenomeInfoDb.Rcheck/GenomeInfoDb-Ex.timings
| name | user | system | elapsed | |
| GenomeDescription-class | 12.107 | 0.897 | 13.012 | |
| NCBI-utils | 0.291 | 0.036 | 2.152 | |
| Seqinfo-class | 0.462 | 0.064 | 0.564 | |
| UCSC-utils | 0.411 | 0.059 | 1.384 | |
| fetchExtendedChromInfoFromUCSC | 2.388 | 0.679 | 6.274 | |
| loadTaxonomyDb | 14.178 | 0.454 | 14.650 | |
| mapGenomeBuilds | 0.076 | 0.011 | 0.087 | |
| rankSeqlevels | 0.227 | 0.020 | 0.257 | |
| seqinfo | 8.755 | 0.793 | 9.867 | |
| seqlevels-wrappers | 9.225 | 0.661 | 9.890 | |
| seqlevelsStyle | 0.842 | 0.054 | 0.897 | |