| Back to Multiple platform build/check report for BioC 3.11 |
|
This page was generated on 2020-10-17 11:56:39 -0400 (Sat, 17 Oct 2020).
| TO THE DEVELOPERS/MAINTAINERS OF THE GeneRegionScan PACKAGE: Please make sure to use the following settings in order to reproduce any error or warning you see on this page. |
| Package 689/1905 | Hostname | OS / Arch | INSTALL | BUILD | CHECK | BUILD BIN | ||||||
| GeneRegionScan 1.44.0 Lasse Folkersen
| malbec2 | Linux (Ubuntu 18.04.4 LTS) / x86_64 | OK | OK | OK | |||||||
| tokay2 | Windows Server 2012 R2 Standard / x64 | OK | [ OK ] | WARNINGS | OK | |||||||
| machv2 | macOS 10.14.6 Mojave / x86_64 | OK | OK | OK | OK |
| Package: GeneRegionScan |
| Version: 1.44.0 |
| Command: chmod a+r GeneRegionScan -R && C:\Users\biocbuild\bbs-3.11-bioc\R\bin\R.exe CMD build --keep-empty-dirs --no-resave-data GeneRegionScan |
| StartedAt: 2020-10-16 21:53:12 -0400 (Fri, 16 Oct 2020) |
| EndedAt: 2020-10-16 21:54:02 -0400 (Fri, 16 Oct 2020) |
| EllapsedTime: 50.2 seconds |
| RetCode: 0 |
| Status: OK |
| PackageFile: GeneRegionScan_1.44.0.tar.gz |
| PackageFileSize: 7.438 MiB |
############################################################################## ############################################################################## ### ### Running command: ### ### chmod a+r GeneRegionScan -R && C:\Users\biocbuild\bbs-3.11-bioc\R\bin\R.exe CMD build --keep-empty-dirs --no-resave-data GeneRegionScan ### ############################################################################## ############################################################################## * checking for file 'GeneRegionScan/DESCRIPTION' ... OK * preparing 'GeneRegionScan': * checking DESCRIPTION meta-information ... OK * installing the package to build vignettes * creating vignettes ... OK * checking for LF line-endings in source and make files and shell scripts * checking for empty or unneeded directories * looking to see if a 'data/datalist' file should be added * building 'GeneRegionScan_1.44.0.tar.gz'