| Back to Multiple platform build/check report for BioC 3.11 | 
  | 
This page was generated on 2020-10-17 11:56:38 -0400 (Sat, 17 Oct 2020).
| TO THE DEVELOPERS/MAINTAINERS OF THE GeneExpressionSignature PACKAGE: Please make sure to use the following settings in order to reproduce any error or warning you see on this page. | 
| Package 678/1905 | Hostname | OS / Arch | INSTALL | BUILD | CHECK | BUILD BIN | ||||||
| GeneExpressionSignature 1.34.0 Yang Cao 
  | malbec2 | Linux (Ubuntu 18.04.4 LTS) / x86_64 | OK | OK | WARNINGS | |||||||
| tokay2 | Windows Server 2012 R2 Standard / x64 | [ OK ] | OK | WARNINGS | OK | |||||||
| machv2 | macOS 10.14.6 Mojave / x86_64 | OK | OK | WARNINGS | OK | 
| Package: GeneExpressionSignature | 
| Version: 1.34.0 | 
| Command: C:\cygwin\bin\curl.exe -O https://malbec2.bioconductor.org/BBS/3.11/bioc/src/contrib/GeneExpressionSignature_1.34.0.tar.gz && rm -rf GeneExpressionSignature.buildbin-libdir && mkdir GeneExpressionSignature.buildbin-libdir && C:\Users\biocbuild\bbs-3.11-bioc\R\bin\R.exe CMD INSTALL --merge-multiarch --build --library=GeneExpressionSignature.buildbin-libdir GeneExpressionSignature_1.34.0.tar.gz && C:\Users\biocbuild\bbs-3.11-bioc\R\bin\R.exe CMD INSTALL GeneExpressionSignature_1.34.0.zip && rm GeneExpressionSignature_1.34.0.tar.gz GeneExpressionSignature_1.34.0.zip | 
| StartedAt: 2020-10-16 17:14:53 -0400 (Fri, 16 Oct 2020) | 
| EndedAt: 2020-10-16 17:15:37 -0400 (Fri, 16 Oct 2020) | 
| EllapsedTime: 44.4 seconds | 
| RetCode: 0 | 
| Status: OK | 
##############################################################################
##############################################################################
###
### Running command:
###
###   C:\cygwin\bin\curl.exe -O https://malbec2.bioconductor.org/BBS/3.11/bioc/src/contrib/GeneExpressionSignature_1.34.0.tar.gz && rm -rf GeneExpressionSignature.buildbin-libdir && mkdir GeneExpressionSignature.buildbin-libdir && C:\Users\biocbuild\bbs-3.11-bioc\R\bin\R.exe CMD INSTALL --merge-multiarch --build --library=GeneExpressionSignature.buildbin-libdir GeneExpressionSignature_1.34.0.tar.gz && C:\Users\biocbuild\bbs-3.11-bioc\R\bin\R.exe CMD INSTALL GeneExpressionSignature_1.34.0.zip && rm GeneExpressionSignature_1.34.0.tar.gz GeneExpressionSignature_1.34.0.zip
###
##############################################################################
##############################################################################
  % Total    % Received % Xferd  Average Speed   Time    Time     Time  Current
                                 Dload  Upload   Total   Spent    Left  Speed
  0     0    0     0    0     0      0      0 --:--:-- --:--:-- --:--:--     0
100 2323k  100 2323k    0     0  29.8M      0 --:--:-- --:--:-- --:--:-- 32.8M
install for i386
* installing *source* package 'GeneExpressionSignature' ...
** using staged installation
** R
** data
** inst
** byte-compile and prepare package for lazy loading
Warning message:
Package 'KEGG.db' is deprecated and will be removed from Bioconductor
  version 3.12 
** help
*** installing help indices
  converting help for package 'GeneExpressionSignature'
    finding HTML links ... done
    GeneExpressionSignature                 html  
    RankMerging                             html  
    ScoreGSEA                               html  
    ScorePGSEA                              html  
    SignatureDistance                       html  
    exampleSet                              html  
    getRLs                                  html  
** building package indices
** installing vignettes
** testing if installed package can be loaded from temporary location
Warning: Package 'KEGG.db' is deprecated and will be removed from Bioconductor
  version 3.12
** testing if installed package can be loaded from final location
Warning: Package 'KEGG.db' is deprecated and will be removed from Bioconductor
  version 3.12
** testing if installed package keeps a record of temporary installation path
install for x64
* installing *source* package 'GeneExpressionSignature' ...
** testing if installed package can be loaded
Warning: Package 'KEGG.db' is deprecated and will be removed from Bioconductor
  version 3.12
* MD5 sums
packaged installation of 'GeneExpressionSignature' as GeneExpressionSignature_1.34.0.zip
* DONE (GeneExpressionSignature)
* installing to library 'C:/Users/biocbuild/bbs-3.11-bioc/R/library'
package 'GeneExpressionSignature' successfully unpacked and MD5 sums checked