| Back to Multiple platform build/check report for BioC 3.11 |
|
This page was generated on 2020-10-17 11:58:32 -0400 (Sat, 17 Oct 2020).
| TO THE DEVELOPERS/MAINTAINERS OF THE GeneBreak PACKAGE: Please make sure to use the following settings in order to reproduce any error or warning you see on this page. |
| Package 676/1905 | Hostname | OS / Arch | INSTALL | BUILD | CHECK | BUILD BIN | ||||||
| GeneBreak 1.18.0 Evert van den Broek
| malbec2 | Linux (Ubuntu 18.04.4 LTS) / x86_64 | OK | OK | OK | |||||||
| tokay2 | Windows Server 2012 R2 Standard / x64 | OK | OK | OK | OK | |||||||
| machv2 | macOS 10.14.6 Mojave / x86_64 | OK | OK | [ OK ] | OK |
| Package: GeneBreak |
| Version: 1.18.0 |
| Command: /Library/Frameworks/R.framework/Versions/Current/Resources/bin/R CMD check --install=check:GeneBreak.install-out.txt --library=/Library/Frameworks/R.framework/Versions/Current/Resources/library --no-vignettes --timings GeneBreak_1.18.0.tar.gz |
| StartedAt: 2020-10-17 01:24:38 -0400 (Sat, 17 Oct 2020) |
| EndedAt: 2020-10-17 01:28:48 -0400 (Sat, 17 Oct 2020) |
| EllapsedTime: 250.4 seconds |
| RetCode: 0 |
| Status: OK |
| CheckDir: GeneBreak.Rcheck |
| Warnings: 0 |
##############################################################################
##############################################################################
###
### Running command:
###
### /Library/Frameworks/R.framework/Versions/Current/Resources/bin/R CMD check --install=check:GeneBreak.install-out.txt --library=/Library/Frameworks/R.framework/Versions/Current/Resources/library --no-vignettes --timings GeneBreak_1.18.0.tar.gz
###
##############################################################################
##############################################################################
* using log directory ‘/Users/biocbuild/bbs-3.11-bioc/meat/GeneBreak.Rcheck’
* using R version 4.0.3 (2020-10-10)
* using platform: x86_64-apple-darwin17.0 (64-bit)
* using session charset: UTF-8
* using option ‘--no-vignettes’
* checking for file ‘GeneBreak/DESCRIPTION’ ... OK
* checking extension type ... Package
* this is package ‘GeneBreak’ version ‘1.18.0’
* checking package namespace information ... OK
* checking package dependencies ... OK
* checking if this is a source package ... OK
* checking if there is a namespace ... OK
* checking for hidden files and directories ... OK
* checking for portable file names ... OK
* checking for sufficient/correct file permissions ... OK
* checking whether package ‘GeneBreak’ can be installed ... OK
* checking installed package size ... OK
* checking package directory ... OK
* checking ‘build’ directory ... OK
* checking DESCRIPTION meta-information ... OK
* checking top-level files ... OK
* checking for left-over files ... OK
* checking index information ... OK
* checking package subdirectories ... OK
* checking R files for non-ASCII characters ... OK
* checking R files for syntax errors ... OK
* checking whether the package can be loaded ... OK
* checking whether the package can be loaded with stated dependencies ... OK
* checking whether the package can be unloaded cleanly ... OK
* checking whether the namespace can be loaded with stated dependencies ... OK
* checking whether the namespace can be unloaded cleanly ... OK
* checking dependencies in R code ... OK
* checking S3 generic/method consistency ... OK
* checking replacement functions ... OK
* checking foreign function calls ... OK
* checking R code for possible problems ... NOTE
.glmbreak: no visible global function definition for ‘glm’
.glmbreak: no visible global function definition for ‘predict’
addGeneAnnotation,CopyNumberBreakPoints: no visible global function
definition for ‘head’
bpStats,CopyNumberBreakPoints: no visible global function definition
for ‘sd’
bpStats,CopyNumberBreakPoints: no visible global function definition
for ‘p.adjust’
Undefined global functions or variables:
glm head p.adjust predict sd
Consider adding
importFrom("stats", "glm", "p.adjust", "predict", "sd")
importFrom("utils", "head")
to your NAMESPACE file.
* checking Rd files ... OK
* checking Rd metadata ... OK
* checking Rd cross-references ... OK
* checking for missing documentation entries ... OK
* checking for code/documentation mismatches ... OK
* checking Rd \usage sections ... OK
* checking Rd contents ... OK
* checking for unstated dependencies in examples ... OK
* checking contents of ‘data’ directory ... OK
* checking data for non-ASCII characters ... OK
* checking data for ASCII and uncompressed saves ... OK
* checking sizes of PDF files under ‘inst/doc’ ... OK
* checking files in ‘vignettes’ ... OK
* checking examples ... OK
Examples with CPU (user + system) or elapsed time > 5s
user system elapsed
CopyNumberBreakPointGenes-class 9.138 0.751 9.898
bpPlot-CopyNumberBreakPoints-method 7.690 0.571 8.368
recurrentGenes-CopyNumberBreakPointGenes-method 7.654 0.502 8.169
bpStats-CopyNumberBreakPoints-method 7.608 0.469 8.093
* checking for unstated dependencies in vignettes ... OK
* checking package vignettes in ‘inst/doc’ ... OK
* checking running R code from vignettes ... SKIPPED
* checking re-building of vignette outputs ... SKIPPED
* checking PDF version of manual ... OK
* DONE
Status: 1 NOTE
See
‘/Users/biocbuild/bbs-3.11-bioc/meat/GeneBreak.Rcheck/00check.log’
for details.
GeneBreak.Rcheck/00install.out
############################################################################## ############################################################################## ### ### Running command: ### ### /Library/Frameworks/R.framework/Versions/Current/Resources/bin/R CMD INSTALL GeneBreak ### ############################################################################## ############################################################################## * installing to library ‘/Library/Frameworks/R.framework/Versions/4.0/Resources/library’ * installing *source* package ‘GeneBreak’ ... ** using staged installation ** R ** data ** byte-compile and prepare package for lazy loading Creating a new generic function for ‘segmentData’ in package ‘GeneBreak’ ** help *** installing help indices ** building package indices ** installing vignettes ** testing if installed package can be loaded from temporary location ** testing if installed package can be loaded from final location ** testing if installed package keeps a record of temporary installation path * DONE (GeneBreak)
GeneBreak.Rcheck/GeneBreak-Ex.timings
| name | user | system | elapsed | |
| CopyNumberBreakPointGenes-class | 9.138 | 0.751 | 9.898 | |
| CopyNumberBreakPoints-class | 1.907 | 0.166 | 2.074 | |
| accessOptions-CopyNumberBreakPoints-method | 1.595 | 0.115 | 1.714 | |
| addGeneAnnotation-CopyNumberBreakPoints-method | 2.304 | 0.132 | 2.439 | |
| bpFilter-CopyNumberBreakPoints-method | 2.035 | 0.105 | 2.143 | |
| bpGenes-CopyNumberBreakPointGenes-method | 2.497 | 0.123 | 2.624 | |
| bpPlot-CopyNumberBreakPoints-method | 7.690 | 0.571 | 8.368 | |
| bpStats-CopyNumberBreakPoints-method | 7.608 | 0.469 | 8.093 | |
| breakpointData-CopyNumberBreakPoints-method | 1.890 | 1.023 | 2.973 | |
| breakpointsPerGene-CopyNumberBreakPointGenes-method | 2.907 | 0.941 | 3.881 | |
| callData-CopyNumberBreakPoints-method | 1.860 | 1.038 | 2.933 | |
| featureChromosomes-CopyNumberBreakPoints-method | 1.309 | 0.086 | 1.452 | |
| featureInfo-CopyNumberBreakPoints-method | 2.943 | 0.355 | 3.308 | |
| featuresPerGene-CopyNumberBreakPointGenes-method | 2.932 | 0.116 | 3.051 | |
| geneChromosomes-CopyNumberBreakPointGenes-method | 2.443 | 0.137 | 2.617 | |
| geneInfo-CopyNumberBreakPointGenes-method | 2.403 | 0.240 | 2.646 | |
| getBreakpoints | 1.799 | 0.103 | 1.907 | |
| namesFeatures-CopyNumberBreakPoints-method | 1.245 | 0.095 | 1.342 | |
| recurrentGenes-CopyNumberBreakPointGenes-method | 7.654 | 0.502 | 8.169 | |
| sampleNames-CopyNumberBreakPoints-method | 1.316 | 0.069 | 1.385 | |
| segmentData-CopyNumberBreakPoints-method | 1.991 | 1.000 | 3.051 | |