| Back to Multiple platform build/check report for BioC 3.11 | 
 | 
This page was generated on 2020-10-17 11:58:38 -0400 (Sat, 17 Oct 2020).
| TO THE DEVELOPERS/MAINTAINERS OF THE GRridge PACKAGE: Please make sure to use the following settings in order to reproduce any error or warning you see on this page. | 
| Package 780/1905 | Hostname | OS / Arch | INSTALL | BUILD | CHECK | BUILD BIN | ||||||
| GRridge 1.12.0 Mark A. van de Wiel 
 | malbec2 | Linux (Ubuntu 18.04.4 LTS) / x86_64 | OK | OK | WARNINGS |  | ||||||
| tokay2 | Windows Server 2012 R2 Standard / x64 | OK | OK | WARNINGS | OK |  | ||||||
| machv2 | macOS 10.14.6 Mojave / x86_64 | [ OK ] | OK | WARNINGS | OK |  | 
| Package: GRridge | 
| Version: 1.12.0 | 
| Command: /Library/Frameworks/R.framework/Versions/Current/Resources/bin/R CMD INSTALL GRridge | 
| StartedAt: 2020-10-16 16:40:51 -0400 (Fri, 16 Oct 2020) | 
| EndedAt: 2020-10-16 16:41:10 -0400 (Fri, 16 Oct 2020) | 
| EllapsedTime: 18.6 seconds | 
| RetCode: 0 | 
| Status: OK | 
############################################################################## ############################################################################## ### ### Running command: ### ### /Library/Frameworks/R.framework/Versions/Current/Resources/bin/R CMD INSTALL GRridge ### ############################################################################## ############################################################################## * installing to library ‘/Library/Frameworks/R.framework/Versions/4.0/Resources/library’ * installing *source* package ‘GRridge’ ... ** using staged installation ** R ** data ** byte-compile and prepare package for lazy loading ** help *** installing help indices ** building package indices ** installing vignettes ** testing if installed package can be loaded from temporary location ** testing if installed package can be loaded from final location ** testing if installed package keeps a record of temporary installation path * DONE (GRridge)