| Back to Multiple platform build/check report for BioC 3.11 |
|
This page was generated on 2020-10-17 11:56:44 -0400 (Sat, 17 Oct 2020).
| TO THE DEVELOPERS/MAINTAINERS OF THE GOFunction PACKAGE: Please make sure to use the following settings in order to reproduce any error or warning you see on this page. |
| Package 751/1905 | Hostname | OS / Arch | INSTALL | BUILD | CHECK | BUILD BIN | ||||||
| GOFunction 1.36.0 Jing Wang
| malbec2 | Linux (Ubuntu 18.04.4 LTS) / x86_64 | OK | ERROR | skipped | |||||||
| tokay2 | Windows Server 2012 R2 Standard / x64 | [ OK ] | ERROR | skipped | skipped | |||||||
| machv2 | macOS 10.14.6 Mojave / x86_64 | OK | ERROR | skipped | skipped |
| Package: GOFunction |
| Version: 1.36.0 |
| Command: C:\cygwin\bin\curl.exe -O https://malbec2.bioconductor.org/BBS/3.11/bioc/src/contrib/GOFunction_1.36.0.tar.gz && rm -rf GOFunction.buildbin-libdir && mkdir GOFunction.buildbin-libdir && C:\Users\biocbuild\bbs-3.11-bioc\R\bin\R.exe CMD INSTALL --merge-multiarch --build --library=GOFunction.buildbin-libdir GOFunction_1.36.0.tar.gz && C:\Users\biocbuild\bbs-3.11-bioc\R\bin\R.exe CMD INSTALL GOFunction_1.36.0.zip && rm GOFunction_1.36.0.tar.gz GOFunction_1.36.0.zip |
| StartedAt: 2020-10-16 17:58:33 -0400 (Fri, 16 Oct 2020) |
| EndedAt: 2020-10-16 17:59:00 -0400 (Fri, 16 Oct 2020) |
| EllapsedTime: 27.3 seconds |
| RetCode: 0 |
| Status: OK |
##############################################################################
##############################################################################
###
### Running command:
###
### C:\cygwin\bin\curl.exe -O https://malbec2.bioconductor.org/BBS/3.11/bioc/src/contrib/GOFunction_1.36.0.tar.gz && rm -rf GOFunction.buildbin-libdir && mkdir GOFunction.buildbin-libdir && C:\Users\biocbuild\bbs-3.11-bioc\R\bin\R.exe CMD INSTALL --merge-multiarch --build --library=GOFunction.buildbin-libdir GOFunction_1.36.0.tar.gz && C:\Users\biocbuild\bbs-3.11-bioc\R\bin\R.exe CMD INSTALL GOFunction_1.36.0.zip && rm GOFunction_1.36.0.tar.gz GOFunction_1.36.0.zip
###
##############################################################################
##############################################################################
% Total % Received % Xferd Average Speed Time Time Time Current
Dload Upload Total Spent Left Speed
0 0 0 0 0 0 0 0 --:--:-- --:--:-- --:--:-- 0
100 582k 100 582k 0 0 1834k 0 --:--:-- --:--:-- --:--:-- 1873k
install for i386
* installing *source* package 'GOFunction' ...
** using staged installation
** R
** data
** byte-compile and prepare package for lazy loading
** help
*** installing help indices
converting help for package 'GOFunction'
finding HTML links ... done
GOFunction-package html
GOFunction html
createGODAG html
enrichmentFunction html
globalRedundancy html
interestGenes html
localRedundancy html
refGenes html
showSigNodes html
** building package indices
** installing vignettes
** testing if installed package can be loaded from temporary location
** testing if installed package can be loaded from final location
** testing if installed package keeps a record of temporary installation path
install for x64
* installing *source* package 'GOFunction' ...
** testing if installed package can be loaded
* MD5 sums
packaged installation of 'GOFunction' as GOFunction_1.36.0.zip
* DONE (GOFunction)
* installing to library 'C:/Users/biocbuild/bbs-3.11-bioc/R/library'
package 'GOFunction' successfully unpacked and MD5 sums checked