| Back to Multiple platform build/check report for BioC 3.11 | 
 | 
This page was generated on 2020-10-17 11:58:37 -0400 (Sat, 17 Oct 2020).
| TO THE DEVELOPERS/MAINTAINERS OF THE GMRP PACKAGE: Please make sure to use the following settings in order to reproduce any error or warning you see on this page. | 
| Package 747/1905 | Hostname | OS / Arch | INSTALL | BUILD | CHECK | BUILD BIN | ||||||
| GMRP 1.16.0 Yuan-De Tan 
 | malbec2 | Linux (Ubuntu 18.04.4 LTS) / x86_64 | OK | OK | WARNINGS |  | ||||||
| tokay2 | Windows Server 2012 R2 Standard / x64 | OK | OK | WARNINGS | OK |  | ||||||
| machv2 | macOS 10.14.6 Mojave / x86_64 | [ OK ] | OK | WARNINGS | OK |  | 
| Package: GMRP | 
| Version: 1.16.0 | 
| Command: /Library/Frameworks/R.framework/Versions/Current/Resources/bin/R CMD INSTALL GMRP | 
| StartedAt: 2020-10-16 16:45:42 -0400 (Fri, 16 Oct 2020) | 
| EndedAt: 2020-10-16 16:46:11 -0400 (Fri, 16 Oct 2020) | 
| EllapsedTime: 29.7 seconds | 
| RetCode: 0 | 
| Status: OK | 
############################################################################## ############################################################################## ### ### Running command: ### ### /Library/Frameworks/R.framework/Versions/Current/Resources/bin/R CMD INSTALL GMRP ### ############################################################################## ############################################################################## * installing to library ‘/Library/Frameworks/R.framework/Versions/4.0/Resources/library’ * installing *source* package ‘GMRP’ ... ** using staged installation ** R ** data ** inst ** byte-compile and prepare package for lazy loading ** help *** installing help indices ** building package indices ** installing vignettes ‘GMRP.Rnw’ ** testing if installed package can be loaded from temporary location Warning: Package 'GMRP' is deprecated and will be removed from Bioconductor version 3.7 ** testing if installed package can be loaded from final location Warning: Package 'GMRP' is deprecated and will be removed from Bioconductor version 3.7 ** testing if installed package keeps a record of temporary installation path * DONE (GMRP)