| Back to Multiple platform build/check report for BioC 3.11 |
|
This page was generated on 2020-10-17 11:56:42 -0400 (Sat, 17 Oct 2020).
| TO THE DEVELOPERS/MAINTAINERS OF THE GLAD PACKAGE: Please make sure to use the following settings in order to reproduce any error or warning you see on this page. |
| Package 736/1905 | Hostname | OS / Arch | INSTALL | BUILD | CHECK | BUILD BIN | ||||||
| GLAD 2.52.0 Philippe Hupe
| malbec2 | Linux (Ubuntu 18.04.4 LTS) / x86_64 | OK | OK | OK | |||||||
| tokay2 | Windows Server 2012 R2 Standard / x64 | OK | OK | OK | [ OK ] | |||||||
| machv2 | macOS 10.14.6 Mojave / x86_64 | OK | OK | OK | OK |
| Package: GLAD |
| Version: 2.52.0 |
| Command: rm -rf GLAD.buildbin-libdir && mkdir GLAD.buildbin-libdir && C:\Users\biocbuild\bbs-3.11-bioc\R\bin\R.exe CMD INSTALL --merge-multiarch --build --library=GLAD.buildbin-libdir GLAD_2.52.0.tar.gz |
| StartedAt: 2020-10-17 10:39:50 -0400 (Sat, 17 Oct 2020) |
| EndedAt: 2020-10-17 10:40:30 -0400 (Sat, 17 Oct 2020) |
| EllapsedTime: 40.6 seconds |
| RetCode: 0 |
| Status: OK |
| PackageFile: GLAD_2.52.0.zip |
| PackageFileSize: 2.017 MiB |
##############################################################################
##############################################################################
###
### Running command:
###
### rm -rf GLAD.buildbin-libdir && mkdir GLAD.buildbin-libdir && C:\Users\biocbuild\bbs-3.11-bioc\R\bin\R.exe CMD INSTALL --merge-multiarch --build --library=GLAD.buildbin-libdir GLAD_2.52.0.tar.gz
###
##############################################################################
##############################################################################
install for i386
* installing *source* package 'GLAD' ...
** using staged installation
**********************************************
WARNING: this package has a configure script
It probably needs manual configuration
**********************************************
** libs
"C:/rtools40/mingw32/bin/"g++ -std=gnu++11 -I"C:/Users/BIOCBU~1/BBS-3~1.11-/R/include" -DNDEBUG -I/src/include -I/i386/include -I"C:/extsoft/include" -O2 -Wall -mfpmath=sse -msse2 -mstackrealign -c BkpInfo.cpp -o BkpInfo.o
"C:/rtools40/mingw32/bin/"g++ -std=gnu++11 -I"C:/Users/BIOCBU~1/BBS-3~1.11-/R/include" -DNDEBUG -I/src/include -I/i386/include -I"C:/extsoft/include" -O2 -Wall -mfpmath=sse -msse2 -mstackrealign -c HaarSeg.cpp -o HaarSeg.o
"C:/rtools40/mingw32/bin/"g++ -std=gnu++11 -I"C:/Users/BIOCBU~1/BBS-3~1.11-/R/include" -DNDEBUG -I/src/include -I/i386/include -I"C:/extsoft/include" -O2 -Wall -mfpmath=sse -msse2 -mstackrealign -c MoveBkp.cpp -o MoveBkp.o
"C:/rtools40/mingw32/bin/"g++ -std=gnu++11 -I"C:/Users/BIOCBU~1/BBS-3~1.11-/R/include" -DNDEBUG -I/src/include -I/i386/include -I"C:/extsoft/include" -O2 -Wall -mfpmath=sse -msse2 -mstackrealign -c OutliersGNL.cpp -o OutliersGNL.o
"C:/rtools40/mingw32/bin/"g++ -std=gnu++11 -I"C:/Users/BIOCBU~1/BBS-3~1.11-/R/include" -DNDEBUG -I/src/include -I/i386/include -I"C:/extsoft/include" -O2 -Wall -mfpmath=sse -msse2 -mstackrealign -c chrBreakpoints.cpp -o chrBreakpoints.o
"C:/rtools40/mingw32/bin/"g++ -std=gnu++11 -I"C:/Users/BIOCBU~1/BBS-3~1.11-/R/include" -DNDEBUG -I/src/include -I/i386/include -I"C:/extsoft/include" -O2 -Wall -mfpmath=sse -msse2 -mstackrealign -c cutree.cpp -o cutree.o
"C:/rtools40/mingw32/bin/"g++ -std=gnu++11 -I"C:/Users/BIOCBU~1/BBS-3~1.11-/R/include" -DNDEBUG -I/src/include -I/i386/include -I"C:/extsoft/include" -O2 -Wall -mfpmath=sse -msse2 -mstackrealign -c daglad.cpp -o daglad.o
"C:/rtools40/mingw32/bin/"g++ -std=gnu++11 -I"C:/Users/BIOCBU~1/BBS-3~1.11-/R/include" -DNDEBUG -I/src/include -I/i386/include -I"C:/extsoft/include" -O2 -Wall -mfpmath=sse -msse2 -mstackrealign -c distance.cpp -o distance.o
"C:/rtools40/mingw32/bin/"g++ -std=gnu++11 -I"C:/Users/BIOCBU~1/BBS-3~1.11-/R/include" -DNDEBUG -I/src/include -I/i386/include -I"C:/extsoft/include" -O2 -Wall -mfpmath=sse -msse2 -mstackrealign -c filterBkp.cpp -o filterBkp.o
"C:/rtools40/mingw32/bin/"g++ -std=gnu++11 -I"C:/Users/BIOCBU~1/BBS-3~1.11-/R/include" -DNDEBUG -I/src/include -I/i386/include -I"C:/extsoft/include" -O2 -Wall -mfpmath=sse -msse2 -mstackrealign -c findCluster.cpp -o findCluster.o
"C:/rtools40/mingw32/bin/"g++ -std=gnu++11 -I"C:/Users/BIOCBU~1/BBS-3~1.11-/R/include" -DNDEBUG -I/src/include -I/i386/include -I"C:/extsoft/include" -O2 -Wall -mfpmath=sse -msse2 -mstackrealign -c glad-utils.cpp -o glad-utils.o
"C:/rtools40/mingw32/bin/"g++ -std=gnu++11 -I"C:/Users/BIOCBU~1/BBS-3~1.11-/R/include" -DNDEBUG -I/src/include -I/i386/include -I"C:/extsoft/include" -O2 -Wall -mfpmath=sse -msse2 -mstackrealign -c hclust.cpp -o hclust.o
"C:/rtools40/mingw32/bin/"gcc -I"C:/Users/BIOCBU~1/BBS-3~1.11-/R/include" -DNDEBUG -I/src/include -I/i386/include -I"C:/extsoft/include" -O2 -Wall -std=gnu99 -mfpmath=sse -msse2 -mstackrealign -c laws.c -o laws.o
"C:/rtools40/mingw32/bin/"g++ -std=gnu++11 -I"C:/Users/BIOCBU~1/BBS-3~1.11-/R/include" -DNDEBUG -I/src/include -I/i386/include -I"C:/extsoft/include" -O2 -Wall -mfpmath=sse -msse2 -mstackrealign -c loopRemove.cpp -o loopRemove.o
C:/rtools40/mingw32/bin/g++ -std=gnu++11 -shared -s -static-libgcc -o GLAD.dll tmp.def BkpInfo.o HaarSeg.o MoveBkp.o OutliersGNL.o chrBreakpoints.o cutree.o daglad.o distance.o filterBkp.o findCluster.o glad-utils.o hclust.o laws.o loopRemove.o -L/i386/lib -lgsl -lgslcblas -lm -LC:/extsoft/lib/i386 -LC:/extsoft/lib -LC:/Users/BIOCBU~1/BBS-3~1.11-/R/bin/i386 -lR
installing to C:/Users/biocbuild/bbs-3.11-bioc/meat/GLAD.buildbin-libdir/00LOCK-GLAD/00new/GLAD/libs/i386
** R
** data
** demo
** inst
** byte-compile and prepare package for lazy loading
** help
*** installing help indices
converting help for package 'GLAD'
finding HTML links ... done
ChrNumeric html
ColorBar html
GLAD-internal html
arrayCGH html
arrayPersp html
arrayPlot html
as.data.frame.profileCGH html
as.profileCGH html
bladder html
cytoband html
daglad html
glad html
hclust html
kernel html
myPalette html
plotProfile html
profileCGH html
snijders html
veltman html
** building package indices
** installing vignettes
** testing if installed package can be loaded from temporary location
** testing if installed package can be loaded from final location
** testing if installed package keeps a record of temporary installation path
install for x64
* installing *source* package 'GLAD' ...
**********************************************
WARNING: this package has a configure script
It probably needs manual configuration
**********************************************
** libs
"C:/rtools40/mingw64/bin/"g++ -std=gnu++11 -I"C:/Users/BIOCBU~1/BBS-3~1.11-/R/include" -DNDEBUG -I/src/include -I/x64/include -I"C:/extsoft/include" -O2 -Wall -mfpmath=sse -msse2 -mstackrealign -c BkpInfo.cpp -o BkpInfo.o
"C:/rtools40/mingw64/bin/"g++ -std=gnu++11 -I"C:/Users/BIOCBU~1/BBS-3~1.11-/R/include" -DNDEBUG -I/src/include -I/x64/include -I"C:/extsoft/include" -O2 -Wall -mfpmath=sse -msse2 -mstackrealign -c HaarSeg.cpp -o HaarSeg.o
"C:/rtools40/mingw64/bin/"g++ -std=gnu++11 -I"C:/Users/BIOCBU~1/BBS-3~1.11-/R/include" -DNDEBUG -I/src/include -I/x64/include -I"C:/extsoft/include" -O2 -Wall -mfpmath=sse -msse2 -mstackrealign -c MoveBkp.cpp -o MoveBkp.o
"C:/rtools40/mingw64/bin/"g++ -std=gnu++11 -I"C:/Users/BIOCBU~1/BBS-3~1.11-/R/include" -DNDEBUG -I/src/include -I/x64/include -I"C:/extsoft/include" -O2 -Wall -mfpmath=sse -msse2 -mstackrealign -c OutliersGNL.cpp -o OutliersGNL.o
"C:/rtools40/mingw64/bin/"g++ -std=gnu++11 -I"C:/Users/BIOCBU~1/BBS-3~1.11-/R/include" -DNDEBUG -I/src/include -I/x64/include -I"C:/extsoft/include" -O2 -Wall -mfpmath=sse -msse2 -mstackrealign -c chrBreakpoints.cpp -o chrBreakpoints.o
"C:/rtools40/mingw64/bin/"g++ -std=gnu++11 -I"C:/Users/BIOCBU~1/BBS-3~1.11-/R/include" -DNDEBUG -I/src/include -I/x64/include -I"C:/extsoft/include" -O2 -Wall -mfpmath=sse -msse2 -mstackrealign -c cutree.cpp -o cutree.o
"C:/rtools40/mingw64/bin/"g++ -std=gnu++11 -I"C:/Users/BIOCBU~1/BBS-3~1.11-/R/include" -DNDEBUG -I/src/include -I/x64/include -I"C:/extsoft/include" -O2 -Wall -mfpmath=sse -msse2 -mstackrealign -c daglad.cpp -o daglad.o
"C:/rtools40/mingw64/bin/"g++ -std=gnu++11 -I"C:/Users/BIOCBU~1/BBS-3~1.11-/R/include" -DNDEBUG -I/src/include -I/x64/include -I"C:/extsoft/include" -O2 -Wall -mfpmath=sse -msse2 -mstackrealign -c distance.cpp -o distance.o
"C:/rtools40/mingw64/bin/"g++ -std=gnu++11 -I"C:/Users/BIOCBU~1/BBS-3~1.11-/R/include" -DNDEBUG -I/src/include -I/x64/include -I"C:/extsoft/include" -O2 -Wall -mfpmath=sse -msse2 -mstackrealign -c filterBkp.cpp -o filterBkp.o
"C:/rtools40/mingw64/bin/"g++ -std=gnu++11 -I"C:/Users/BIOCBU~1/BBS-3~1.11-/R/include" -DNDEBUG -I/src/include -I/x64/include -I"C:/extsoft/include" -O2 -Wall -mfpmath=sse -msse2 -mstackrealign -c findCluster.cpp -o findCluster.o
"C:/rtools40/mingw64/bin/"g++ -std=gnu++11 -I"C:/Users/BIOCBU~1/BBS-3~1.11-/R/include" -DNDEBUG -I/src/include -I/x64/include -I"C:/extsoft/include" -O2 -Wall -mfpmath=sse -msse2 -mstackrealign -c glad-utils.cpp -o glad-utils.o
"C:/rtools40/mingw64/bin/"g++ -std=gnu++11 -I"C:/Users/BIOCBU~1/BBS-3~1.11-/R/include" -DNDEBUG -I/src/include -I/x64/include -I"C:/extsoft/include" -O2 -Wall -mfpmath=sse -msse2 -mstackrealign -c hclust.cpp -o hclust.o
"C:/rtools40/mingw64/bin/"gcc -I"C:/Users/BIOCBU~1/BBS-3~1.11-/R/include" -DNDEBUG -I/src/include -I/x64/include -I"C:/extsoft/include" -O2 -Wall -std=gnu99 -mfpmath=sse -msse2 -mstackrealign -c laws.c -o laws.o
"C:/rtools40/mingw64/bin/"g++ -std=gnu++11 -I"C:/Users/BIOCBU~1/BBS-3~1.11-/R/include" -DNDEBUG -I/src/include -I/x64/include -I"C:/extsoft/include" -O2 -Wall -mfpmath=sse -msse2 -mstackrealign -c loopRemove.cpp -o loopRemove.o
C:/rtools40/mingw64/bin/g++ -std=gnu++11 -shared -s -static-libgcc -o GLAD.dll tmp.def BkpInfo.o HaarSeg.o MoveBkp.o OutliersGNL.o chrBreakpoints.o cutree.o daglad.o distance.o filterBkp.o findCluster.o glad-utils.o hclust.o laws.o loopRemove.o -L/x64/lib -lgsl -lgslcblas -lm -LC:/extsoft/lib/x64 -LC:/extsoft/lib -LC:/Users/BIOCBU~1/BBS-3~1.11-/R/bin/x64 -lR
installing to C:/Users/biocbuild/bbs-3.11-bioc/meat/GLAD.buildbin-libdir/GLAD/libs/x64
** testing if installed package can be loaded
* MD5 sums
packaged installation of 'GLAD' as GLAD_2.52.0.zip
* DONE (GLAD)