| Back to Multiple platform build/check report for BioC 3.11 | 
 | 
This page was generated on 2020-10-17 11:56:41 -0400 (Sat, 17 Oct 2020).
| TO THE DEVELOPERS/MAINTAINERS OF THE GEWIST PACKAGE: Please make sure to use the following settings in order to reproduce any error or warning you see on this page. | 
| Package 726/1905 | Hostname | OS / Arch | INSTALL | BUILD | CHECK | BUILD BIN | ||||||
| GEWIST 1.32.0 Wei Q. Deng 
 | malbec2 | Linux (Ubuntu 18.04.4 LTS) / x86_64 | OK | OK | OK |  | ||||||
| tokay2 | Windows Server 2012 R2 Standard / x64 | OK | OK | OK | [ OK ] |  | ||||||
| machv2 | macOS 10.14.6 Mojave / x86_64 | OK | OK | OK | OK |  | 
| Package: GEWIST | 
| Version: 1.32.0 | 
| Command: rm -rf GEWIST.buildbin-libdir && mkdir GEWIST.buildbin-libdir && C:\Users\biocbuild\bbs-3.11-bioc\R\bin\R.exe CMD INSTALL --merge-multiarch --build --library=GEWIST.buildbin-libdir GEWIST_1.32.0.tar.gz | 
| StartedAt: 2020-10-17 10:39:10 -0400 (Sat, 17 Oct 2020) | 
| EndedAt: 2020-10-17 10:39:30 -0400 (Sat, 17 Oct 2020) | 
| EllapsedTime: 20.1 seconds | 
| RetCode: 0 | 
| Status: OK | 
| PackageFile: GEWIST_1.32.0.zip | 
| PackageFileSize: 335.6 KiB | 
##############################################################################
##############################################################################
###
### Running command:
###
###   rm -rf GEWIST.buildbin-libdir && mkdir GEWIST.buildbin-libdir && C:\Users\biocbuild\bbs-3.11-bioc\R\bin\R.exe CMD INSTALL --merge-multiarch --build --library=GEWIST.buildbin-libdir GEWIST_1.32.0.tar.gz
###
##############################################################################
##############################################################################
install for i386
* installing *source* package 'GEWIST' ...
** using staged installation
** R
** inst
** byte-compile and prepare package for lazy loading
** help
*** installing help indices
  converting help for package 'GEWIST'
    finding HTML links ... done
    GEWIST-package                          html  
    effectPDF                               html  
    gewistLevene                            html  
** building package indices
** installing vignettes
** testing if installed package can be loaded from temporary location
** testing if installed package can be loaded from final location
** testing if installed package keeps a record of temporary installation path
install for x64
* installing *source* package 'GEWIST' ...
** testing if installed package can be loaded
* MD5 sums
packaged installation of 'GEWIST' as GEWIST_1.32.0.zip
* DONE (GEWIST)