| Back to Multiple platform build/check report for BioC 3.11 | 
  | 
This page was generated on 2020-10-17 11:56:40 -0400 (Sat, 17 Oct 2020).
| TO THE DEVELOPERS/MAINTAINERS OF THE GEOsubmission PACKAGE: Please make sure to use the following settings in order to reproduce any error or warning you see on this page. | 
| Package 723/1905 | Hostname | OS / Arch | INSTALL | BUILD | CHECK | BUILD BIN | ||||||
| GEOsubmission 1.40.0 Alexandre Kuhn 
  | malbec2 | Linux (Ubuntu 18.04.4 LTS) / x86_64 | OK | OK | OK | |||||||
| tokay2 | Windows Server 2012 R2 Standard / x64 | [ OK ] | OK | OK | OK | |||||||
| machv2 | macOS 10.14.6 Mojave / x86_64 | OK | OK | OK | OK | 
| Package: GEOsubmission | 
| Version: 1.40.0 | 
| Command: C:\cygwin\bin\curl.exe -O https://malbec2.bioconductor.org/BBS/3.11/bioc/src/contrib/GEOsubmission_1.40.0.tar.gz && rm -rf GEOsubmission.buildbin-libdir && mkdir GEOsubmission.buildbin-libdir && C:\Users\biocbuild\bbs-3.11-bioc\R\bin\R.exe CMD INSTALL --merge-multiarch --build --library=GEOsubmission.buildbin-libdir GEOsubmission_1.40.0.tar.gz && C:\Users\biocbuild\bbs-3.11-bioc\R\bin\R.exe CMD INSTALL GEOsubmission_1.40.0.zip && rm GEOsubmission_1.40.0.tar.gz GEOsubmission_1.40.0.zip | 
| StartedAt: 2020-10-16 16:53:48 -0400 (Fri, 16 Oct 2020) | 
| EndedAt: 2020-10-16 16:54:11 -0400 (Fri, 16 Oct 2020) | 
| EllapsedTime: 23.0 seconds | 
| RetCode: 0 | 
| Status: OK | 
##############################################################################
##############################################################################
###
### Running command:
###
###   C:\cygwin\bin\curl.exe -O https://malbec2.bioconductor.org/BBS/3.11/bioc/src/contrib/GEOsubmission_1.40.0.tar.gz && rm -rf GEOsubmission.buildbin-libdir && mkdir GEOsubmission.buildbin-libdir && C:\Users\biocbuild\bbs-3.11-bioc\R\bin\R.exe CMD INSTALL --merge-multiarch --build --library=GEOsubmission.buildbin-libdir GEOsubmission_1.40.0.tar.gz && C:\Users\biocbuild\bbs-3.11-bioc\R\bin\R.exe CMD INSTALL GEOsubmission_1.40.0.zip && rm GEOsubmission_1.40.0.tar.gz GEOsubmission_1.40.0.zip
###
##############################################################################
##############################################################################
  % Total    % Received % Xferd  Average Speed   Time    Time     Time  Current
                                 Dload  Upload   Total   Spent    Left  Speed
  0     0    0     0    0     0      0      0 --:--:-- --:--:-- --:--:--     0
100  8062  100  8062    0     0   130k      0 --:--:-- --:--:-- --:--:--  148k
install for i386
* installing *source* package 'GEOsubmission' ...
** using staged installation
** R
** inst
** byte-compile and prepare package for lazy loading
** help
*** installing help indices
  converting help for package 'GEOsubmission'
    finding HTML links ... done
    expresssionNormalized                   html  
    microarray2soft                         html  
    sample1                                 html  
    sample2                                 html  
    sampleInfo                              html  
    seriesInfo                              html  
** building package indices
** installing vignettes
** testing if installed package can be loaded from temporary location
** testing if installed package can be loaded from final location
** testing if installed package keeps a record of temporary installation path
install for x64
* installing *source* package 'GEOsubmission' ...
** testing if installed package can be loaded
* MD5 sums
packaged installation of 'GEOsubmission' as GEOsubmission_1.40.0.zip
* DONE (GEOsubmission)
* installing to library 'C:/Users/biocbuild/bbs-3.11-bioc/R/library'
package 'GEOsubmission' successfully unpacked and MD5 sums checked