| Back to Multiple platform build/check report for BioC 3.11 |
|
This page was generated on 2020-10-17 11:56:37 -0400 (Sat, 17 Oct 2020).
| TO THE DEVELOPERS/MAINTAINERS OF THE GCSscore PACKAGE: Please make sure to use the following settings in order to reproduce any error or warning you see on this page. |
| Package 664/1905 | Hostname | OS / Arch | INSTALL | BUILD | CHECK | BUILD BIN | ||||||
| GCSscore 1.2.0 Guy M. Harris
| malbec2 | Linux (Ubuntu 18.04.4 LTS) / x86_64 | OK | OK | OK | |||||||
| tokay2 | Windows Server 2012 R2 Standard / x64 | OK | OK | OK | [ OK ] | |||||||
| machv2 | macOS 10.14.6 Mojave / x86_64 | OK | OK | OK | OK |
| Package: GCSscore |
| Version: 1.2.0 |
| Command: rm -rf GCSscore.buildbin-libdir && mkdir GCSscore.buildbin-libdir && C:\Users\biocbuild\bbs-3.11-bioc\R\bin\R.exe CMD INSTALL --merge-multiarch --build --library=GCSscore.buildbin-libdir GCSscore_1.2.0.tar.gz |
| StartedAt: 2020-10-17 10:34:42 -0400 (Sat, 17 Oct 2020) |
| EndedAt: 2020-10-17 10:35:36 -0400 (Sat, 17 Oct 2020) |
| EllapsedTime: 54.3 seconds |
| RetCode: 0 |
| Status: OK |
| PackageFile: GCSscore_1.2.0.zip |
| PackageFileSize: 4.293 MiB |
##############################################################################
##############################################################################
###
### Running command:
###
### rm -rf GCSscore.buildbin-libdir && mkdir GCSscore.buildbin-libdir && C:\Users\biocbuild\bbs-3.11-bioc\R\bin\R.exe CMD INSTALL --merge-multiarch --build --library=GCSscore.buildbin-libdir GCSscore_1.2.0.tar.gz
###
##############################################################################
##############################################################################
install for i386
* installing *source* package 'GCSscore' ...
** using staged installation
** R
** inst
** byte-compile and prepare package for lazy loading
** help
*** installing help indices
converting help for package 'GCSscore'
finding HTML links ... done
GCSscore html
calcSF html
computeSscore html
get3primeIVTprobefileData html
getClariomSprobefileData html
getXTAprobefileData html
mismatch html
normalize html
rawScore html
zoneRQ html
** building package indices
** installing vignettes
** testing if installed package can be loaded from temporary location
** testing if installed package can be loaded from final location
** testing if installed package keeps a record of temporary installation path
install for x64
* installing *source* package 'GCSscore' ...
** testing if installed package can be loaded
* MD5 sums
packaged installation of 'GCSscore' as GCSscore_1.2.0.zip
* DONE (GCSscore)