| Back to Multiple platform build/check report for BioC 3.11 |
|
This page was generated on 2020-10-17 11:56:37 -0400 (Sat, 17 Oct 2020).
| TO THE DEVELOPERS/MAINTAINERS OF THE GAprediction PACKAGE: Please make sure to use the following settings in order to reproduce any error or warning you see on this page. |
| Package 653/1905 | Hostname | OS / Arch | INSTALL | BUILD | CHECK | BUILD BIN | ||||||
| GAprediction 1.14.0 Jon Bohlin
| malbec2 | Linux (Ubuntu 18.04.4 LTS) / x86_64 | OK | OK | OK | |||||||
| tokay2 | Windows Server 2012 R2 Standard / x64 | OK | OK | OK | [ OK ] | |||||||
| machv2 | macOS 10.14.6 Mojave / x86_64 | OK | OK | OK | OK |
| Package: GAprediction |
| Version: 1.14.0 |
| Command: rm -rf GAprediction.buildbin-libdir && mkdir GAprediction.buildbin-libdir && C:\Users\biocbuild\bbs-3.11-bioc\R\bin\R.exe CMD INSTALL --merge-multiarch --build --library=GAprediction.buildbin-libdir GAprediction_1.14.0.tar.gz |
| StartedAt: 2020-10-17 10:34:03 -0400 (Sat, 17 Oct 2020) |
| EndedAt: 2020-10-17 10:34:38 -0400 (Sat, 17 Oct 2020) |
| EllapsedTime: 35.0 seconds |
| RetCode: 0 |
| Status: OK |
| PackageFile: GAprediction_1.14.0.zip |
| PackageFileSize: 888.7 KiB |
##############################################################################
##############################################################################
###
### Running command:
###
### rm -rf GAprediction.buildbin-libdir && mkdir GAprediction.buildbin-libdir && C:\Users\biocbuild\bbs-3.11-bioc\R\bin\R.exe CMD INSTALL --merge-multiarch --build --library=GAprediction.buildbin-libdir GAprediction_1.14.0.tar.gz
###
##############################################################################
##############################################################################
install for i386
* installing *source* package 'GAprediction' ...
** using staged installation
** R
** inst
** byte-compile and prepare package for lazy loading
** help
*** installing help indices
converting help for package 'GAprediction'
finding HTML links ... done
UL.mod.cv html
extractSites html
predictGA html
** building package indices
** installing vignettes
** testing if installed package can be loaded from temporary location
** testing if installed package can be loaded from final location
** testing if installed package keeps a record of temporary installation path
install for x64
* installing *source* package 'GAprediction' ...
** testing if installed package can be loaded
* MD5 sums
packaged installation of 'GAprediction' as GAprediction_1.14.0.zip
* DONE (GAprediction)