| Back to Multiple platform build/check report for BioC 3.11 |
|
This page was generated on 2020-10-17 11:56:33 -0400 (Sat, 17 Oct 2020).
| TO THE DEVELOPERS/MAINTAINERS OF THE ExpressionAtlas PACKAGE: Please make sure to use the following settings in order to reproduce any error or warning you see on this page. |
| Package 577/1905 | Hostname | OS / Arch | INSTALL | BUILD | CHECK | BUILD BIN | ||||||
| ExpressionAtlas 1.16.0 Suhaib Mohammed
| malbec2 | Linux (Ubuntu 18.04.4 LTS) / x86_64 | OK | OK | OK | |||||||
| tokay2 | Windows Server 2012 R2 Standard / x64 | OK | OK | OK | [ OK ] | |||||||
| machv2 | macOS 10.14.6 Mojave / x86_64 | OK | OK | OK | OK |
| Package: ExpressionAtlas |
| Version: 1.16.0 |
| Command: rm -rf ExpressionAtlas.buildbin-libdir && mkdir ExpressionAtlas.buildbin-libdir && C:\Users\biocbuild\bbs-3.11-bioc\R\bin\R.exe CMD INSTALL --merge-multiarch --build --library=ExpressionAtlas.buildbin-libdir ExpressionAtlas_1.16.0.tar.gz |
| StartedAt: 2020-10-17 10:28:32 -0400 (Sat, 17 Oct 2020) |
| EndedAt: 2020-10-17 10:29:15 -0400 (Sat, 17 Oct 2020) |
| EllapsedTime: 43.4 seconds |
| RetCode: 0 |
| Status: OK |
| PackageFile: ExpressionAtlas_1.16.0.zip |
| PackageFileSize: 370.1 KiB |
##############################################################################
##############################################################################
###
### Running command:
###
### rm -rf ExpressionAtlas.buildbin-libdir && mkdir ExpressionAtlas.buildbin-libdir && C:\Users\biocbuild\bbs-3.11-bioc\R\bin\R.exe CMD INSTALL --merge-multiarch --build --library=ExpressionAtlas.buildbin-libdir ExpressionAtlas_1.16.0.tar.gz
###
##############################################################################
##############################################################################
install for i386
* installing *source* package 'ExpressionAtlas' ...
** using staged installation
** R
** data
** inst
** byte-compile and prepare package for lazy loading
** help
*** installing help indices
converting help for package 'ExpressionAtlas'
finding HTML links ... done
allExps html
atlasRes html
getAtlasData html
getAtlasExperiment html
rnaseqExps html
searchAtlasExperiments html
** building package indices
** installing vignettes
** testing if installed package can be loaded from temporary location
** testing if installed package can be loaded from final location
** testing if installed package keeps a record of temporary installation path
install for x64
* installing *source* package 'ExpressionAtlas' ...
** testing if installed package can be loaded
* MD5 sums
packaged installation of 'ExpressionAtlas' as ExpressionAtlas_1.16.0.zip
* DONE (ExpressionAtlas)