| Back to Multiple platform build/check report for BioC 3.11 |
|
This page was generated on 2020-10-17 11:56:33 -0400 (Sat, 17 Oct 2020).
| TO THE DEVELOPERS/MAINTAINERS OF THE ExiMiR PACKAGE: Please make sure to use the following settings in order to reproduce any error or warning you see on this page. |
| Package 570/1905 | Hostname | OS / Arch | INSTALL | BUILD | CHECK | BUILD BIN | ||||||
| ExiMiR 2.30.0 Sylvain Gubian
| malbec2 | Linux (Ubuntu 18.04.4 LTS) / x86_64 | OK | OK | OK | |||||||
| tokay2 | Windows Server 2012 R2 Standard / x64 | OK | OK | OK | [ OK ] | |||||||
| machv2 | macOS 10.14.6 Mojave / x86_64 | OK | OK | OK | OK |
| Package: ExiMiR |
| Version: 2.30.0 |
| Command: rm -rf ExiMiR.buildbin-libdir && mkdir ExiMiR.buildbin-libdir && C:\Users\biocbuild\bbs-3.11-bioc\R\bin\R.exe CMD INSTALL --merge-multiarch --build --library=ExiMiR.buildbin-libdir ExiMiR_2.30.0.tar.gz |
| StartedAt: 2020-10-17 10:28:07 -0400 (Sat, 17 Oct 2020) |
| EndedAt: 2020-10-17 10:28:51 -0400 (Sat, 17 Oct 2020) |
| EllapsedTime: 44.7 seconds |
| RetCode: 0 |
| Status: OK |
| PackageFile: ExiMiR_2.30.0.zip |
| PackageFileSize: 1.179 MiB |
##############################################################################
##############################################################################
###
### Running command:
###
### rm -rf ExiMiR.buildbin-libdir && mkdir ExiMiR.buildbin-libdir && C:\Users\biocbuild\bbs-3.11-bioc\R\bin\R.exe CMD INSTALL --merge-multiarch --build --library=ExiMiR.buildbin-libdir ExiMiR_2.30.0.tar.gz
###
##############################################################################
##############################################################################
install for i386
* installing *source* package 'ExiMiR' ...
** using staged installation
** R
** data
** inst
** byte-compile and prepare package for lazy loading
** help
*** installing help indices
converting help for package 'ExiMiR'
finding HTML links ... done
ExiMiR-package html
GSE19183 html
GSE20122 html
NormiR html
NormiR.methods html
ReadExi html
bg.correct.miR html
createAB html
galenv html
make.gal.env html
norm.miR html
summarize.miR html
** building package indices
** installing vignettes
** testing if installed package can be loaded from temporary location
** testing if installed package can be loaded from final location
** testing if installed package keeps a record of temporary installation path
install for x64
* installing *source* package 'ExiMiR' ...
** testing if installed package can be loaded
* MD5 sums
packaged installation of 'ExiMiR' as ExiMiR_2.30.0.zip
* DONE (ExiMiR)