| Back to Multiple platform build/check report for BioC 3.11 | 
 | 
This page was generated on 2020-10-17 11:56:30 -0400 (Sat, 17 Oct 2020).
| TO THE DEVELOPERS/MAINTAINERS OF THE EBcoexpress PACKAGE: Please make sure to use the following settings in order to reproduce any error or warning you see on this page. | 
| Package 520/1905 | Hostname | OS / Arch | INSTALL | BUILD | CHECK | BUILD BIN | ||||||
| EBcoexpress 1.32.0 John A. Dawson 
 | malbec2 | Linux (Ubuntu 18.04.4 LTS) / x86_64 | OK | OK | WARNINGS |  | ||||||
| tokay2 | Windows Server 2012 R2 Standard / x64 | OK | OK | WARNINGS | [ OK ] |  | ||||||
| machv2 | macOS 10.14.6 Mojave / x86_64 | OK | OK | OK | OK |  | 
| Package: EBcoexpress | 
| Version: 1.32.0 | 
| Command: rm -rf EBcoexpress.buildbin-libdir && mkdir EBcoexpress.buildbin-libdir && C:\Users\biocbuild\bbs-3.11-bioc\R\bin\R.exe CMD INSTALL --merge-multiarch --build --library=EBcoexpress.buildbin-libdir EBcoexpress_1.32.0.tar.gz | 
| StartedAt: 2020-10-17 10:23:45 -0400 (Sat, 17 Oct 2020) | 
| EndedAt: 2020-10-17 10:24:27 -0400 (Sat, 17 Oct 2020) | 
| EllapsedTime: 41.7 seconds | 
| RetCode: 0 | 
| Status: OK | 
| PackageFile: EBcoexpress_1.32.0.zip | 
| PackageFileSize: 833 KiB | 
##############################################################################
##############################################################################
###
### Running command:
###
###   rm -rf EBcoexpress.buildbin-libdir && mkdir EBcoexpress.buildbin-libdir && C:\Users\biocbuild\bbs-3.11-bioc\R\bin\R.exe CMD INSTALL --merge-multiarch --build --library=EBcoexpress.buildbin-libdir EBcoexpress_1.32.0.tar.gz
###
##############################################################################
##############################################################################
install for i386
* installing *source* package 'EBcoexpress' ...
** using staged installation
** libs
"C:/rtools40/mingw32/bin/"gcc  -I"C:/Users/BIOCBU~1/BBS-3~1.11-/R/include" -DNDEBUG     -I"C:/extsoft/include"     -O2 -Wall  -std=gnu99 -mfpmath=sse -msse2 -mstackrealign -c EBcoexpress.c -o EBcoexpress.o
EBcoexpress.c: In function 'bwmcCworker':
EBcoexpress.c:74:15: warning: suggest parentheses around comparison in operand of '|' [-Wparentheses]
       if(temp < -1 | temp > 1)
          ~~~~~^~~~
C:/rtools40/mingw32/bin/gcc -shared -s -static-libgcc -o EBcoexpress.dll tmp.def EBcoexpress.o -LC:/extsoft/lib/i386 -LC:/extsoft/lib -LC:/Users/BIOCBU~1/BBS-3~1.11-/R/bin/i386 -lR
installing to C:/Users/biocbuild/bbs-3.11-bioc/meat/EBcoexpress.buildbin-libdir/00LOCK-EBcoexpress/00new/EBcoexpress/libs/i386
** R
** data
** demo
** inst
** byte-compile and prepare package for lazy loading
** help
*** installing help indices
  converting help for package 'EBcoexpress'
    finding HTML links ... done
    ebCoexpressMeta                         html  
    ebCoexpressSeries                       html  
    fiftyGenes                              html  
    initializeHP                            html  
    makeMyD                                 html  
    priorDiagnostic                         html  
    rankMyGenes                             html  
    showNetwork                             html  
    showPair                                html  
    utilities                               html  
** building package indices
** installing vignettes
** testing if installed package can be loaded from temporary location
** testing if installed package can be loaded from final location
** testing if installed package keeps a record of temporary installation path
install for x64
* installing *source* package 'EBcoexpress' ...
** libs
"C:/rtools40/mingw64/bin/"gcc  -I"C:/Users/BIOCBU~1/BBS-3~1.11-/R/include" -DNDEBUG     -I"C:/extsoft/include"     -O2 -Wall  -std=gnu99 -mfpmath=sse -msse2 -mstackrealign -c EBcoexpress.c -o EBcoexpress.o
EBcoexpress.c: In function 'bwmcCworker':
EBcoexpress.c:74:15: warning: suggest parentheses around comparison in operand of '|' [-Wparentheses]
       if(temp < -1 | temp > 1)
          ~~~~~^~~~
C:/rtools40/mingw64/bin/gcc -shared -s -static-libgcc -o EBcoexpress.dll tmp.def EBcoexpress.o -LC:/extsoft/lib/x64 -LC:/extsoft/lib -LC:/Users/BIOCBU~1/BBS-3~1.11-/R/bin/x64 -lR
installing to C:/Users/biocbuild/bbs-3.11-bioc/meat/EBcoexpress.buildbin-libdir/EBcoexpress/libs/x64
** testing if installed package can be loaded
* MD5 sums
packaged installation of 'EBcoexpress' as EBcoexpress_1.32.0.zip
* DONE (EBcoexpress)