| Back to Multiple platform build/check report for BioC 3.11 |
|
This page was generated on 2020-10-17 11:56:28 -0400 (Sat, 17 Oct 2020).
| TO THE DEVELOPERS/MAINTAINERS OF THE DMRScan PACKAGE: Please make sure to use the following settings in order to reproduce any error or warning you see on this page. |
| Package 491/1905 | Hostname | OS / Arch | INSTALL | BUILD | CHECK | BUILD BIN | ||||||
| DMRScan 1.10.0 Christian M Page
| malbec2 | Linux (Ubuntu 18.04.4 LTS) / x86_64 | OK | OK | OK | |||||||
| tokay2 | Windows Server 2012 R2 Standard / x64 | OK | OK | OK | [ OK ] | |||||||
| machv2 | macOS 10.14.6 Mojave / x86_64 | OK | OK | OK | OK |
| Package: DMRScan |
| Version: 1.10.0 |
| Command: rm -rf DMRScan.buildbin-libdir && mkdir DMRScan.buildbin-libdir && C:\Users\biocbuild\bbs-3.11-bioc\R\bin\R.exe CMD INSTALL --merge-multiarch --build --library=DMRScan.buildbin-libdir DMRScan_1.10.0.tar.gz |
| StartedAt: 2020-10-17 10:21:29 -0400 (Sat, 17 Oct 2020) |
| EndedAt: 2020-10-17 10:22:03 -0400 (Sat, 17 Oct 2020) |
| EllapsedTime: 33.9 seconds |
| RetCode: 0 |
| Status: OK |
| PackageFile: DMRScan_1.10.0.zip |
| PackageFileSize: 5.096 MiB |
##############################################################################
##############################################################################
###
### Running command:
###
### rm -rf DMRScan.buildbin-libdir && mkdir DMRScan.buildbin-libdir && C:\Users\biocbuild\bbs-3.11-bioc\R\bin\R.exe CMD INSTALL --merge-multiarch --build --library=DMRScan.buildbin-libdir DMRScan_1.10.0.tar.gz
###
##############################################################################
##############################################################################
install for i386
* installing *source* package 'DMRScan' ...
** using staged installation
** R
** data
*** moving datasets to lazyload DB
** inst
** byte-compile and prepare package for lazy loading
** help
*** installing help indices
converting help for package 'DMRScan'
finding HTML links ... done
DMRScan.methylationData html
DMRScan.phenotypes html
DMRScan_package html
finding level-2 HTML links ... done
DMRScan_slidingWindow html
Rt-methods html
St-methods html
estimateThreshold html
makeCpGgenes html
makeCpGregions html
** building package indices
** installing vignettes
** testing if installed package can be loaded from temporary location
** testing if installed package can be loaded from final location
** testing if installed package keeps a record of temporary installation path
install for x64
* installing *source* package 'DMRScan' ...
** testing if installed package can be loaded
* MD5 sums
packaged installation of 'DMRScan' as DMRScan_1.10.0.zip
* DONE (DMRScan)