| Back to Multiple platform build/check report for BioC 3.11 |
|
This page was generated on 2020-01-16 13:33:36 -0500 (Thu, 16 Jan 2020).
| Package 449/1818 | Hostname | OS / Arch | INSTALL | BUILD | CHECK | BUILD BIN | ||||||
| DEXSeq 1.33.0 Alejandro Reyes
| malbec2 | Linux (Ubuntu 18.04.3 LTS) / x86_64 | OK | OK | OK | |||||||
| tokay2 | Windows Server 2012 R2 Standard / x64 | OK | OK | OK | OK | |||||||
| celaya2 | OS X 10.11.6 El Capitan / x86_64 | OK | OK | [ OK ] | OK |
| Package: DEXSeq |
| Version: 1.33.0 |
| Command: /Library/Frameworks/R.framework/Versions/Current/Resources/bin/R CMD check --install=check:DEXSeq.install-out.txt --library=/Library/Frameworks/R.framework/Versions/Current/Resources/library --no-vignettes --timings DEXSeq_1.33.0.tar.gz |
| StartedAt: 2020-01-16 03:44:30 -0500 (Thu, 16 Jan 2020) |
| EndedAt: 2020-01-16 03:51:33 -0500 (Thu, 16 Jan 2020) |
| EllapsedTime: 423.5 seconds |
| RetCode: 0 |
| Status: OK |
| CheckDir: DEXSeq.Rcheck |
| Warnings: 0 |
##############################################################################
##############################################################################
###
### Running command:
###
### /Library/Frameworks/R.framework/Versions/Current/Resources/bin/R CMD check --install=check:DEXSeq.install-out.txt --library=/Library/Frameworks/R.framework/Versions/Current/Resources/library --no-vignettes --timings DEXSeq_1.33.0.tar.gz
###
##############################################################################
##############################################################################
* using log directory ‘/Users/biocbuild/bbs-3.11-bioc/meat/DEXSeq.Rcheck’
* using R Under development (unstable) (2019-12-14 r77572)
* using platform: x86_64-apple-darwin15.6.0 (64-bit)
* using session charset: UTF-8
* using option ‘--no-vignettes’
* checking for file ‘DEXSeq/DESCRIPTION’ ... OK
* this is package ‘DEXSeq’ version ‘1.33.0’
* checking package namespace information ... OK
* checking package dependencies ... NOTE
Depends: includes the non-default packages:
'BiocParallel', 'Biobase', 'SummarizedExperiment', 'IRanges',
'GenomicRanges', 'DESeq2', 'AnnotationDbi', 'RColorBrewer',
'S4Vectors'
Adding so many packages to the search path is excessive and importing
selectively is preferable.
* checking if this is a source package ... OK
* checking if there is a namespace ... OK
* checking for hidden files and directories ... OK
* checking for portable file names ... OK
* checking for sufficient/correct file permissions ... OK
* checking whether package ‘DEXSeq’ can be installed ... OK
* checking installed package size ... OK
* checking package directory ... OK
* checking ‘build’ directory ... OK
* checking DESCRIPTION meta-information ... OK
* checking top-level files ... OK
* checking for left-over files ... OK
* checking index information ... OK
* checking package subdirectories ... OK
* checking R files for non-ASCII characters ... OK
* checking R files for syntax errors ... OK
* checking whether the package can be loaded ... OK
* checking whether the package can be loaded with stated dependencies ... OK
* checking whether the package can be unloaded cleanly ... OK
* checking whether the namespace can be loaded with stated dependencies ... OK
* checking whether the namespace can be unloaded cleanly ... OK
* checking dependencies in R code ... OK
* checking S3 generic/method consistency ... OK
* checking replacement functions ... OK
* checking foreign function calls ... OK
* checking R code for possible problems ... OK
* checking Rd files ... OK
* checking Rd metadata ... OK
* checking Rd cross-references ... OK
* checking for missing documentation entries ... OK
* checking for code/documentation mismatches ... OK
* checking Rd \usage sections ... OK
* checking Rd contents ... OK
* checking for unstated dependencies in examples ... OK
* checking files in ‘vignettes’ ... OK
* checking examples ... OK
Examples with CPU (user + system) or elapsed time > 5s
user system elapsed
DEXSeqResults 15.180 0.256 15.439
estimateExonFoldChanges 15.005 0.167 15.551
methods-gr 14.671 0.070 14.753
perGeneQValue 13.718 0.070 13.801
testForDEU 11.943 0.070 12.040
estimateDispersions 9.778 0.044 9.822
* checking for unstated dependencies in vignettes ... OK
* checking package vignettes in ‘inst/doc’ ... OK
* checking running R code from vignettes ... SKIPPED
* checking re-building of vignette outputs ... SKIPPED
* checking PDF version of manual ... OK
* DONE
Status: 1 NOTE
See
‘/Users/biocbuild/bbs-3.11-bioc/meat/DEXSeq.Rcheck/00check.log’
for details.
DEXSeq.Rcheck/00install.out
############################################################################## ############################################################################## ### ### Running command: ### ### /Library/Frameworks/R.framework/Versions/Current/Resources/bin/R CMD INSTALL DEXSeq ### ############################################################################## ############################################################################## * installing to library ‘/Library/Frameworks/R.framework/Versions/4.0/Resources/library’ * installing *source* package ‘DEXSeq’ ... ** using staged installation ** R ** inst ** byte-compile and prepare package for lazy loading ** help *** installing help indices ** building package indices ** installing vignettes ** testing if installed package can be loaded from temporary location ** testing if installed package can be loaded from final location ** testing if installed package keeps a record of temporary installation path * DONE (DEXSeq)
DEXSeq.Rcheck/DEXSeq-Ex.timings
| name | user | system | elapsed | |
| DEXSeq | 0.001 | 0.001 | 0.001 | |
| DEXSeqDataSet | 0.001 | 0.002 | 0.002 | |
| DEXSeqHTML | 0.000 | 0.000 | 0.001 | |
| DEXSeqResults | 15.180 | 0.256 | 15.439 | |
| accessors | 0.321 | 0.005 | 0.327 | |
| counts | 0.025 | 0.005 | 0.031 | |
| estimateDispersions | 9.778 | 0.044 | 9.822 | |
| estimateExonFoldChanges | 15.005 | 0.167 | 15.551 | |
| methods-gr | 14.671 | 0.070 | 14.753 | |
| perGeneQValue | 13.718 | 0.070 | 13.801 | |
| plotDEXSeq | 0 | 0 | 0 | |
| plotMA | 0.000 | 0.000 | 0.001 | |
| testForDEU | 11.943 | 0.070 | 12.040 | |