| Back to Multiple platform build/check report for BioC 3.11 |
|
This page was generated on 2020-10-17 11:56:25 -0400 (Sat, 17 Oct 2020).
| TO THE DEVELOPERS/MAINTAINERS OF THE DBChIP PACKAGE: Please make sure to use the following settings in order to reproduce any error or warning you see on this page. |
| Package 423/1905 | Hostname | OS / Arch | INSTALL | BUILD | CHECK | BUILD BIN | ||||||
| DBChIP 1.32.0 Kun Liang
| malbec2 | Linux (Ubuntu 18.04.4 LTS) / x86_64 | OK | OK | WARNINGS | |||||||
| tokay2 | Windows Server 2012 R2 Standard / x64 | OK | OK | WARNINGS | [ OK ] | |||||||
| machv2 | macOS 10.14.6 Mojave / x86_64 | OK | OK | WARNINGS | OK |
| Package: DBChIP |
| Version: 1.32.0 |
| Command: rm -rf DBChIP.buildbin-libdir && mkdir DBChIP.buildbin-libdir && C:\Users\biocbuild\bbs-3.11-bioc\R\bin\R.exe CMD INSTALL --merge-multiarch --build --library=DBChIP.buildbin-libdir DBChIP_1.32.0.tar.gz |
| StartedAt: 2020-10-17 10:16:05 -0400 (Sat, 17 Oct 2020) |
| EndedAt: 2020-10-17 10:16:44 -0400 (Sat, 17 Oct 2020) |
| EllapsedTime: 38.7 seconds |
| RetCode: 0 |
| Status: OK |
| PackageFile: DBChIP_1.32.0.zip |
| PackageFileSize: 2.028 MiB |
##############################################################################
##############################################################################
###
### Running command:
###
### rm -rf DBChIP.buildbin-libdir && mkdir DBChIP.buildbin-libdir && C:\Users\biocbuild\bbs-3.11-bioc\R\bin\R.exe CMD INSTALL --merge-multiarch --build --library=DBChIP.buildbin-libdir DBChIP_1.32.0.tar.gz
###
##############################################################################
##############################################################################
install for i386
* installing *source* package 'DBChIP' ...
** using staged installation
** R
** data
** inst
** byte-compile and prepare package for lazy loading
Warning message:
Package 'DESeq' is deprecated and will be removed from Bioconductor
version 3.13. Please use DESeq2
** help
*** installing help indices
converting help for package 'DBChIP'
finding HTML links ... done
DBChIP-package html
DBChIP html
PHA4 html
binding.site.list html
chip.data.list html
conds html
get.site.count html
input.data.list html
load.data html
plotPeak html
read.binding.site.list html
report.peak html
site.merge html
test.diff.binding html
** building package indices
** installing vignettes
** testing if installed package can be loaded from temporary location
Warning: Package 'DESeq' is deprecated and will be removed from Bioconductor
version 3.13. Please use DESeq2
** testing if installed package can be loaded from final location
Warning: Package 'DESeq' is deprecated and will be removed from Bioconductor
version 3.13. Please use DESeq2
** testing if installed package keeps a record of temporary installation path
install for x64
* installing *source* package 'DBChIP' ...
** testing if installed package can be loaded
Warning: Package 'DESeq' is deprecated and will be removed from Bioconductor
version 3.13. Please use DESeq2
* MD5 sums
packaged installation of 'DBChIP' as DBChIP_1.32.0.zip
* DONE (DBChIP)