| Back to Multiple platform build/check report for BioC 3.11 |
|
This page was generated on 2020-10-17 11:56:24 -0400 (Sat, 17 Oct 2020).
| TO THE DEVELOPERS/MAINTAINERS OF THE DAPAR PACKAGE: Please make sure to use the following settings in order to reproduce any error or warning you see on this page. |
| Package 421/1905 | Hostname | OS / Arch | INSTALL | BUILD | CHECK | BUILD BIN | ||||||
| DAPAR 1.20.3 Samuel Wieczorek
| malbec2 | Linux (Ubuntu 18.04.4 LTS) / x86_64 | OK | OK | OK | |||||||
| tokay2 | Windows Server 2012 R2 Standard / x64 | OK | OK | OK | [ OK ] | |||||||
| machv2 | macOS 10.14.6 Mojave / x86_64 | OK | OK | OK | OK |
| Package: DAPAR |
| Version: 1.20.3 |
| Command: rm -rf DAPAR.buildbin-libdir && mkdir DAPAR.buildbin-libdir && C:\Users\biocbuild\bbs-3.11-bioc\R\bin\R.exe CMD INSTALL --merge-multiarch --build --library=DAPAR.buildbin-libdir DAPAR_1.20.3.tar.gz |
| StartedAt: 2020-10-17 10:15:56 -0400 (Sat, 17 Oct 2020) |
| EndedAt: 2020-10-17 10:17:32 -0400 (Sat, 17 Oct 2020) |
| EllapsedTime: 96.0 seconds |
| RetCode: 0 |
| Status: OK |
| PackageFile: DAPAR_1.20.3.zip |
| PackageFileSize: 2.259 MiB |
##############################################################################
##############################################################################
###
### Running command:
###
### rm -rf DAPAR.buildbin-libdir && mkdir DAPAR.buildbin-libdir && C:\Users\biocbuild\bbs-3.11-bioc\R\bin\R.exe CMD INSTALL --merge-multiarch --build --library=DAPAR.buildbin-libdir DAPAR_1.20.3.tar.gz
###
##############################################################################
##############################################################################
install for i386
* installing *source* package 'DAPAR' ...
** using staged installation
** R
** inst
** byte-compile and prepare package for lazy loading
** help
*** installing help indices
converting help for package 'DAPAR'
finding HTML links ... done
BuildAdjacencyMatrix html
BuildColumnToProteinDataset html
BuildColumnToProteinDataset_par html
CVDistD html
CVDistD_HC html
CountPep html
GOAnalysisSave html
finding level-2 HTML links ... done
GetDetailedNbPeptides html
GetDetailedNbPeptidesUsed html
GetNbPeptidesUsed html
Get_AllComparisons html
GraphPepProt html
LH0 html
LH0.lm html
LH1 html
LH1.lm html
NumericalFiltering html
NumericalgetIndicesOfLinesToRemove html
StringBasedFiltering html
StringBasedFiltering2 html
addOriginOfValue html
aggregateIter html
aggregateIterParallel html
aggregateMean html
aggregateSum html
aggregateTopn html
barplotEnrichGO_HC html
barplotGroupGO_HC html
boxPlotD html
boxPlotD_HC html
buildGraph html
check.conditions html
check.design html
compareNormalizationD html
compareNormalizationD_HC html
compute.t.tests html
corrMatrixD html
corrMatrixD_HC html
createMSnset html
deleteLinesFromIndices html
densityPlotD html
densityPlotD_HC html
diffAnaComputeFDR html
diffAnaGetSignificant html
diffAnaSave html
diffAnaVolcanoplot html
diffAnaVolcanoplot_rCharts html
display.CC.visNet html
enrich_GO html
finalizeAggregation html
findMECBlock html
formatLimmaResult html
fudge2LRT html
get.pep.prot.cc html
getIndicesConditions html
getIndicesOfLinesToRemove html
getListNbValuesInLines html
getNumberOf html
getNumberOfEmptyLines html
getPourcentageOfMV html
getProcessingInfo html
getProteinsStats html
getQuantile4Imp html
getTextForAggregation html
getTextForAnaDiff html
getTextForFiltering html
getTextForGOAnalysis html
getTextForHypothesisTest html
getTextForNewDataset html
getTextForNormalization html
getTextForpeptideImputation html
getTextForproteinImputation html
group_GO html
hc_logFC_DensityPlot html
hc_mvTypePlot2 html
heatmap.DAPAR html
heatmapD html
histPValue_HC html
impute.detQuant html
impute.pa2 html
inner.aggregate.iter html
inner.aggregate.topn html
inner.mean html
inner.sum html
is.MV html
is.OfType html
limmaCompleteTest html
listSheets html
make.contrast html
make.design.1 html
make.design.2 html
make.design.3 html
make.design html
mvFilter html
mvFilterFromIndices html
mvFilterGetIndices html
mvHisto html
mvHisto_HC html
mvImage html
mvPerLinesHisto html
mvPerLinesHistoPerCondition html
mvPerLinesHistoPerCondition_HC html
mvPerLinesHisto_HC html
my_hc_ExportMenu html
my_hc_chart html
nonzero html
pepa.test html
plotJitter html
plotJitter_rCharts html
plotPCA_Eigen html
plotPCA_Eigen_hc html
plotPCA_Ind html
plotPCA_Var html
proportionConRev_HC html
rbindMSnset html
reIntroduceMEC html
readExcel html
removeLines html
samLRT html
saveParameters html
scatterplotEnrichGO_HC html
setMEC html
splitAdjacencyMat html
test.design html
translatedRandomBeta html
univ_AnnotDbPkg html
violinPlotD html
wrapper.CVDistD html
wrapper.CVDistD_HC html
wrapper.compareNormalizationD html
wrapper.compareNormalizationD_HC html
wrapper.corrMatrixD html
wrapper.corrMatrixD_HC html
wrapper.dapar.impute.mi html
wrapper.hc_mvTypePlot2 html
wrapper.heatmapD html
wrapper.impute.KNN html
wrapper.impute.detQuant html
wrapper.impute.fixedValue html
wrapper.impute.mle html
wrapper.impute.pa html
wrapper.impute.pa2 html
wrapper.impute.slsa html
wrapper.mvHisto html
wrapper.mvHisto_HC html
wrapper.mvImage html
wrapper.mvPerLinesHisto html
wrapper.mvPerLinesHistoPerCondition html
wrapper.mvPerLinesHistoPerCondition_HC
html
wrapper.mvPerLinesHisto_HC html
wrapper.normalizeD html
wrapper.pca html
wrapper.t_test_Complete html
wrapperCalibrationPlot html
writeMSnsetToCSV html
writeMSnsetToExcel html
** building package indices
** installing vignettes
** testing if installed package can be loaded from temporary location
** testing if installed package can be loaded from final location
** testing if installed package keeps a record of temporary installation path
install for x64
* installing *source* package 'DAPAR' ...
** testing if installed package can be loaded
* MD5 sums
packaged installation of 'DAPAR' as DAPAR_1.20.3.zip
* DONE (DAPAR)