| Back to Multiple platform build/check report for BioC 3.11 |
|
This page was generated on 2020-10-17 11:58:17 -0400 (Sat, 17 Oct 2020).
| TO THE DEVELOPERS/MAINTAINERS OF THE ComplexHeatmap PACKAGE: Please make sure to use the following settings in order to reproduce any error or warning you see on this page. |
| Package 359/1905 | Hostname | OS / Arch | INSTALL | BUILD | CHECK | BUILD BIN | ||||||
| ComplexHeatmap 2.4.3 Zuguang Gu
| malbec2 | Linux (Ubuntu 18.04.4 LTS) / x86_64 | OK | OK | OK | |||||||
| tokay2 | Windows Server 2012 R2 Standard / x64 | OK | OK | OK | OK | |||||||
| machv2 | macOS 10.14.6 Mojave / x86_64 | OK | [ OK ] | OK | OK |
| Package: ComplexHeatmap |
| Version: 2.4.3 |
| Command: /Library/Frameworks/R.framework/Versions/Current/Resources/bin/R CMD build --keep-empty-dirs --no-resave-data ComplexHeatmap |
| StartedAt: 2020-10-16 18:26:40 -0400 (Fri, 16 Oct 2020) |
| EndedAt: 2020-10-16 18:27:16 -0400 (Fri, 16 Oct 2020) |
| EllapsedTime: 36.0 seconds |
| RetCode: 0 |
| Status: OK |
| PackageFile: ComplexHeatmap_2.4.3.tar.gz |
| PackageFileSize: 1.302 MiB |
############################################################################## ############################################################################## ### ### Running command: ### ### /Library/Frameworks/R.framework/Versions/Current/Resources/bin/R CMD build --keep-empty-dirs --no-resave-data ComplexHeatmap ### ############################################################################## ############################################################################## * checking for file ‘ComplexHeatmap/DESCRIPTION’ ... OK * preparing ‘ComplexHeatmap’: * checking DESCRIPTION meta-information ... OK * installing the package to build vignettes * creating vignettes ... OK * checking for LF line-endings in source and make files and shell scripts * checking for empty or unneeded directories * building ‘ComplexHeatmap_2.4.3.tar.gz’