| Back to Multiple platform build/check report for BioC 3.11 |
|
This page was generated on 2020-10-17 11:56:21 -0400 (Sat, 17 Oct 2020).
| TO THE DEVELOPERS/MAINTAINERS OF THE CoCiteStats PACKAGE: Please make sure to use the following settings in order to reproduce any error or warning you see on this page. |
| Package 342/1905 | Hostname | OS / Arch | INSTALL | BUILD | CHECK | BUILD BIN | ||||||
| CoCiteStats 1.60.0 Bioconductor Package Maintainer
| malbec2 | Linux (Ubuntu 18.04.4 LTS) / x86_64 | OK | OK | OK | |||||||
| tokay2 | Windows Server 2012 R2 Standard / x64 | OK | [ OK ] | OK | OK | |||||||
| machv2 | macOS 10.14.6 Mojave / x86_64 | OK | OK | OK | OK |
| Package: CoCiteStats |
| Version: 1.60.0 |
| Command: chmod a+r CoCiteStats -R && C:\Users\biocbuild\bbs-3.11-bioc\R\bin\R.exe CMD build --keep-empty-dirs --no-resave-data CoCiteStats |
| StartedAt: 2020-10-16 20:49:21 -0400 (Fri, 16 Oct 2020) |
| EndedAt: 2020-10-16 20:49:40 -0400 (Fri, 16 Oct 2020) |
| EllapsedTime: 19.3 seconds |
| RetCode: 0 |
| Status: OK |
| PackageFile: CoCiteStats_1.60.0.tar.gz |
| PackageFileSize: 5.334 KiB |
############################################################################## ############################################################################## ### ### Running command: ### ### chmod a+r CoCiteStats -R && C:\Users\biocbuild\bbs-3.11-bioc\R\bin\R.exe CMD build --keep-empty-dirs --no-resave-data CoCiteStats ### ############################################################################## ############################################################################## * checking for file 'CoCiteStats/DESCRIPTION' ... OK * preparing 'CoCiteStats': * checking DESCRIPTION meta-information ... OK * checking for LF line-endings in source and make files and shell scripts * checking for empty or unneeded directories * building 'CoCiteStats_1.60.0.tar.gz'