| Back to Multiple platform build/check report for BioC 3.11 |
|
This page was generated on 2020-10-17 11:56:18 -0400 (Sat, 17 Oct 2020).
| TO THE DEVELOPERS/MAINTAINERS OF THE Clonality PACKAGE: Please make sure to use the following settings in order to reproduce any error or warning you see on this page. |
| Package 311/1905 | Hostname | OS / Arch | INSTALL | BUILD | CHECK | BUILD BIN | ||||||
| Clonality 1.36.0 Irina Ostrovnaya
| malbec2 | Linux (Ubuntu 18.04.4 LTS) / x86_64 | OK | OK | OK | |||||||
| tokay2 | Windows Server 2012 R2 Standard / x64 | OK | OK | OK | [ OK ] | |||||||
| machv2 | macOS 10.14.6 Mojave / x86_64 | OK | OK | OK | OK |
| Package: Clonality |
| Version: 1.36.0 |
| Command: rm -rf Clonality.buildbin-libdir && mkdir Clonality.buildbin-libdir && C:\Users\biocbuild\bbs-3.11-bioc\R\bin\R.exe CMD INSTALL --merge-multiarch --build --library=Clonality.buildbin-libdir Clonality_1.36.0.tar.gz |
| StartedAt: 2020-10-17 10:07:41 -0400 (Sat, 17 Oct 2020) |
| EndedAt: 2020-10-17 10:08:07 -0400 (Sat, 17 Oct 2020) |
| EllapsedTime: 26.7 seconds |
| RetCode: 0 |
| Status: OK |
| PackageFile: Clonality_1.36.0.zip |
| PackageFileSize: 2.659 MiB |
##############################################################################
##############################################################################
###
### Running command:
###
### rm -rf Clonality.buildbin-libdir && mkdir Clonality.buildbin-libdir && C:\Users\biocbuild\bbs-3.11-bioc\R\bin\R.exe CMD INSTALL --merge-multiarch --build --library=Clonality.buildbin-libdir Clonality_1.36.0.tar.gz
###
##############################################################################
##############################################################################
install for i386
* installing *source* package 'Clonality' ...
** using staged installation
** R
** data
** inst
** byte-compile and prepare package for lazy loading
** help
*** installing help indices
converting help for package 'Clonality'
finding HTML links ... done
Clonality-internal html
Clonality-package html
ECMtesting html
LOHclonality html
LRtesting3or4tumors html
SNVtest html
SNVtest2 html
ave.adj.probes html
chromosomePlots html
clonEM html
clonality.analysis html
create.mutation.matrix html
freqdata html
genomewidePlots html
get.mutation.frequencies html
grid.lik html
histogramPlot html
lcis html
model.lik html
mutation.proba html
mutation.rem html
print.mutation.proba html
print.mutation.rem html
splitChromosomes html
xidens html
** building package indices
** installing vignettes
** testing if installed package can be loaded from temporary location
** testing if installed package can be loaded from final location
** testing if installed package keeps a record of temporary installation path
install for x64
* installing *source* package 'Clonality' ...
** testing if installed package can be loaded
* MD5 sums
packaged installation of 'Clonality' as Clonality_1.36.0.zip
* DONE (Clonality)