| Back to Multiple platform build/check report for BioC 3.11 |
|
This page was generated on 2020-10-17 11:58:11 -0400 (Sat, 17 Oct 2020).
| TO THE DEVELOPERS/MAINTAINERS OF THE Chicago PACKAGE: Please make sure to use the following settings in order to reproduce any error or warning you see on this page. |
| Package 275/1905 | Hostname | OS / Arch | INSTALL | BUILD | CHECK | BUILD BIN | ||||||
| Chicago 1.16.1 Mikhail Spivakov
| malbec2 | Linux (Ubuntu 18.04.4 LTS) / x86_64 | OK | OK | OK | |||||||
| tokay2 | Windows Server 2012 R2 Standard / x64 | OK | OK | OK | OK | |||||||
| machv2 | macOS 10.14.6 Mojave / x86_64 | OK | OK | [ OK ] | OK |
| Package: Chicago |
| Version: 1.16.1 |
| Command: /Library/Frameworks/R.framework/Versions/Current/Resources/bin/R CMD check --install=check:Chicago.install-out.txt --library=/Library/Frameworks/R.framework/Versions/Current/Resources/library --no-vignettes --timings Chicago_1.16.1.tar.gz |
| StartedAt: 2020-10-16 23:34:05 -0400 (Fri, 16 Oct 2020) |
| EndedAt: 2020-10-16 23:37:01 -0400 (Fri, 16 Oct 2020) |
| EllapsedTime: 175.5 seconds |
| RetCode: 0 |
| Status: OK |
| CheckDir: Chicago.Rcheck |
| Warnings: 0 |
##############################################################################
##############################################################################
###
### Running command:
###
### /Library/Frameworks/R.framework/Versions/Current/Resources/bin/R CMD check --install=check:Chicago.install-out.txt --library=/Library/Frameworks/R.framework/Versions/Current/Resources/library --no-vignettes --timings Chicago_1.16.1.tar.gz
###
##############################################################################
##############################################################################
* using log directory ‘/Users/biocbuild/bbs-3.11-bioc/meat/Chicago.Rcheck’
* using R version 4.0.3 (2020-10-10)
* using platform: x86_64-apple-darwin17.0 (64-bit)
* using session charset: UTF-8
* using option ‘--no-vignettes’
* checking for file ‘Chicago/DESCRIPTION’ ... OK
* checking extension type ... Package
* this is package ‘Chicago’ version ‘1.16.1’
* checking package namespace information ... OK
* checking package dependencies ... OK
* checking if this is a source package ... OK
* checking if there is a namespace ... OK
* checking for hidden files and directories ... OK
* checking for portable file names ... OK
* checking for sufficient/correct file permissions ... OK
* checking whether package ‘Chicago’ can be installed ... OK
* checking installed package size ... OK
* checking package directory ... OK
* checking ‘build’ directory ... OK
* checking DESCRIPTION meta-information ... OK
* checking top-level files ... OK
* checking for left-over files ... OK
* checking index information ... OK
* checking package subdirectories ... OK
* checking R files for non-ASCII characters ... OK
* checking R files for syntax errors ... OK
* checking whether the package can be loaded ... OK
* checking whether the package can be loaded with stated dependencies ... OK
* checking whether the package can be unloaded cleanly ... OK
* checking whether the namespace can be loaded with stated dependencies ... OK
* checking whether the namespace can be unloaded cleanly ... OK
* checking dependencies in R code ... OK
* checking S3 generic/method consistency ... OK
* checking replacement functions ... OK
* checking foreign function calls ... OK
* checking R code for possible problems ... OK
* checking Rd files ... OK
* checking Rd metadata ... OK
* checking Rd cross-references ... OK
* checking for missing documentation entries ... OK
* checking for code/documentation mismatches ... OK
* checking Rd \usage sections ... OK
* checking Rd contents ... OK
* checking for unstated dependencies in examples ... OK
* checking contents of ‘data’ directory ... OK
* checking data for non-ASCII characters ... OK
* checking data for ASCII and uncompressed saves ... OK
* checking files in ‘vignettes’ ... OK
* checking examples ... OK
Examples with CPU (user + system) or elapsed time > 5s
user system elapsed
exportResults 20.118 0.597 23.486
normaliseOtherEnds 16.097 2.035 18.177
* checking for unstated dependencies in ‘tests’ ... OK
* checking tests ...
Running ‘testthat.R’
OK
* checking for unstated dependencies in vignettes ... OK
* checking package vignettes in ‘inst/doc’ ... OK
* checking running R code from vignettes ... SKIPPED
* checking re-building of vignette outputs ... SKIPPED
* checking PDF version of manual ... OK
* DONE
Status: OK
Chicago.Rcheck/00install.out
############################################################################## ############################################################################## ### ### Running command: ### ### /Library/Frameworks/R.framework/Versions/Current/Resources/bin/R CMD INSTALL Chicago ### ############################################################################## ############################################################################## * installing to library ‘/Library/Frameworks/R.framework/Versions/4.0/Resources/library’ * installing *source* package ‘Chicago’ ... ** using staged installation ** R ** data ** inst ** byte-compile and prepare package for lazy loading ** help *** installing help indices ** building package indices ** installing vignettes ** testing if installed package can be loaded from temporary location ** testing if installed package can be loaded from final location ** testing if installed package keeps a record of temporary installation path * DONE (Chicago)
Chicago.Rcheck/tests/testthat.Rout
R version 4.0.3 (2020-10-10) -- "Bunny-Wunnies Freak Out"
Copyright (C) 2020 The R Foundation for Statistical Computing
Platform: x86_64-apple-darwin17.0 (64-bit)
R is free software and comes with ABSOLUTELY NO WARRANTY.
You are welcome to redistribute it under certain conditions.
Type 'license()' or 'licence()' for distribution details.
R is a collaborative project with many contributors.
Type 'contributors()' for more information and
'citation()' on how to cite R or R packages in publications.
Type 'demo()' for some demos, 'help()' for on-line help, or
'help.start()' for an HTML browser interface to help.
Type 'q()' to quit R.
> library(testthat)
> library(Chicago)
Loading required package: data.table
Welcome to CHiCAGO - version 1.16.1
If you are new to CHiCAGO, please consider reading the vignette through the command: vignette("Chicago").
NOTE: Default values of tlb.minProxOEPerBin and tlb.minProxB2BPerBin changed as of Version 1.1.5. No action is required unless you specified non-default values, or wish to re-run the pipeline on old chicagoData objects. See news(package="Chicago")
>
> test_check("Chicago")
Read 4 items
Read 4 items
Read 4 items
══ testthat results ═══════════════════════════════════════════════════════════
[ OK: 11 | SKIPPED: 0 | WARNINGS: 0 | FAILED: 0 ]
>
> proc.time()
user system elapsed
5.213 0.338 5.535
Chicago.Rcheck/Chicago-Ex.timings
| name | user | system | elapsed | |
| cdUnitTest | 0.060 | 0.008 | 0.069 | |
| chicagoData | 0.001 | 0.000 | 0.001 | |
| chicagoPipeline | 0.038 | 0.004 | 0.043 | |
| copyCD | 0.009 | 0.002 | 0.011 | |
| defaultSettings | 0.001 | 0.002 | 0.003 | |
| estimateBrownianComponent | 0.181 | 0.015 | 0.197 | |
| estimateDistFun | 0.032 | 0.005 | 0.037 | |
| estimateTechnicalNoise | 0.075 | 0.006 | 0.082 | |
| exportResults | 20.118 | 0.597 | 23.486 | |
| getPvals | 0.058 | 0.002 | 0.060 | |
| getScores | 0.042 | 0.004 | 0.045 | |
| getSkOnly | 0.105 | 0.007 | 0.113 | |
| mergeSamples | 0.119 | 0.009 | 0.129 | |
| modifySettings | 0.018 | 0.002 | 0.020 | |
| normaliseBaits | 0.115 | 0.008 | 0.123 | |
| normaliseOtherEnds | 16.097 | 2.035 | 18.177 | |
| overlapFragWithFeatures | 0.083 | 0.006 | 0.091 | |
| peakEnrichment4Features | 1.571 | 0.126 | 1.698 | |
| plotBaits | 0.208 | 0.013 | 0.222 | |
| plotDistFun | 0.066 | 0.003 | 0.070 | |
| readAndMerge | 0.118 | 0.007 | 0.125 | |
| readSample | 0.038 | 0.004 | 0.041 | |
| setExperiment | 0.012 | 0.001 | 0.013 | |