Back to Multiple platform build/check report for BioC 3.11 |
|
This page was generated on 2020-01-16 13:43:52 -0500 (Thu, 16 Jan 2020).
Package 267/1818 | Hostname | OS / Arch | INSTALL | BUILD | CHECK | BUILD BIN | ||||||
Chicago 1.15.0 Mikhail Spivakov
| malbec2 | Linux (Ubuntu 18.04.3 LTS) / x86_64 | OK | OK | OK | |||||||
tokay2 | Windows Server 2012 R2 Standard / x64 | OK | OK | OK | OK | |||||||
celaya2 | OS X 10.11.6 El Capitan / x86_64 | OK | OK | [ OK ] | OK |
Package: Chicago |
Version: 1.15.0 |
Command: /Library/Frameworks/R.framework/Versions/Current/Resources/bin/R CMD check --install=check:Chicago.install-out.txt --library=/Library/Frameworks/R.framework/Versions/Current/Resources/library --no-vignettes --timings Chicago_1.15.0.tar.gz |
StartedAt: 2020-01-16 02:42:30 -0500 (Thu, 16 Jan 2020) |
EndedAt: 2020-01-16 02:45:56 -0500 (Thu, 16 Jan 2020) |
EllapsedTime: 205.5 seconds |
RetCode: 0 |
Status: OK |
CheckDir: Chicago.Rcheck |
Warnings: 0 |
############################################################################## ############################################################################## ### ### Running command: ### ### /Library/Frameworks/R.framework/Versions/Current/Resources/bin/R CMD check --install=check:Chicago.install-out.txt --library=/Library/Frameworks/R.framework/Versions/Current/Resources/library --no-vignettes --timings Chicago_1.15.0.tar.gz ### ############################################################################## ############################################################################## * using log directory ‘/Users/biocbuild/bbs-3.11-bioc/meat/Chicago.Rcheck’ * using R Under development (unstable) (2019-12-14 r77572) * using platform: x86_64-apple-darwin15.6.0 (64-bit) * using session charset: UTF-8 * using option ‘--no-vignettes’ * checking for file ‘Chicago/DESCRIPTION’ ... OK * checking extension type ... Package * this is package ‘Chicago’ version ‘1.15.0’ * checking package namespace information ... OK * checking package dependencies ... OK * checking if this is a source package ... OK * checking if there is a namespace ... OK * checking for hidden files and directories ... OK * checking for portable file names ... OK * checking for sufficient/correct file permissions ... OK * checking whether package ‘Chicago’ can be installed ... OK * checking installed package size ... OK * checking package directory ... OK * checking ‘build’ directory ... OK * checking DESCRIPTION meta-information ... OK * checking top-level files ... OK * checking for left-over files ... OK * checking index information ... OK * checking package subdirectories ... OK * checking R files for non-ASCII characters ... OK * checking R files for syntax errors ... OK * checking whether the package can be loaded ... OK * checking whether the package can be loaded with stated dependencies ... OK * checking whether the package can be unloaded cleanly ... OK * checking whether the namespace can be loaded with stated dependencies ... OK * checking whether the namespace can be unloaded cleanly ... OK * checking dependencies in R code ... OK * checking S3 generic/method consistency ... OK * checking replacement functions ... OK * checking foreign function calls ... OK * checking R code for possible problems ... OK * checking Rd files ... OK * checking Rd metadata ... OK * checking Rd cross-references ... OK * checking for missing documentation entries ... OK * checking for code/documentation mismatches ... OK * checking Rd \usage sections ... OK * checking Rd contents ... OK * checking for unstated dependencies in examples ... OK * checking contents of ‘data’ directory ... OK * checking data for non-ASCII characters ... OK * checking data for ASCII and uncompressed saves ... OK * checking files in ‘vignettes’ ... OK * checking examples ... OK Examples with CPU (user + system) or elapsed time > 5s user system elapsed normaliseOtherEnds 34.349 22.006 24.124 exportResults 23.986 1.730 23.398 peakEnrichment4Features 9.562 5.010 2.736 * checking for unstated dependencies in ‘tests’ ... OK * checking tests ... Running ‘testthat.R’ OK * checking for unstated dependencies in vignettes ... OK * checking package vignettes in ‘inst/doc’ ... OK * checking running R code from vignettes ... SKIPPED * checking re-building of vignette outputs ... SKIPPED * checking PDF version of manual ... OK * DONE Status: OK
Chicago.Rcheck/00install.out
############################################################################## ############################################################################## ### ### Running command: ### ### /Library/Frameworks/R.framework/Versions/Current/Resources/bin/R CMD INSTALL Chicago ### ############################################################################## ############################################################################## * installing to library ‘/Library/Frameworks/R.framework/Versions/4.0/Resources/library’ * installing *source* package ‘Chicago’ ... ** using staged installation ** R ** data ** inst ** byte-compile and prepare package for lazy loading ** help *** installing help indices ** building package indices ** installing vignettes ** testing if installed package can be loaded from temporary location ** testing if installed package can be loaded from final location ** testing if installed package keeps a record of temporary installation path * DONE (Chicago)
Chicago.Rcheck/tests/testthat.Rout
R Under development (unstable) (2019-12-14 r77572) -- "Unsuffered Consequences" Copyright (C) 2019 The R Foundation for Statistical Computing Platform: x86_64-apple-darwin15.6.0 (64-bit) R is free software and comes with ABSOLUTELY NO WARRANTY. You are welcome to redistribute it under certain conditions. Type 'license()' or 'licence()' for distribution details. R is a collaborative project with many contributors. Type 'contributors()' for more information and 'citation()' on how to cite R or R packages in publications. Type 'demo()' for some demos, 'help()' for on-line help, or 'help.start()' for an HTML browser interface to help. Type 'q()' to quit R. > library(testthat) > library(Chicago) Loading required package: data.table Welcome to CHiCAGO - version 1.15.0 If you are new to CHiCAGO, please consider reading the vignette through the command: vignette("Chicago"). NOTE: Default values of tlb.minProxOEPerBin and tlb.minProxB2BPerBin changed as of Version 1.1.5. No action is required unless you specified non-default values, or wish to re-run the pipeline on old chicagoData objects. See news(package="Chicago") > > test_check("Chicago") Read 4 items Read 4 items Read 4 items ══ testthat results ═══════════════════════════════════════════════════════════ [ OK: 11 | SKIPPED: 0 | WARNINGS: 0 | FAILED: 0 ] > > proc.time() user system elapsed 11.053 3.843 6.807
Chicago.Rcheck/Chicago-Ex.timings
name | user | system | elapsed | |
cdUnitTest | 0.214 | 0.136 | 0.110 | |
chicagoData | 0.003 | 0.003 | 0.002 | |
chicagoPipeline | 0.168 | 0.107 | 0.070 | |
copyCD | 0.021 | 0.017 | 0.012 | |
defaultSettings | 0.006 | 0.005 | 0.003 | |
estimateBrownianComponent | 0.585 | 0.324 | 0.297 | |
estimateDistFun | 0.113 | 0.064 | 0.070 | |
estimateTechnicalNoise | 0.466 | 0.251 | 0.155 | |
exportResults | 23.986 | 1.730 | 23.398 | |
getPvals | 0.086 | 0.022 | 0.029 | |
getScores | 0.199 | 0.145 | 0.080 | |
getSkOnly | 0.504 | 0.331 | 0.195 | |
mergeSamples | 0.980 | 0.642 | 0.408 | |
modifySettings | 0.094 | 0.065 | 0.032 | |
normaliseBaits | 1.243 | 0.119 | 0.168 | |
normaliseOtherEnds | 34.349 | 22.006 | 24.124 | |
overlapFragWithFeatures | 1.513 | 0.013 | 0.144 | |
peakEnrichment4Features | 9.562 | 5.010 | 2.736 | |
plotBaits | 1.608 | 1.131 | 0.563 | |
plotDistFun | 0.039 | 0.029 | 0.021 | |
readAndMerge | 0.575 | 0.438 | 0.212 | |
readSample | 0.206 | 0.155 | 0.074 | |
setExperiment | 0.068 | 0.055 | 0.022 | |