| Back to Multiple platform build/check report for BioC 3.11 |
|
This page was generated on 2020-10-17 11:56:13 -0400 (Sat, 17 Oct 2020).
| TO THE DEVELOPERS/MAINTAINERS OF THE CellBench PACKAGE: Please make sure to use the following settings in order to reproduce any error or warning you see on this page. |
| Package 247/1905 | Hostname | OS / Arch | INSTALL | BUILD | CHECK | BUILD BIN | ||||||
| CellBench 1.4.1 Shian Su
| malbec2 | Linux (Ubuntu 18.04.4 LTS) / x86_64 | OK | OK | OK | |||||||
| tokay2 | Windows Server 2012 R2 Standard / x64 | OK | OK | OK | [ OK ] | |||||||
| machv2 | macOS 10.14.6 Mojave / x86_64 | OK | OK | OK | OK |
| Package: CellBench |
| Version: 1.4.1 |
| Command: rm -rf CellBench.buildbin-libdir && mkdir CellBench.buildbin-libdir && C:\Users\biocbuild\bbs-3.11-bioc\R\bin\R.exe CMD INSTALL --merge-multiarch --build --library=CellBench.buildbin-libdir CellBench_1.4.1.tar.gz |
| StartedAt: 2020-10-17 10:02:46 -0400 (Sat, 17 Oct 2020) |
| EndedAt: 2020-10-17 10:04:04 -0400 (Sat, 17 Oct 2020) |
| EllapsedTime: 78.5 seconds |
| RetCode: 0 |
| Status: OK |
| PackageFile: CellBench_1.4.1.zip |
| PackageFileSize: 3.871 MiB |
##############################################################################
##############################################################################
###
### Running command:
###
### rm -rf CellBench.buildbin-libdir && mkdir CellBench.buildbin-libdir && C:\Users\biocbuild\bbs-3.11-bioc\R\bin\R.exe CMD INSTALL --merge-multiarch --build --library=CellBench.buildbin-libdir CellBench_1.4.1.tar.gz
###
##############################################################################
##############################################################################
install for i386
* installing *source* package 'CellBench' ...
** using staged installation
** R
** data
*** moving datasets to lazyload DB
** inst
** byte-compile and prepare package for lazy loading
** help
*** installing help indices
converting help for package 'CellBench'
finding HTML links ... done
CellBench-package html
all_unique html
any_task_errors html
apply_methods html
arrow_sep html
as_pipeline_list html
cache_method html
cellbench_case_study html
cellbench_file html
check_class html
clear_cached_datasets html
clear_cellbench_cache html
data_list html
filter_zero_genes html
fn_arg_seq html
fn_list html
is.task_error html
keep_high_count_cells html
keep_high_count_genes html
keep_high_var_genes html
load_all_data html
mhead html
pipeline_collapse html
print.fn_arg_seq html
print.task_error html
sample_cells html
sample_genes html
sample_sce_data html
set_cellbench_bpparam html
set_cellbench_cache_path html
set_cellbench_threads html
strip_timing html
summary.benchmark_tbl html
time_methods html
unpack_timing html
** building package indices
** installing vignettes
** testing if installed package can be loaded from temporary location
** testing if installed package can be loaded from final location
** testing if installed package keeps a record of temporary installation path
install for x64
* installing *source* package 'CellBench' ...
** testing if installed package can be loaded
* MD5 sums
packaged installation of 'CellBench' as CellBench_1.4.1.zip
* DONE (CellBench)