| Back to Multiple platform build/check report for BioC 3.11 | 
  | 
This page was generated on 2020-10-17 11:56:12 -0400 (Sat, 17 Oct 2020).
| TO THE DEVELOPERS/MAINTAINERS OF THE CancerSubtypes PACKAGE: Please make sure to use the following settings in order to reproduce any error or warning you see on this page. | 
| Package 228/1905 | Hostname | OS / Arch | INSTALL | BUILD | CHECK | BUILD BIN | ||||||
| CancerSubtypes 1.14.0 Taosheng Xu 
  | malbec2 | Linux (Ubuntu 18.04.4 LTS) / x86_64 | OK | OK | OK | |||||||
| tokay2 | Windows Server 2012 R2 Standard / x64 | OK | [ OK ] | OK | OK | |||||||
| machv2 | macOS 10.14.6 Mojave / x86_64 | OK | OK | OK | OK | 
| Package: CancerSubtypes | 
| Version: 1.14.0 | 
| Command: chmod a+r CancerSubtypes -R && C:\Users\biocbuild\bbs-3.11-bioc\R\bin\R.exe CMD build --keep-empty-dirs --no-resave-data CancerSubtypes | 
| StartedAt: 2020-10-16 20:29:40 -0400 (Fri, 16 Oct 2020) | 
| EndedAt: 2020-10-16 20:32:33 -0400 (Fri, 16 Oct 2020) | 
| EllapsedTime: 172.3 seconds | 
| RetCode: 0 | 
| Status: OK | 
| PackageFile: CancerSubtypes_1.14.0.tar.gz | 
| PackageFileSize: 1.613 MiB | 
##############################################################################
##############################################################################
###
### Running command:
###
###   chmod a+r CancerSubtypes -R && C:\Users\biocbuild\bbs-3.11-bioc\R\bin\R.exe CMD build --keep-empty-dirs --no-resave-data CancerSubtypes
###
##############################################################################
##############################################################################
* checking for file 'CancerSubtypes/DESCRIPTION' ... OK
* preparing 'CancerSubtypes':
* checking DESCRIPTION meta-information ... OK
* installing the package to build vignettes
* creating vignettes ... OK
Warning: 'inst/doc' files
    'CancerSubtypes-vignette.Rmd', 'CancerSubtypes-vignette.html',  'CancerSubtypes-vignette.R'
  ignored as vignettes have been rebuilt.
  Run R CMD build with --no-build-vignettes to prevent rebuilding.
* checking for LF line-endings in source and make files and shell scripts
* checking for empty or unneeded directories
* looking to see if a 'data/datalist' file should be added
* building 'CancerSubtypes_1.14.0.tar.gz'