| Back to Multiple platform build/check report for BioC 3.11 |
|
This page was generated on 2020-10-17 11:56:12 -0400 (Sat, 17 Oct 2020).
| TO THE DEVELOPERS/MAINTAINERS OF THE CancerInSilico PACKAGE: Please make sure to use the following settings in order to reproduce any error or warning you see on this page. |
| Package 226/1905 | Hostname | OS / Arch | INSTALL | BUILD | CHECK | BUILD BIN | ||||||
| CancerInSilico 2.8.0 Thomas D. Sherman
| malbec2 | Linux (Ubuntu 18.04.4 LTS) / x86_64 | OK | OK | OK | |||||||
| tokay2 | Windows Server 2012 R2 Standard / x64 | OK | OK | OK | [ OK ] | |||||||
| machv2 | macOS 10.14.6 Mojave / x86_64 | OK | OK | OK | OK |
| Package: CancerInSilico |
| Version: 2.8.0 |
| Command: rm -rf CancerInSilico.buildbin-libdir && mkdir CancerInSilico.buildbin-libdir && C:\Users\biocbuild\bbs-3.11-bioc\R\bin\R.exe CMD INSTALL --merge-multiarch --build --library=CancerInSilico.buildbin-libdir CancerInSilico_2.8.0.tar.gz |
| StartedAt: 2020-10-17 10:01:05 -0400 (Sat, 17 Oct 2020) |
| EndedAt: 2020-10-17 10:05:05 -0400 (Sat, 17 Oct 2020) |
| EllapsedTime: 240.3 seconds |
| RetCode: 0 |
| Status: OK |
| PackageFile: CancerInSilico_2.8.0.zip |
| PackageFileSize: 2.943 MiB |
##############################################################################
##############################################################################
###
### Running command:
###
### rm -rf CancerInSilico.buildbin-libdir && mkdir CancerInSilico.buildbin-libdir && C:\Users\biocbuild\bbs-3.11-bioc\R\bin\R.exe CMD INSTALL --merge-multiarch --build --library=CancerInSilico.buildbin-libdir CancerInSilico_2.8.0.tar.gz
###
##############################################################################
##############################################################################
install for i386
* installing *source* package 'CancerInSilico' ...
** using staged installation
** libs
"C:/rtools40/mingw32/bin/"g++ -std=gnu++11 -I"C:/Users/BIOCBU~1/BBS-3~1.11-/R/include" -DNDEBUG -I'C:/Users/biocbuild/bbs-3.11-bioc/R/library/Rcpp/include' -I'C:/Users/biocbuild/bbs-3.11-bioc/R/library/BH/include' -I"C:/extsoft/include" -O2 -Wall -mfpmath=sse -msse2 -mstackrealign -c RunModel.cpp -o RunModel.o
"C:/rtools40/mingw32/bin/"g++ -std=gnu++11 -I"C:/Users/BIOCBU~1/BBS-3~1.11-/R/include" -DNDEBUG -I'C:/Users/biocbuild/bbs-3.11-bioc/R/library/Rcpp/include' -I'C:/Users/biocbuild/bbs-3.11-bioc/R/library/BH/include' -I"C:/extsoft/include" -O2 -Wall -mfpmath=sse -msse2 -mstackrealign -c RcppExports.cpp -o RcppExports.o
"C:/rtools40/mingw32/bin/"g++ -std=gnu++11 -I"C:/Users/BIOCBU~1/BBS-3~1.11-/R/include" -DNDEBUG -I'C:/Users/biocbuild/bbs-3.11-bioc/R/library/Rcpp/include' -I'C:/Users/biocbuild/bbs-3.11-bioc/R/library/BH/include' -I"C:/extsoft/include" -O2 -Wall -mfpmath=sse -msse2 -mstackrealign -c CellModels/DrasdoHohmeModel.cpp -o CellModels/DrasdoHohmeModel.o
"C:/rtools40/mingw32/bin/"g++ -std=gnu++11 -I"C:/Users/BIOCBU~1/BBS-3~1.11-/R/include" -DNDEBUG -I'C:/Users/biocbuild/bbs-3.11-bioc/R/library/Rcpp/include' -I'C:/Users/biocbuild/bbs-3.11-bioc/R/library/BH/include' -I"C:/extsoft/include" -O2 -Wall -mfpmath=sse -msse2 -mstackrealign -c OffLatticeModel/OffLatticeCell.cpp -o OffLatticeModel/OffLatticeCell.o
"C:/rtools40/mingw32/bin/"g++ -std=gnu++11 -I"C:/Users/BIOCBU~1/BBS-3~1.11-/R/include" -DNDEBUG -I'C:/Users/biocbuild/bbs-3.11-bioc/R/library/Rcpp/include' -I'C:/Users/biocbuild/bbs-3.11-bioc/R/library/BH/include' -I"C:/extsoft/include" -O2 -Wall -mfpmath=sse -msse2 -mstackrealign -c OffLatticeModel/OffLatticeCellBasedModel.cpp -o OffLatticeModel/OffLatticeCellBasedModel.o
"C:/rtools40/mingw32/bin/"g++ -std=gnu++11 -I"C:/Users/BIOCBU~1/BBS-3~1.11-/R/include" -DNDEBUG -I'C:/Users/biocbuild/bbs-3.11-bioc/R/library/Rcpp/include' -I'C:/Users/biocbuild/bbs-3.11-bioc/R/library/BH/include' -I"C:/extsoft/include" -O2 -Wall -mfpmath=sse -msse2 -mstackrealign -c OffLatticeModel/OffLatticeRadiusSolver.cpp -o OffLatticeModel/OffLatticeRadiusSolver.o
"C:/rtools40/mingw32/bin/"g++ -std=gnu++11 -I"C:/Users/BIOCBU~1/BBS-3~1.11-/R/include" -DNDEBUG -I'C:/Users/biocbuild/bbs-3.11-bioc/R/library/Rcpp/include' -I'C:/Users/biocbuild/bbs-3.11-bioc/R/library/BH/include' -I"C:/extsoft/include" -O2 -Wall -mfpmath=sse -msse2 -mstackrealign -c Core/Cell.cpp -o Core/Cell.o
"C:/rtools40/mingw32/bin/"g++ -std=gnu++11 -I"C:/Users/BIOCBU~1/BBS-3~1.11-/R/include" -DNDEBUG -I'C:/Users/biocbuild/bbs-3.11-bioc/R/library/Rcpp/include' -I'C:/Users/biocbuild/bbs-3.11-bioc/R/library/BH/include' -I"C:/extsoft/include" -O2 -Wall -mfpmath=sse -msse2 -mstackrealign -c Core/CellBasedModel.cpp -o Core/CellBasedModel.o
Core/CellBasedModel.cpp: In constructor 'CellBasedModel::CellBasedModel(Rcpp::S4*)':
Core/CellBasedModel.cpp:23:28: warning: comparison of integer expressions of different signedness: 'unsigned int' and 'R_xlen_t' {aka 'int'} [-Wsign-compare]
for (unsigned i = 0; i < types.size(); ++i)
~~^~~~~~~~~~~~~~
Core/CellBasedModel.cpp:30:28: warning: comparison of integer expressions of different signedness: 'unsigned int' and 'R_xlen_t' {aka 'int'} [-Wsign-compare]
for (unsigned i = 0; i < drugs.size(); ++i)
~~^~~~~~~~~~~~~~
"C:/rtools40/mingw32/bin/"g++ -std=gnu++11 -I"C:/Users/BIOCBU~1/BBS-3~1.11-/R/include" -DNDEBUG -I'C:/Users/biocbuild/bbs-3.11-bioc/R/library/Rcpp/include' -I'C:/Users/biocbuild/bbs-3.11-bioc/R/library/BH/include' -I"C:/extsoft/include" -O2 -Wall -mfpmath=sse -msse2 -mstackrealign -c Core/CellType.cpp -o Core/CellType.o
"C:/rtools40/mingw32/bin/"g++ -std=gnu++11 -I"C:/Users/BIOCBU~1/BBS-3~1.11-/R/include" -DNDEBUG -I'C:/Users/biocbuild/bbs-3.11-bioc/R/library/Rcpp/include' -I'C:/Users/biocbuild/bbs-3.11-bioc/R/library/BH/include' -I"C:/extsoft/include" -O2 -Wall -mfpmath=sse -msse2 -mstackrealign -c Core/Drug.cpp -o Core/Drug.o
"C:/rtools40/mingw32/bin/"g++ -std=gnu++11 -I"C:/Users/BIOCBU~1/BBS-3~1.11-/R/include" -DNDEBUG -I'C:/Users/biocbuild/bbs-3.11-bioc/R/library/Rcpp/include' -I'C:/Users/biocbuild/bbs-3.11-bioc/R/library/BH/include' -I"C:/extsoft/include" -O2 -Wall -mfpmath=sse -msse2 -mstackrealign -c Core/Random.cpp -o Core/Random.o
In file included from C:/Users/biocbuild/bbs-3.11-bioc/R/library/BH/include/boost/mpl/aux_/na_assert.hpp:23,
from C:/Users/biocbuild/bbs-3.11-bioc/R/library/BH/include/boost/mpl/arg.hpp:25,
from C:/Users/biocbuild/bbs-3.11-bioc/R/library/BH/include/boost/mpl/placeholders.hpp:24,
from C:/Users/biocbuild/bbs-3.11-bioc/R/library/BH/include/boost/mpl/apply.hpp:24,
from C:/Users/biocbuild/bbs-3.11-bioc/R/library/BH/include/boost/mpl/aux_/iter_apply.hpp:17,
from C:/Users/biocbuild/bbs-3.11-bioc/R/library/BH/include/boost/mpl/aux_/find_if_pred.hpp:14,
from C:/Users/biocbuild/bbs-3.11-bioc/R/library/BH/include/boost/mpl/find_if.hpp:17,
from C:/Users/biocbuild/bbs-3.11-bioc/R/library/BH/include/boost/mpl/find.hpp:17,
from C:/Users/biocbuild/bbs-3.11-bioc/R/library/BH/include/boost/mpl/aux_/contains_impl.hpp:20,
from C:/Users/biocbuild/bbs-3.11-bioc/R/library/BH/include/boost/mpl/contains.hpp:20,
from C:/Users/biocbuild/bbs-3.11-bioc/R/library/BH/include/boost/math/policies/policy.hpp:10,
from C:/Users/biocbuild/bbs-3.11-bioc/R/library/BH/include/boost/math/special_functions/math_fwd.hpp:29,
from C:/Users/biocbuild/bbs-3.11-bioc/R/library/BH/include/boost/math/special_functions/fpclassify.hpp:19,
from C:/Users/biocbuild/bbs-3.11-bioc/R/library/BH/include/boost/random/hyperexponential_distribution.hpp:22,
from C:/Users/biocbuild/bbs-3.11-bioc/R/library/BH/include/boost/random.hpp:69,
from Core/Random.cpp:3:
C:/Users/biocbuild/bbs-3.11-bioc/R/library/BH/include/boost/mpl/assert.hpp:194:21: warning: unnecessary parentheses in declaration of 'assert_arg' [-Wparentheses]
failed ************ (Pred::************
^
C:/Users/biocbuild/bbs-3.11-bioc/R/library/BH/include/boost/mpl/assert.hpp:199:21: warning: unnecessary parentheses in declaration of 'assert_not_arg' [-Wparentheses]
failed ************ (boost::mpl::not_<Pred>::************
^
"C:/rtools40/mingw32/bin/"g++ -std=gnu++11 -I"C:/Users/BIOCBU~1/BBS-3~1.11-/R/include" -DNDEBUG -I'C:/Users/biocbuild/bbs-3.11-bioc/R/library/Rcpp/include' -I'C:/Users/biocbuild/bbs-3.11-bioc/R/library/BH/include' -I"C:/extsoft/include" -O2 -Wall -mfpmath=sse -msse2 -mstackrealign -c test-runner.cpp -o test-runner.o
"C:/rtools40/mingw32/bin/"g++ -std=gnu++11 -I"C:/Users/BIOCBU~1/BBS-3~1.11-/R/include" -DNDEBUG -I'C:/Users/biocbuild/bbs-3.11-bioc/R/library/Rcpp/include' -I'C:/Users/biocbuild/bbs-3.11-bioc/R/library/BH/include' -I"C:/extsoft/include" -O2 -Wall -mfpmath=sse -msse2 -mstackrealign -c Tests/Core/test-CellType.cpp -o Tests/Core/test-CellType.o
"C:/rtools40/mingw32/bin/"g++ -std=gnu++11 -I"C:/Users/BIOCBU~1/BBS-3~1.11-/R/include" -DNDEBUG -I'C:/Users/biocbuild/bbs-3.11-bioc/R/library/Rcpp/include' -I'C:/Users/biocbuild/bbs-3.11-bioc/R/library/BH/include' -I"C:/extsoft/include" -O2 -Wall -mfpmath=sse -msse2 -mstackrealign -c Tests/Core/test-Drug.cpp -o Tests/Core/test-Drug.o
"C:/rtools40/mingw32/bin/"g++ -std=gnu++11 -I"C:/Users/BIOCBU~1/BBS-3~1.11-/R/include" -DNDEBUG -I'C:/Users/biocbuild/bbs-3.11-bioc/R/library/Rcpp/include' -I'C:/Users/biocbuild/bbs-3.11-bioc/R/library/BH/include' -I"C:/extsoft/include" -O2 -Wall -mfpmath=sse -msse2 -mstackrealign -c Tests/Core/test-Point.cpp -o Tests/Core/test-Point.o
"C:/rtools40/mingw32/bin/"g++ -std=gnu++11 -I"C:/Users/BIOCBU~1/BBS-3~1.11-/R/include" -DNDEBUG -I'C:/Users/biocbuild/bbs-3.11-bioc/R/library/Rcpp/include' -I'C:/Users/biocbuild/bbs-3.11-bioc/R/library/BH/include' -I"C:/extsoft/include" -O2 -Wall -mfpmath=sse -msse2 -mstackrealign -c Tests/Core/test-Random.cpp -o Tests/Core/test-Random.o
"C:/rtools40/mingw32/bin/"g++ -std=gnu++11 -I"C:/Users/BIOCBU~1/BBS-3~1.11-/R/include" -DNDEBUG -I'C:/Users/biocbuild/bbs-3.11-bioc/R/library/Rcpp/include' -I'C:/Users/biocbuild/bbs-3.11-bioc/R/library/BH/include' -I"C:/extsoft/include" -O2 -Wall -mfpmath=sse -msse2 -mstackrealign -c Tests/Core/test-SquareLattice.cpp -o Tests/Core/test-SquareLattice.o
C:/rtools40/mingw32/bin/g++ -std=gnu++11 -shared -s -static-libgcc -o CancerInSilico.dll tmp.def RunModel.o RcppExports.o CellModels/DrasdoHohmeModel.o OffLatticeModel/OffLatticeCell.o OffLatticeModel/OffLatticeCellBasedModel.o OffLatticeModel/OffLatticeRadiusSolver.o Core/Cell.o Core/CellBasedModel.o Core/CellType.o Core/Drug.o Core/Random.o test-runner.o Tests/Core/test-CellType.o Tests/Core/test-Drug.o Tests/Core/test-Point.o Tests/Core/test-Random.o Tests/Core/test-SquareLattice.o -LC:/extsoft/lib/i386 -LC:/extsoft/lib -LC:/Users/BIOCBU~1/BBS-3~1.11-/R/bin/i386 -lR
installing to C:/Users/biocbuild/bbs-3.11-bioc/meat/CancerInSilico.buildbin-libdir/00LOCK-CancerInSilico/00new/CancerInSilico/libs/i386
** R
** data
** inst
** byte-compile and prepare package for lazy loading
** help
*** installing help indices
converting help for package 'CancerInSilico'
finding HTML links ... done
CancerInSilico html
CellModel-class html
CellType-class html
DrasdoHohmeModel-class html
Drug-class html
GeneExpressionParams-class html
OffLatticeModel-class html
Pathway-class html
calibratePathway html
cellSummary-methods html
checkDataSet html
combineGeneExpression html
getAxisAngle-methods html
getAxisLength-methods html
getCellDistance-methods html
getCellPhase-methods html
getCellType-methods html
getCoordinates-methods html
getCycleLength-methods html
getDensity-methods html
getLocalDensity-methods html
getMeanExp html
getNumberOfCells-methods html
getRadius-methods html
getTrialAcceptRate-methods html
inSilicoCellModel html
inSilicoGeneExpression html
inSilicoPathways html
initialize-CellModel-method html
initialize-DrasdoHohmeModel-method html
initialize-OffLatticeModel-method html
interactivePlot-methods html
modCellTypes html
modDefault html
modDrugs html
modHighDensity html
modLargeRun html
modLongRun html
plotCells-methods html
pwyContactInhibition html
pwyGrowth html
pwyMitosis html
pwySPhase html
referenceGeneExpression html
run-methods html
simulateMicroArray html
simulatePathwayActivity html
simulateWithLimmaVoom html
simulateWithSplatter html
voomErrorModel html
** building package indices
** installing vignettes
** testing if installed package can be loaded from temporary location
** testing if installed package can be loaded from final location
** testing if installed package keeps a record of temporary installation path
install for x64
* installing *source* package 'CancerInSilico' ...
** libs
"C:/rtools40/mingw64/bin/"g++ -std=gnu++11 -I"C:/Users/BIOCBU~1/BBS-3~1.11-/R/include" -DNDEBUG -I'C:/Users/biocbuild/bbs-3.11-bioc/R/library/Rcpp/include' -I'C:/Users/biocbuild/bbs-3.11-bioc/R/library/BH/include' -I"C:/extsoft/include" -O2 -Wall -mfpmath=sse -msse2 -mstackrealign -c RunModel.cpp -o RunModel.o
"C:/rtools40/mingw64/bin/"g++ -std=gnu++11 -I"C:/Users/BIOCBU~1/BBS-3~1.11-/R/include" -DNDEBUG -I'C:/Users/biocbuild/bbs-3.11-bioc/R/library/Rcpp/include' -I'C:/Users/biocbuild/bbs-3.11-bioc/R/library/BH/include' -I"C:/extsoft/include" -O2 -Wall -mfpmath=sse -msse2 -mstackrealign -c RcppExports.cpp -o RcppExports.o
"C:/rtools40/mingw64/bin/"g++ -std=gnu++11 -I"C:/Users/BIOCBU~1/BBS-3~1.11-/R/include" -DNDEBUG -I'C:/Users/biocbuild/bbs-3.11-bioc/R/library/Rcpp/include' -I'C:/Users/biocbuild/bbs-3.11-bioc/R/library/BH/include' -I"C:/extsoft/include" -O2 -Wall -mfpmath=sse -msse2 -mstackrealign -c CellModels/DrasdoHohmeModel.cpp -o CellModels/DrasdoHohmeModel.o
"C:/rtools40/mingw64/bin/"g++ -std=gnu++11 -I"C:/Users/BIOCBU~1/BBS-3~1.11-/R/include" -DNDEBUG -I'C:/Users/biocbuild/bbs-3.11-bioc/R/library/Rcpp/include' -I'C:/Users/biocbuild/bbs-3.11-bioc/R/library/BH/include' -I"C:/extsoft/include" -O2 -Wall -mfpmath=sse -msse2 -mstackrealign -c OffLatticeModel/OffLatticeCell.cpp -o OffLatticeModel/OffLatticeCell.o
"C:/rtools40/mingw64/bin/"g++ -std=gnu++11 -I"C:/Users/BIOCBU~1/BBS-3~1.11-/R/include" -DNDEBUG -I'C:/Users/biocbuild/bbs-3.11-bioc/R/library/Rcpp/include' -I'C:/Users/biocbuild/bbs-3.11-bioc/R/library/BH/include' -I"C:/extsoft/include" -O2 -Wall -mfpmath=sse -msse2 -mstackrealign -c OffLatticeModel/OffLatticeCellBasedModel.cpp -o OffLatticeModel/OffLatticeCellBasedModel.o
"C:/rtools40/mingw64/bin/"g++ -std=gnu++11 -I"C:/Users/BIOCBU~1/BBS-3~1.11-/R/include" -DNDEBUG -I'C:/Users/biocbuild/bbs-3.11-bioc/R/library/Rcpp/include' -I'C:/Users/biocbuild/bbs-3.11-bioc/R/library/BH/include' -I"C:/extsoft/include" -O2 -Wall -mfpmath=sse -msse2 -mstackrealign -c OffLatticeModel/OffLatticeRadiusSolver.cpp -o OffLatticeModel/OffLatticeRadiusSolver.o
"C:/rtools40/mingw64/bin/"g++ -std=gnu++11 -I"C:/Users/BIOCBU~1/BBS-3~1.11-/R/include" -DNDEBUG -I'C:/Users/biocbuild/bbs-3.11-bioc/R/library/Rcpp/include' -I'C:/Users/biocbuild/bbs-3.11-bioc/R/library/BH/include' -I"C:/extsoft/include" -O2 -Wall -mfpmath=sse -msse2 -mstackrealign -c Core/Cell.cpp -o Core/Cell.o
"C:/rtools40/mingw64/bin/"g++ -std=gnu++11 -I"C:/Users/BIOCBU~1/BBS-3~1.11-/R/include" -DNDEBUG -I'C:/Users/biocbuild/bbs-3.11-bioc/R/library/Rcpp/include' -I'C:/Users/biocbuild/bbs-3.11-bioc/R/library/BH/include' -I"C:/extsoft/include" -O2 -Wall -mfpmath=sse -msse2 -mstackrealign -c Core/CellBasedModel.cpp -o Core/CellBasedModel.o
"C:/rtools40/mingw64/bin/"g++ -std=gnu++11 -I"C:/Users/BIOCBU~1/BBS-3~1.11-/R/include" -DNDEBUG -I'C:/Users/biocbuild/bbs-3.11-bioc/R/library/Rcpp/include' -I'C:/Users/biocbuild/bbs-3.11-bioc/R/library/BH/include' -I"C:/extsoft/include" -O2 -Wall -mfpmath=sse -msse2 -mstackrealign -c Core/CellType.cpp -o Core/CellType.o
"C:/rtools40/mingw64/bin/"g++ -std=gnu++11 -I"C:/Users/BIOCBU~1/BBS-3~1.11-/R/include" -DNDEBUG -I'C:/Users/biocbuild/bbs-3.11-bioc/R/library/Rcpp/include' -I'C:/Users/biocbuild/bbs-3.11-bioc/R/library/BH/include' -I"C:/extsoft/include" -O2 -Wall -mfpmath=sse -msse2 -mstackrealign -c Core/Drug.cpp -o Core/Drug.o
"C:/rtools40/mingw64/bin/"g++ -std=gnu++11 -I"C:/Users/BIOCBU~1/BBS-3~1.11-/R/include" -DNDEBUG -I'C:/Users/biocbuild/bbs-3.11-bioc/R/library/Rcpp/include' -I'C:/Users/biocbuild/bbs-3.11-bioc/R/library/BH/include' -I"C:/extsoft/include" -O2 -Wall -mfpmath=sse -msse2 -mstackrealign -c Core/Random.cpp -o Core/Random.o
In file included from C:/Users/biocbuild/bbs-3.11-bioc/R/library/BH/include/boost/mpl/aux_/na_assert.hpp:23,
from C:/Users/biocbuild/bbs-3.11-bioc/R/library/BH/include/boost/mpl/arg.hpp:25,
from C:/Users/biocbuild/bbs-3.11-bioc/R/library/BH/include/boost/mpl/placeholders.hpp:24,
from C:/Users/biocbuild/bbs-3.11-bioc/R/library/BH/include/boost/mpl/apply.hpp:24,
from C:/Users/biocbuild/bbs-3.11-bioc/R/library/BH/include/boost/mpl/aux_/iter_apply.hpp:17,
from C:/Users/biocbuild/bbs-3.11-bioc/R/library/BH/include/boost/mpl/aux_/find_if_pred.hpp:14,
from C:/Users/biocbuild/bbs-3.11-bioc/R/library/BH/include/boost/mpl/find_if.hpp:17,
from C:/Users/biocbuild/bbs-3.11-bioc/R/library/BH/include/boost/mpl/find.hpp:17,
from C:/Users/biocbuild/bbs-3.11-bioc/R/library/BH/include/boost/mpl/aux_/contains_impl.hpp:20,
from C:/Users/biocbuild/bbs-3.11-bioc/R/library/BH/include/boost/mpl/contains.hpp:20,
from C:/Users/biocbuild/bbs-3.11-bioc/R/library/BH/include/boost/math/policies/policy.hpp:10,
from C:/Users/biocbuild/bbs-3.11-bioc/R/library/BH/include/boost/math/special_functions/math_fwd.hpp:29,
from C:/Users/biocbuild/bbs-3.11-bioc/R/library/BH/include/boost/math/special_functions/fpclassify.hpp:19,
from C:/Users/biocbuild/bbs-3.11-bioc/R/library/BH/include/boost/random/hyperexponential_distribution.hpp:22,
from C:/Users/biocbuild/bbs-3.11-bioc/R/library/BH/include/boost/random.hpp:69,
from Core/Random.cpp:3:
C:/Users/biocbuild/bbs-3.11-bioc/R/library/BH/include/boost/mpl/assert.hpp:194:21: warning: unnecessary parentheses in declaration of 'assert_arg' [-Wparentheses]
failed ************ (Pred::************
^
C:/Users/biocbuild/bbs-3.11-bioc/R/library/BH/include/boost/mpl/assert.hpp:199:21: warning: unnecessary parentheses in declaration of 'assert_not_arg' [-Wparentheses]
failed ************ (boost::mpl::not_<Pred>::************
^
"C:/rtools40/mingw64/bin/"g++ -std=gnu++11 -I"C:/Users/BIOCBU~1/BBS-3~1.11-/R/include" -DNDEBUG -I'C:/Users/biocbuild/bbs-3.11-bioc/R/library/Rcpp/include' -I'C:/Users/biocbuild/bbs-3.11-bioc/R/library/BH/include' -I"C:/extsoft/include" -O2 -Wall -mfpmath=sse -msse2 -mstackrealign -c test-runner.cpp -o test-runner.o
"C:/rtools40/mingw64/bin/"g++ -std=gnu++11 -I"C:/Users/BIOCBU~1/BBS-3~1.11-/R/include" -DNDEBUG -I'C:/Users/biocbuild/bbs-3.11-bioc/R/library/Rcpp/include' -I'C:/Users/biocbuild/bbs-3.11-bioc/R/library/BH/include' -I"C:/extsoft/include" -O2 -Wall -mfpmath=sse -msse2 -mstackrealign -c Tests/Core/test-CellType.cpp -o Tests/Core/test-CellType.o
"C:/rtools40/mingw64/bin/"g++ -std=gnu++11 -I"C:/Users/BIOCBU~1/BBS-3~1.11-/R/include" -DNDEBUG -I'C:/Users/biocbuild/bbs-3.11-bioc/R/library/Rcpp/include' -I'C:/Users/biocbuild/bbs-3.11-bioc/R/library/BH/include' -I"C:/extsoft/include" -O2 -Wall -mfpmath=sse -msse2 -mstackrealign -c Tests/Core/test-Drug.cpp -o Tests/Core/test-Drug.o
"C:/rtools40/mingw64/bin/"g++ -std=gnu++11 -I"C:/Users/BIOCBU~1/BBS-3~1.11-/R/include" -DNDEBUG -I'C:/Users/biocbuild/bbs-3.11-bioc/R/library/Rcpp/include' -I'C:/Users/biocbuild/bbs-3.11-bioc/R/library/BH/include' -I"C:/extsoft/include" -O2 -Wall -mfpmath=sse -msse2 -mstackrealign -c Tests/Core/test-Point.cpp -o Tests/Core/test-Point.o
"C:/rtools40/mingw64/bin/"g++ -std=gnu++11 -I"C:/Users/BIOCBU~1/BBS-3~1.11-/R/include" -DNDEBUG -I'C:/Users/biocbuild/bbs-3.11-bioc/R/library/Rcpp/include' -I'C:/Users/biocbuild/bbs-3.11-bioc/R/library/BH/include' -I"C:/extsoft/include" -O2 -Wall -mfpmath=sse -msse2 -mstackrealign -c Tests/Core/test-Random.cpp -o Tests/Core/test-Random.o
"C:/rtools40/mingw64/bin/"g++ -std=gnu++11 -I"C:/Users/BIOCBU~1/BBS-3~1.11-/R/include" -DNDEBUG -I'C:/Users/biocbuild/bbs-3.11-bioc/R/library/Rcpp/include' -I'C:/Users/biocbuild/bbs-3.11-bioc/R/library/BH/include' -I"C:/extsoft/include" -O2 -Wall -mfpmath=sse -msse2 -mstackrealign -c Tests/Core/test-SquareLattice.cpp -o Tests/Core/test-SquareLattice.o
C:/rtools40/mingw64/bin/g++ -std=gnu++11 -shared -s -static-libgcc -o CancerInSilico.dll tmp.def RunModel.o RcppExports.o CellModels/DrasdoHohmeModel.o OffLatticeModel/OffLatticeCell.o OffLatticeModel/OffLatticeCellBasedModel.o OffLatticeModel/OffLatticeRadiusSolver.o Core/Cell.o Core/CellBasedModel.o Core/CellType.o Core/Drug.o Core/Random.o test-runner.o Tests/Core/test-CellType.o Tests/Core/test-Drug.o Tests/Core/test-Point.o Tests/Core/test-Random.o Tests/Core/test-SquareLattice.o -LC:/extsoft/lib/x64 -LC:/extsoft/lib -LC:/Users/BIOCBU~1/BBS-3~1.11-/R/bin/x64 -lR
installing to C:/Users/biocbuild/bbs-3.11-bioc/meat/CancerInSilico.buildbin-libdir/CancerInSilico/libs/x64
** testing if installed package can be loaded
* MD5 sums
packaged installation of 'CancerInSilico' as CancerInSilico_2.8.0.zip
* DONE (CancerInSilico)