| Back to Multiple platform build/check report for BioC 3.11 |
|
This page was generated on 2020-10-17 11:56:23 -0400 (Sat, 17 Oct 2020).
| TO THE DEVELOPERS/MAINTAINERS OF THE CRImage PACKAGE: Please make sure to use the following settings in order to reproduce any error or warning you see on this page. |
| Package 390/1905 | Hostname | OS / Arch | INSTALL | BUILD | CHECK | BUILD BIN | ||||||
| CRImage 1.36.0 Henrik Failmezger
| malbec2 | Linux (Ubuntu 18.04.4 LTS) / x86_64 | OK | OK | OK | |||||||
| tokay2 | Windows Server 2012 R2 Standard / x64 | [ OK ] | OK | OK | OK | |||||||
| machv2 | macOS 10.14.6 Mojave / x86_64 | OK | OK | OK | OK |
| Package: CRImage |
| Version: 1.36.0 |
| Command: C:\cygwin\bin\curl.exe -O https://malbec2.bioconductor.org/BBS/3.11/bioc/src/contrib/CRImage_1.36.0.tar.gz && rm -rf CRImage.buildbin-libdir && mkdir CRImage.buildbin-libdir && C:\Users\biocbuild\bbs-3.11-bioc\R\bin\R.exe CMD INSTALL --merge-multiarch --build --library=CRImage.buildbin-libdir CRImage_1.36.0.tar.gz && C:\Users\biocbuild\bbs-3.11-bioc\R\bin\R.exe CMD INSTALL CRImage_1.36.0.zip && rm CRImage_1.36.0.tar.gz CRImage_1.36.0.zip |
| StartedAt: 2020-10-16 17:22:21 -0400 (Fri, 16 Oct 2020) |
| EndedAt: 2020-10-16 17:23:54 -0400 (Fri, 16 Oct 2020) |
| EllapsedTime: 92.3 seconds |
| RetCode: 0 |
| Status: OK |
##############################################################################
##############################################################################
###
### Running command:
###
### C:\cygwin\bin\curl.exe -O https://malbec2.bioconductor.org/BBS/3.11/bioc/src/contrib/CRImage_1.36.0.tar.gz && rm -rf CRImage.buildbin-libdir && mkdir CRImage.buildbin-libdir && C:\Users\biocbuild\bbs-3.11-bioc\R\bin\R.exe CMD INSTALL --merge-multiarch --build --library=CRImage.buildbin-libdir CRImage_1.36.0.tar.gz && C:\Users\biocbuild\bbs-3.11-bioc\R\bin\R.exe CMD INSTALL CRImage_1.36.0.zip && rm CRImage_1.36.0.tar.gz CRImage_1.36.0.zip
###
##############################################################################
##############################################################################
% Total % Received % Xferd Average Speed Time Time Time Current
Dload Upload Total Spent Left Speed
0 0 0 0 0 0 0 0 --:--:-- --:--:-- --:--:-- 0
100 6442k 100 6442k 0 0 44.7M 0 --:--:-- --:--:-- --:--:-- 47.3M
install for i386
* installing *source* package 'CRImage' ...
** using staged installation
** R
** inst
** byte-compile and prepare package for lazy loading
** help
*** installing help indices
converting help for package 'CRImage'
finding HTML links ... done
CRImage-internal html
CRImage-package html
SauvolaThreshold html
calculateCellularity html
calculateMeanStdTarget html
calculateOtsu html
classifyCells html
colorCorrection html
convertHSVToRGB html
convertLABToRGB html
convertRGBToHSV html
convertRGBToLAB html
correctCopyNumber html
createBinaryImage html
createClassifier html
labelCells html
plotCorrectedCN html
processAperio html
segmentImage html
** building package indices
** installing vignettes
** testing if installed package can be loaded from temporary location
** testing if installed package can be loaded from final location
** testing if installed package keeps a record of temporary installation path
install for x64
* installing *source* package 'CRImage' ...
** testing if installed package can be loaded
* MD5 sums
packaged installation of 'CRImage' as CRImage_1.36.0.zip
* DONE (CRImage)
* installing to library 'C:/Users/biocbuild/bbs-3.11-bioc/R/library'
package 'CRImage' successfully unpacked and MD5 sums checked