| Back to Multiple platform build/check report for BioC 3.11 |
|
This page was generated on 2020-10-17 11:56:19 -0400 (Sat, 17 Oct 2020).
| TO THE DEVELOPERS/MAINTAINERS OF THE CMA PACKAGE: Please make sure to use the following settings in order to reproduce any error or warning you see on this page. |
| Package 324/1905 | Hostname | OS / Arch | INSTALL | BUILD | CHECK | BUILD BIN | ||||||
| CMA 1.46.0 Roman Hornung
| malbec2 | Linux (Ubuntu 18.04.4 LTS) / x86_64 | OK | OK | OK | |||||||
| tokay2 | Windows Server 2012 R2 Standard / x64 | OK | OK | OK | [ OK ] | |||||||
| machv2 | macOS 10.14.6 Mojave / x86_64 | OK | OK | OK | OK |
| Package: CMA |
| Version: 1.46.0 |
| Command: rm -rf CMA.buildbin-libdir && mkdir CMA.buildbin-libdir && C:\Users\biocbuild\bbs-3.11-bioc\R\bin\R.exe CMD INSTALL --merge-multiarch --build --library=CMA.buildbin-libdir CMA_1.46.0.tar.gz |
| StartedAt: 2020-10-17 10:08:39 -0400 (Sat, 17 Oct 2020) |
| EndedAt: 2020-10-17 10:09:39 -0400 (Sat, 17 Oct 2020) |
| EllapsedTime: 60.6 seconds |
| RetCode: 0 |
| Status: OK |
| PackageFile: CMA_1.46.0.zip |
| PackageFileSize: 1.865 MiB |
##############################################################################
##############################################################################
###
### Running command:
###
### rm -rf CMA.buildbin-libdir && mkdir CMA.buildbin-libdir && C:\Users\biocbuild\bbs-3.11-bioc\R\bin\R.exe CMD INSTALL --merge-multiarch --build --library=CMA.buildbin-libdir CMA_1.46.0.tar.gz
###
##############################################################################
##############################################################################
install for i386
* installing *source* package 'CMA' ...
** using staged installation
** R
** data
** inst
** byte-compile and prepare package for lazy loading
** help
*** installing help indices
converting help for package 'CMA'
finding HTML links ... done
CMA-package html
ElasticNetCMA-methods html
ElasticNetCMA html
GeneSelection-methods html
GeneSelection html
GenerateLearningsets html
LassoCMA-methods html
LassoCMA html
Planarplot-methods html
Planarplot html
best html
boxplot html
classification-methods html
classification html
cloutput-class html
clvarseloutput-class html
compBoostCMA-methods html
compBoostCMA html
compare-methods html
compare html
dldaCMA-methods html
dldaCMA html
evaloutput-class html
evaluation-methods html
evaluation html
fdaCMA-methods html
fdaCMA html
filter html
flexdaCMA-methods html
flexdaCMA html
ftable html
gbmCMA-methods html
gbmCMA html
genesel-class html
golub html
internals html
join-methods html
join html
khan html
knnCMA-methods html
knnCMA html
ldaCMA-methods html
ldaCMA html
learningsets-class html
nnetCMA-methods html
nnetCMA html
obsinfo html
pknnCMA-methods html
pknnCMA html
plot,cloutput-method html
plot,genesel-method html
plot,tuningresult-method html
plrCMA-methods html
plrCMA html
pls_ldaCMA-methods html
pls_ldaCMA html
pls_lrCMA-methods html
pls_lrCMA html
pls_rfCMA-methods html
pls_rfCMA html
pnnCMA-methods html
pnnCMA html
prediction-methods html
prediction html
predoutput-class html
qdaCMA-methods html
qdaCMA html
rfCMA-methods html
rfCMA html
roc html
scdaCMA-methods html
scdaCMA html
shrinkldaCMA-methods html
shrinkldaCMA html
summary html
svmCMA-methods html
svmCMA html
toplist html
tune-methods html
tune html
tuningresult-class html
varseloutput-class html
weighted_mcr-methods html
weighted_mcr html
wmc-methods html
wmc html
wmcr_result-class html
** building package indices
** installing vignettes
** testing if installed package can be loaded from temporary location
** testing if installed package can be loaded from final location
** testing if installed package keeps a record of temporary installation path
install for x64
* installing *source* package 'CMA' ...
** testing if installed package can be loaded
* MD5 sums
packaged installation of 'CMA' as CMA_1.46.0.zip
* DONE (CMA)