| Back to Multiple platform build/check report for BioC 3.11 |
|
This page was generated on 2020-10-17 11:56:17 -0400 (Sat, 17 Oct 2020).
| TO THE DEVELOPERS/MAINTAINERS OF THE CINdex PACKAGE: Please make sure to use the following settings in order to reproduce any error or warning you see on this page. |
| Package 300/1905 | Hostname | OS / Arch | INSTALL | BUILD | CHECK | BUILD BIN | ||||||
| CINdex 1.16.0 Yuriy Gusev
| malbec2 | Linux (Ubuntu 18.04.4 LTS) / x86_64 | OK | OK | OK | |||||||
| tokay2 | Windows Server 2012 R2 Standard / x64 | OK | OK | WARNINGS | [ OK ] | |||||||
| machv2 | macOS 10.14.6 Mojave / x86_64 | OK | OK | OK | OK |
| Package: CINdex |
| Version: 1.16.0 |
| Command: rm -rf CINdex.buildbin-libdir && mkdir CINdex.buildbin-libdir && C:\Users\biocbuild\bbs-3.11-bioc\R\bin\R.exe CMD INSTALL --merge-multiarch --build --library=CINdex.buildbin-libdir CINdex_1.16.0.tar.gz |
| StartedAt: 2020-10-17 10:06:49 -0400 (Sat, 17 Oct 2020) |
| EndedAt: 2020-10-17 10:07:36 -0400 (Sat, 17 Oct 2020) |
| EllapsedTime: 47.1 seconds |
| RetCode: 0 |
| Status: OK |
| PackageFile: CINdex_1.16.0.zip |
| PackageFileSize: 17.8 MiB |
##############################################################################
##############################################################################
###
### Running command:
###
### rm -rf CINdex.buildbin-libdir && mkdir CINdex.buildbin-libdir && C:\Users\biocbuild\bbs-3.11-bioc\R\bin\R.exe CMD INSTALL --merge-multiarch --build --library=CINdex.buildbin-libdir CINdex_1.16.0.tar.gz
###
##############################################################################
##############################################################################
install for i386
* installing *source* package 'CINdex' ...
** using staged installation
** R
** data
*** moving datasets to lazyload DB
** inst
** byte-compile and prepare package for lazy loading
Warning: replacing previous import 'IRanges::windows' by 'grDevices::windows' when loading 'CINdex'
** help
*** installing help indices
converting help for package 'CINdex'
finding HTML links ... done
clin.crc html
cnvgr.18.auto html
comp.heatmap html
cyto.cin4heatmap html
cytobands.cin html
extract.genes.in.cyto.regions html
geneAnno html
grl.data html
hg18.ucsctrack html
run.cin.chr html
run.cin.cyto html
snpgr.18.auto html
ttest.cyto.cin.heatmap html
** building package indices
** installing vignettes
** testing if installed package can be loaded from temporary location
Warning: replacing previous import 'IRanges::windows' by 'grDevices::windows' when loading 'CINdex'
** testing if installed package can be loaded from final location
Warning: replacing previous import 'IRanges::windows' by 'grDevices::windows' when loading 'CINdex'
** testing if installed package keeps a record of temporary installation path
install for x64
* installing *source* package 'CINdex' ...
** testing if installed package can be loaded
Warning: replacing previous import 'IRanges::windows' by 'grDevices::windows' when loading 'CINdex'
* MD5 sums
packaged installation of 'CINdex' as CINdex_1.16.0.zip
* DONE (CINdex)