| Back to Multiple platform build/check report for BioC 3.11 |
|
This page was generated on 2020-10-17 11:56:11 -0400 (Sat, 17 Oct 2020).
| TO THE DEVELOPERS/MAINTAINERS OF THE BrowserViz PACKAGE: Please make sure to use the following settings in order to reproduce any error or warning you see on this page. |
| Package 206/1905 | Hostname | OS / Arch | INSTALL | BUILD | CHECK | BUILD BIN | ||||||
| BrowserViz 2.10.0 Paul Shannon
| malbec2 | Linux (Ubuntu 18.04.4 LTS) / x86_64 | OK | OK | OK | |||||||
| tokay2 | Windows Server 2012 R2 Standard / x64 | OK | OK | OK | [ OK ] | |||||||
| machv2 | macOS 10.14.6 Mojave / x86_64 | OK | OK | OK | OK |
| Package: BrowserViz |
| Version: 2.10.0 |
| Command: rm -rf BrowserViz.buildbin-libdir && mkdir BrowserViz.buildbin-libdir && C:\Users\biocbuild\bbs-3.11-bioc\R\bin\R.exe CMD INSTALL --merge-multiarch --build --library=BrowserViz.buildbin-libdir BrowserViz_2.10.0.tar.gz |
| StartedAt: 2020-10-17 09:59:22 -0400 (Sat, 17 Oct 2020) |
| EndedAt: 2020-10-17 09:59:56 -0400 (Sat, 17 Oct 2020) |
| EllapsedTime: 34.1 seconds |
| RetCode: 0 |
| Status: OK |
| PackageFile: BrowserViz_2.10.0.zip |
| PackageFileSize: 431.8 KiB |
##############################################################################
##############################################################################
###
### Running command:
###
### rm -rf BrowserViz.buildbin-libdir && mkdir BrowserViz.buildbin-libdir && C:\Users\biocbuild\bbs-3.11-bioc\R\bin\R.exe CMD INSTALL --merge-multiarch --build --library=BrowserViz.buildbin-libdir BrowserViz_2.10.0.tar.gz
###
##############################################################################
##############################################################################
install for i386
* installing *source* package 'BrowserViz' ...
** using staged installation
** R
** inst
** byte-compile and prepare package for lazy loading
** help
*** installing help indices
converting help for package 'BrowserViz'
finding HTML links ... done
BrowserViz-class html
BrowserViz html
addRMessageHandler html
browserResponseReady html
closeWebSocket html
dispatchMessage html
displayHTMLInDiv html
fromJSON html
getBrowserInfo html
getBrowserResponse html
getBrowserWindowSize html
getBrowserWindowTitle html
handleResponse html
port html
ready html
roundTripTest html
send html
setBrowserWindowTitle html
show html
toJSON html
wait html
webBrowserAvailableForTesting html
** building package indices
** installing vignettes
** testing if installed package can be loaded from temporary location
** testing if installed package can be loaded from final location
** testing if installed package keeps a record of temporary installation path
install for x64
* installing *source* package 'BrowserViz' ...
** testing if installed package can be loaded
* MD5 sums
packaged installation of 'BrowserViz' as BrowserViz_2.10.0.zip
* DONE (BrowserViz)