| Back to Multiple platform build/check report for BioC 3.11 |
|
This page was generated on 2020-10-17 11:54:29 -0400 (Sat, 17 Oct 2020).
| TO THE DEVELOPERS/MAINTAINERS OF THE BridgeDbR PACKAGE: Please make sure to use the following settings in order to reproduce any error or warning you see on this page. |
| Package 205/1905 | Hostname | OS / Arch | INSTALL | BUILD | CHECK | BUILD BIN | ||||||
| BridgeDbR 1.22.0 Egon Willighagen
| malbec2 | Linux (Ubuntu 18.04.4 LTS) / x86_64 | OK | [ OK ] | OK | |||||||
| tokay2 | Windows Server 2012 R2 Standard / x64 | OK | OK | OK | OK | |||||||
| machv2 | macOS 10.14.6 Mojave / x86_64 | OK | OK | OK | OK |
| Package: BridgeDbR |
| Version: 1.22.0 |
| Command: /home/biocbuild/bbs-3.11-bioc/R/bin/R CMD build --keep-empty-dirs --no-resave-data BridgeDbR |
| StartedAt: 2020-10-16 18:04:59 -0400 (Fri, 16 Oct 2020) |
| EndedAt: 2020-10-16 18:05:06 -0400 (Fri, 16 Oct 2020) |
| EllapsedTime: 7.1 seconds |
| RetCode: 0 |
| Status: OK |
| PackageFile: BridgeDbR_1.22.0.tar.gz |
| PackageFileSize: 2.588 MiB |
############################################################################## ############################################################################## ### ### Running command: ### ### /home/biocbuild/bbs-3.11-bioc/R/bin/R CMD build --keep-empty-dirs --no-resave-data BridgeDbR ### ############################################################################## ############################################################################## * checking for file ‘BridgeDbR/DESCRIPTION’ ... OK * preparing ‘BridgeDbR’: * checking DESCRIPTION meta-information ... OK * installing the package to build vignettes * creating vignettes ... OK * checking for LF line-endings in source and make files and shell scripts * checking for empty or unneeded directories * building ‘BridgeDbR_1.22.0.tar.gz’