| Back to Multiple platform build/check report for BioC 3.11 |
|
This page was generated on 2020-10-17 11:58:07 -0400 (Sat, 17 Oct 2020).
| TO THE DEVELOPERS/MAINTAINERS OF THE BiocNeighbors PACKAGE: Please make sure to use the following settings in order to reproduce any error or warning you see on this page. |
| Package 159/1905 | Hostname | OS / Arch | INSTALL | BUILD | CHECK | BUILD BIN | ||||||
| BiocNeighbors 1.6.0 Aaron Lun
| malbec2 | Linux (Ubuntu 18.04.4 LTS) / x86_64 | OK | OK | OK | |||||||
| tokay2 | Windows Server 2012 R2 Standard / x64 | OK | OK | OK | OK | |||||||
| machv2 | macOS 10.14.6 Mojave / x86_64 | OK | OK | [ OK ] | OK |
| Package: BiocNeighbors |
| Version: 1.6.0 |
| Command: /Library/Frameworks/R.framework/Versions/Current/Resources/bin/R CMD check --install=check:BiocNeighbors.install-out.txt --library=/Library/Frameworks/R.framework/Versions/Current/Resources/library --no-vignettes --timings BiocNeighbors_1.6.0.tar.gz |
| StartedAt: 2020-10-16 23:03:43 -0400 (Fri, 16 Oct 2020) |
| EndedAt: 2020-10-16 23:11:46 -0400 (Fri, 16 Oct 2020) |
| EllapsedTime: 483.0 seconds |
| RetCode: 0 |
| Status: OK |
| CheckDir: BiocNeighbors.Rcheck |
| Warnings: 0 |
##############################################################################
##############################################################################
###
### Running command:
###
### /Library/Frameworks/R.framework/Versions/Current/Resources/bin/R CMD check --install=check:BiocNeighbors.install-out.txt --library=/Library/Frameworks/R.framework/Versions/Current/Resources/library --no-vignettes --timings BiocNeighbors_1.6.0.tar.gz
###
##############################################################################
##############################################################################
* using log directory ‘/Users/biocbuild/bbs-3.11-bioc/meat/BiocNeighbors.Rcheck’
* using R version 4.0.3 (2020-10-10)
* using platform: x86_64-apple-darwin17.0 (64-bit)
* using session charset: UTF-8
* using option ‘--no-vignettes’
* checking for file ‘BiocNeighbors/DESCRIPTION’ ... OK
* this is package ‘BiocNeighbors’ version ‘1.6.0’
* checking package namespace information ... OK
* checking package dependencies ... OK
* checking if this is a source package ... OK
* checking if there is a namespace ... OK
* checking for hidden files and directories ... OK
* checking for portable file names ... OK
* checking for sufficient/correct file permissions ... OK
* checking whether package ‘BiocNeighbors’ can be installed ... OK
* checking installed package size ... OK
* checking package directory ... OK
* checking ‘build’ directory ... OK
* checking DESCRIPTION meta-information ... OK
* checking top-level files ... OK
* checking for left-over files ... OK
* checking index information ... OK
* checking package subdirectories ... OK
* checking R files for non-ASCII characters ... OK
* checking R files for syntax errors ... OK
* checking whether the package can be loaded ... OK
* checking whether the package can be loaded with stated dependencies ... OK
* checking whether the package can be unloaded cleanly ... OK
* checking whether the namespace can be loaded with stated dependencies ... OK
* checking whether the namespace can be unloaded cleanly ... OK
* checking dependencies in R code ... OK
* checking S3 generic/method consistency ... OK
* checking replacement functions ... OK
* checking foreign function calls ... OK
* checking R code for possible problems ... OK
* checking Rd files ... OK
* checking Rd metadata ... OK
* checking Rd cross-references ... OK
* checking for missing documentation entries ... OK
* checking for code/documentation mismatches ... OK
* checking Rd \usage sections ... OK
* checking Rd contents ... OK
* checking for unstated dependencies in examples ... OK
* checking line endings in C/C++/Fortran sources/headers ... OK
* checking compiled code ... NOTE
Note: information on .o files is not available
* checking files in ‘vignettes’ ... OK
* checking examples ... OK
Examples with CPU (user + system) or elapsed time > 5s
user system elapsed
rangeFind-methods 7.213 0.478 7.707
findKNN 7.345 0.092 7.464
findNeighbors 6.128 0.012 6.239
find-methods 5.231 0.097 5.369
* checking for unstated dependencies in ‘tests’ ... OK
* checking tests ...
Running ‘testthat.R’
OK
* checking for unstated dependencies in vignettes ... OK
* checking package vignettes in ‘inst/doc’ ... OK
* checking running R code from vignettes ... SKIPPED
* checking re-building of vignette outputs ... SKIPPED
* checking PDF version of manual ... OK
* DONE
Status: 1 NOTE
See
‘/Users/biocbuild/bbs-3.11-bioc/meat/BiocNeighbors.Rcheck/00check.log’
for details.
BiocNeighbors.Rcheck/00install.out
############################################################################## ############################################################################## ### ### Running command: ### ### /Library/Frameworks/R.framework/Versions/Current/Resources/bin/R CMD INSTALL BiocNeighbors ### ############################################################################## ############################################################################## * installing to library ‘/Library/Frameworks/R.framework/Versions/4.0/Resources/library’ * installing *source* package ‘BiocNeighbors’ ... ** using staged installation ** libs clang++ -mmacosx-version-min=10.13 -std=gnu++11 -I"/Library/Frameworks/R.framework/Resources/include" -DNDEBUG -I'/Library/Frameworks/R.framework/Versions/4.0/Resources/library/Rcpp/include' -I'/Library/Frameworks/R.framework/Versions/4.0/Resources/library/RcppAnnoy/include' -I'/Library/Frameworks/R.framework/Versions/4.0/Resources/library/RcppHNSW/include' -I/usr/local/include -fPIC -Wall -g -O2 -c RcppExports.cpp -o RcppExports.o clang++ -mmacosx-version-min=10.13 -std=gnu++11 -I"/Library/Frameworks/R.framework/Resources/include" -DNDEBUG -I'/Library/Frameworks/R.framework/Versions/4.0/Resources/library/Rcpp/include' -I'/Library/Frameworks/R.framework/Versions/4.0/Resources/library/RcppAnnoy/include' -I'/Library/Frameworks/R.framework/Versions/4.0/Resources/library/RcppHNSW/include' -I/usr/local/include -fPIC -Wall -g -O2 -c annoy.cpp -o annoy.o clang++ -mmacosx-version-min=10.13 -std=gnu++11 -I"/Library/Frameworks/R.framework/Resources/include" -DNDEBUG -I'/Library/Frameworks/R.framework/Versions/4.0/Resources/library/Rcpp/include' -I'/Library/Frameworks/R.framework/Versions/4.0/Resources/library/RcppAnnoy/include' -I'/Library/Frameworks/R.framework/Versions/4.0/Resources/library/RcppHNSW/include' -I/usr/local/include -fPIC -Wall -g -O2 -c build_annoy.cpp -o build_annoy.o clang++ -mmacosx-version-min=10.13 -std=gnu++11 -I"/Library/Frameworks/R.framework/Resources/include" -DNDEBUG -I'/Library/Frameworks/R.framework/Versions/4.0/Resources/library/Rcpp/include' -I'/Library/Frameworks/R.framework/Versions/4.0/Resources/library/RcppAnnoy/include' -I'/Library/Frameworks/R.framework/Versions/4.0/Resources/library/RcppHNSW/include' -I/usr/local/include -fPIC -Wall -g -O2 -c build_hnsw.cpp -o build_hnsw.o clang++ -mmacosx-version-min=10.13 -std=gnu++11 -I"/Library/Frameworks/R.framework/Resources/include" -DNDEBUG -I'/Library/Frameworks/R.framework/Versions/4.0/Resources/library/Rcpp/include' -I'/Library/Frameworks/R.framework/Versions/4.0/Resources/library/RcppAnnoy/include' -I'/Library/Frameworks/R.framework/Versions/4.0/Resources/library/RcppHNSW/include' -I/usr/local/include -fPIC -Wall -g -O2 -c build_vptree.cpp -o build_vptree.o clang++ -mmacosx-version-min=10.13 -std=gnu++11 -I"/Library/Frameworks/R.framework/Resources/include" -DNDEBUG -I'/Library/Frameworks/R.framework/Versions/4.0/Resources/library/Rcpp/include' -I'/Library/Frameworks/R.framework/Versions/4.0/Resources/library/RcppAnnoy/include' -I'/Library/Frameworks/R.framework/Versions/4.0/Resources/library/RcppHNSW/include' -I/usr/local/include -fPIC -Wall -g -O2 -c distances.cpp -o distances.o clang++ -mmacosx-version-min=10.13 -std=gnu++11 -I"/Library/Frameworks/R.framework/Resources/include" -DNDEBUG -I'/Library/Frameworks/R.framework/Versions/4.0/Resources/library/Rcpp/include' -I'/Library/Frameworks/R.framework/Versions/4.0/Resources/library/RcppAnnoy/include' -I'/Library/Frameworks/R.framework/Versions/4.0/Resources/library/RcppHNSW/include' -I/usr/local/include -fPIC -Wall -g -O2 -c exhaustive.cpp -o exhaustive.o clang++ -mmacosx-version-min=10.13 -std=gnu++11 -I"/Library/Frameworks/R.framework/Resources/include" -DNDEBUG -I'/Library/Frameworks/R.framework/Versions/4.0/Resources/library/Rcpp/include' -I'/Library/Frameworks/R.framework/Versions/4.0/Resources/library/RcppAnnoy/include' -I'/Library/Frameworks/R.framework/Versions/4.0/Resources/library/RcppHNSW/include' -I/usr/local/include -fPIC -Wall -g -O2 -c find_annoy.cpp -o find_annoy.o clang++ -mmacosx-version-min=10.13 -std=gnu++11 -I"/Library/Frameworks/R.framework/Resources/include" -DNDEBUG -I'/Library/Frameworks/R.framework/Versions/4.0/Resources/library/Rcpp/include' -I'/Library/Frameworks/R.framework/Versions/4.0/Resources/library/RcppAnnoy/include' -I'/Library/Frameworks/R.framework/Versions/4.0/Resources/library/RcppHNSW/include' -I/usr/local/include -fPIC -Wall -g -O2 -c find_exhaustive.cpp -o find_exhaustive.o clang++ -mmacosx-version-min=10.13 -std=gnu++11 -I"/Library/Frameworks/R.framework/Resources/include" -DNDEBUG -I'/Library/Frameworks/R.framework/Versions/4.0/Resources/library/Rcpp/include' -I'/Library/Frameworks/R.framework/Versions/4.0/Resources/library/RcppAnnoy/include' -I'/Library/Frameworks/R.framework/Versions/4.0/Resources/library/RcppHNSW/include' -I/usr/local/include -fPIC -Wall -g -O2 -c find_hnsw.cpp -o find_hnsw.o clang++ -mmacosx-version-min=10.13 -std=gnu++11 -I"/Library/Frameworks/R.framework/Resources/include" -DNDEBUG -I'/Library/Frameworks/R.framework/Versions/4.0/Resources/library/Rcpp/include' -I'/Library/Frameworks/R.framework/Versions/4.0/Resources/library/RcppAnnoy/include' -I'/Library/Frameworks/R.framework/Versions/4.0/Resources/library/RcppHNSW/include' -I/usr/local/include -fPIC -Wall -g -O2 -c find_kmknn.cpp -o find_kmknn.o clang++ -mmacosx-version-min=10.13 -std=gnu++11 -I"/Library/Frameworks/R.framework/Resources/include" -DNDEBUG -I'/Library/Frameworks/R.framework/Versions/4.0/Resources/library/Rcpp/include' -I'/Library/Frameworks/R.framework/Versions/4.0/Resources/library/RcppAnnoy/include' -I'/Library/Frameworks/R.framework/Versions/4.0/Resources/library/RcppHNSW/include' -I/usr/local/include -fPIC -Wall -g -O2 -c find_vptree.cpp -o find_vptree.o clang++ -mmacosx-version-min=10.13 -std=gnu++11 -I"/Library/Frameworks/R.framework/Resources/include" -DNDEBUG -I'/Library/Frameworks/R.framework/Versions/4.0/Resources/library/Rcpp/include' -I'/Library/Frameworks/R.framework/Versions/4.0/Resources/library/RcppAnnoy/include' -I'/Library/Frameworks/R.framework/Versions/4.0/Resources/library/RcppHNSW/include' -I/usr/local/include -fPIC -Wall -g -O2 -c hnsw.cpp -o hnsw.o clang++ -mmacosx-version-min=10.13 -std=gnu++11 -I"/Library/Frameworks/R.framework/Resources/include" -DNDEBUG -I'/Library/Frameworks/R.framework/Versions/4.0/Resources/library/Rcpp/include' -I'/Library/Frameworks/R.framework/Versions/4.0/Resources/library/RcppAnnoy/include' -I'/Library/Frameworks/R.framework/Versions/4.0/Resources/library/RcppHNSW/include' -I/usr/local/include -fPIC -Wall -g -O2 -c kmknn.cpp -o kmknn.o clang++ -mmacosx-version-min=10.13 -std=gnu++11 -I"/Library/Frameworks/R.framework/Resources/include" -DNDEBUG -I'/Library/Frameworks/R.framework/Versions/4.0/Resources/library/Rcpp/include' -I'/Library/Frameworks/R.framework/Versions/4.0/Resources/library/RcppAnnoy/include' -I'/Library/Frameworks/R.framework/Versions/4.0/Resources/library/RcppHNSW/include' -I/usr/local/include -fPIC -Wall -g -O2 -c query_annoy.cpp -o query_annoy.o clang++ -mmacosx-version-min=10.13 -std=gnu++11 -I"/Library/Frameworks/R.framework/Resources/include" -DNDEBUG -I'/Library/Frameworks/R.framework/Versions/4.0/Resources/library/Rcpp/include' -I'/Library/Frameworks/R.framework/Versions/4.0/Resources/library/RcppAnnoy/include' -I'/Library/Frameworks/R.framework/Versions/4.0/Resources/library/RcppHNSW/include' -I/usr/local/include -fPIC -Wall -g -O2 -c query_exhaustive.cpp -o query_exhaustive.o clang++ -mmacosx-version-min=10.13 -std=gnu++11 -I"/Library/Frameworks/R.framework/Resources/include" -DNDEBUG -I'/Library/Frameworks/R.framework/Versions/4.0/Resources/library/Rcpp/include' -I'/Library/Frameworks/R.framework/Versions/4.0/Resources/library/RcppAnnoy/include' -I'/Library/Frameworks/R.framework/Versions/4.0/Resources/library/RcppHNSW/include' -I/usr/local/include -fPIC -Wall -g -O2 -c query_hnsw.cpp -o query_hnsw.o clang++ -mmacosx-version-min=10.13 -std=gnu++11 -I"/Library/Frameworks/R.framework/Resources/include" -DNDEBUG -I'/Library/Frameworks/R.framework/Versions/4.0/Resources/library/Rcpp/include' -I'/Library/Frameworks/R.framework/Versions/4.0/Resources/library/RcppAnnoy/include' -I'/Library/Frameworks/R.framework/Versions/4.0/Resources/library/RcppHNSW/include' -I/usr/local/include -fPIC -Wall -g -O2 -c query_kmknn.cpp -o query_kmknn.o clang++ -mmacosx-version-min=10.13 -std=gnu++11 -I"/Library/Frameworks/R.framework/Resources/include" -DNDEBUG -I'/Library/Frameworks/R.framework/Versions/4.0/Resources/library/Rcpp/include' -I'/Library/Frameworks/R.framework/Versions/4.0/Resources/library/RcppAnnoy/include' -I'/Library/Frameworks/R.framework/Versions/4.0/Resources/library/RcppHNSW/include' -I/usr/local/include -fPIC -Wall -g -O2 -c query_vptree.cpp -o query_vptree.o clang++ -mmacosx-version-min=10.13 -std=gnu++11 -I"/Library/Frameworks/R.framework/Resources/include" -DNDEBUG -I'/Library/Frameworks/R.framework/Versions/4.0/Resources/library/Rcpp/include' -I'/Library/Frameworks/R.framework/Versions/4.0/Resources/library/RcppAnnoy/include' -I'/Library/Frameworks/R.framework/Versions/4.0/Resources/library/RcppHNSW/include' -I/usr/local/include -fPIC -Wall -g -O2 -c utils.cpp -o utils.o clang++ -mmacosx-version-min=10.13 -std=gnu++11 -I"/Library/Frameworks/R.framework/Resources/include" -DNDEBUG -I'/Library/Frameworks/R.framework/Versions/4.0/Resources/library/Rcpp/include' -I'/Library/Frameworks/R.framework/Versions/4.0/Resources/library/RcppAnnoy/include' -I'/Library/Frameworks/R.framework/Versions/4.0/Resources/library/RcppHNSW/include' -I/usr/local/include -fPIC -Wall -g -O2 -c vptree.cpp -o vptree.o clang++ -mmacosx-version-min=10.13 -std=gnu++11 -dynamiclib -Wl,-headerpad_max_install_names -undefined dynamic_lookup -single_module -multiply_defined suppress -L/Library/Frameworks/R.framework/Resources/lib -L/usr/local/lib -o BiocNeighbors.so RcppExports.o annoy.o build_annoy.o build_hnsw.o build_vptree.o distances.o exhaustive.o find_annoy.o find_exhaustive.o find_hnsw.o find_kmknn.o find_vptree.o hnsw.o kmknn.o query_annoy.o query_exhaustive.o query_hnsw.o query_kmknn.o query_vptree.o utils.o vptree.o -F/Library/Frameworks/R.framework/.. -framework R -Wl,-framework -Wl,CoreFoundation installing to /Library/Frameworks/R.framework/Versions/4.0/Resources/library/00LOCK-BiocNeighbors/00new/BiocNeighbors/libs ** R ** inst ** byte-compile and prepare package for lazy loading ** help *** installing help indices ** building package indices ** installing vignettes ** testing if installed package can be loaded from temporary location ** checking absolute paths in shared objects and dynamic libraries ** testing if installed package can be loaded from final location ** testing if installed package keeps a record of temporary installation path * DONE (BiocNeighbors)
BiocNeighbors.Rcheck/tests/testthat.Rout
R version 4.0.3 (2020-10-10) -- "Bunny-Wunnies Freak Out"
Copyright (C) 2020 The R Foundation for Statistical Computing
Platform: x86_64-apple-darwin17.0 (64-bit)
R is free software and comes with ABSOLUTELY NO WARRANTY.
You are welcome to redistribute it under certain conditions.
Type 'license()' or 'licence()' for distribution details.
R is a collaborative project with many contributors.
Type 'contributors()' for more information and
'citation()' on how to cite R or R packages in publications.
Type 'demo()' for some demos, 'help()' for on-line help, or
'help.start()' for an HTML browser interface to help.
Type 'q()' to quit R.
> library(testthat)
> library(BiocNeighbors)
> test_check("BiocNeighbors")
══ testthat results ═══════════════════════════════════════════════════════════
[ OK: 3441 | SKIPPED: 0 | WARNINGS: 44 | FAILED: 0 ]
>
> proc.time()
user system elapsed
135.815 9.457 345.351
BiocNeighbors.Rcheck/BiocNeighbors-Ex.timings
| name | user | system | elapsed | |
| AnnoyIndex | 0.475 | 0.036 | 0.532 | |
| AnnoyParam | 0.014 | 0.001 | 0.015 | |
| BiocNeighbors-raw-index | 1.912 | 0.016 | 1.935 | |
| BiocNeighbors-ties | 0.01 | 0.00 | 0.01 | |
| ExhaustiveIndex | 0.022 | 0.002 | 0.024 | |
| ExhaustiveParam | 0.003 | 0.000 | 0.004 | |
| HnswIndex | 0.900 | 0.016 | 0.921 | |
| HnswParam | 0.004 | 0.001 | 0.005 | |
| KmknnIndex | 0.437 | 0.020 | 0.459 | |
| KmknnParam | 0.004 | 0.000 | 0.005 | |
| VptreeIndex | 0.038 | 0.002 | 0.040 | |
| VptreeParam | 0.004 | 0.001 | 0.004 | |
| buildAnnoy | 0.427 | 0.035 | 0.539 | |
| buildExhaustive | 0.014 | 0.002 | 0.015 | |
| buildHnsw | 0.961 | 0.016 | 0.980 | |
| buildIndex | 0.715 | 0.042 | 0.769 | |
| buildKmknn | 0.215 | 0.005 | 0.221 | |
| buildVptree | 0.022 | 0.001 | 0.022 | |
| find-methods | 5.231 | 0.097 | 5.369 | |
| findKNN | 7.345 | 0.092 | 7.464 | |
| findNeighbors | 6.128 | 0.012 | 6.239 | |
| query-methods | 2.523 | 0.062 | 2.611 | |
| queryKNN | 2.159 | 0.059 | 2.226 | |
| queryNeighbors | 1.068 | 0.005 | 1.076 | |
| rangeFind-methods | 7.213 | 0.478 | 7.707 | |
| rangeQuery-methods | 0.539 | 0.008 | 0.548 | |