| Back to Multiple platform build/check report for BioC 3.11 |
|
This page was generated on 2020-10-17 11:56:10 -0400 (Sat, 17 Oct 2020).
| TO THE DEVELOPERS/MAINTAINERS OF THE BioMM PACKAGE: Please make sure to use the following settings in order to reproduce any error or warning you see on this page. |
| Package 174/1905 | Hostname | OS / Arch | INSTALL | BUILD | CHECK | BUILD BIN | ||||||
| BioMM 1.4.0 Junfang Chen
| malbec2 | Linux (Ubuntu 18.04.4 LTS) / x86_64 | OK | OK | OK | |||||||
| tokay2 | Windows Server 2012 R2 Standard / x64 | OK | OK | OK | [ OK ] | |||||||
| machv2 | macOS 10.14.6 Mojave / x86_64 | OK | OK | OK | OK |
| Package: BioMM |
| Version: 1.4.0 |
| Command: rm -rf BioMM.buildbin-libdir && mkdir BioMM.buildbin-libdir && C:\Users\biocbuild\bbs-3.11-bioc\R\bin\R.exe CMD INSTALL --merge-multiarch --build --library=BioMM.buildbin-libdir BioMM_1.4.0.tar.gz |
| StartedAt: 2020-10-17 09:57:11 -0400 (Sat, 17 Oct 2020) |
| EndedAt: 2020-10-17 09:58:11 -0400 (Sat, 17 Oct 2020) |
| EllapsedTime: 60.8 seconds |
| RetCode: 0 |
| Status: OK |
| PackageFile: BioMM_1.4.0.zip |
| PackageFileSize: 4.547 MiB |
##############################################################################
##############################################################################
###
### Running command:
###
### rm -rf BioMM.buildbin-libdir && mkdir BioMM.buildbin-libdir && C:\Users\biocbuild\bbs-3.11-bioc\R\bin\R.exe CMD INSTALL --merge-multiarch --build --library=BioMM.buildbin-libdir BioMM_1.4.0.tar.gz
###
##############################################################################
##############################################################################
install for i386
* installing *source* package 'BioMM' ...
** using staged installation
** R
** inst
** byte-compile and prepare package for lazy loading
** help
*** installing help indices
converting help for package 'BioMM'
finding HTML links ... done
BioMM html
BioMMstage2pred html
baseGLMnet html
baseModel html
baseRandForest html
baseSVM html
cirPlot4pathway html
classifiACC html
getDataByFilter html
getMetrics html
omics2pathlist html
plotRankedFeature html
plotVarExplained html
predByBS html
predByCV html
predByFS html
reconBySupervised html
reconByUnsupervised html
** building package indices
** installing vignettes
** testing if installed package can be loaded from temporary location
** testing if installed package can be loaded from final location
** testing if installed package keeps a record of temporary installation path
install for x64
* installing *source* package 'BioMM' ...
** testing if installed package can be loaded
* MD5 sums
packaged installation of 'BioMM' as BioMM_1.4.0.zip
* DONE (BioMM)