| Back to Multiple platform build/check report for BioC 3.11 |
|
This page was generated on 2020-10-17 11:54:25 -0400 (Sat, 17 Oct 2020).
| TO THE DEVELOPERS/MAINTAINERS OF THE BgeeCall PACKAGE: Please make sure to use the following settings in order to reproduce any error or warning you see on this page. |
| Package 137/1905 | Hostname | OS / Arch | INSTALL | BUILD | CHECK | BUILD BIN | ||||||
| BgeeCall 1.4.1 Julien Wollbrett
| malbec2 | Linux (Ubuntu 18.04.4 LTS) / x86_64 | OK | OK | [ OK ] | |||||||
| tokay2 | Windows Server 2012 R2 Standard / x64 | OK | OK | OK | OK | |||||||
| machv2 | macOS 10.14.6 Mojave / x86_64 | OK | OK | OK | OK |
| Package: BgeeCall |
| Version: 1.4.1 |
| Command: /home/biocbuild/bbs-3.11-bioc/R/bin/R CMD check --install=check:BgeeCall.install-out.txt --library=/home/biocbuild/bbs-3.11-bioc/R/library --no-vignettes --timings BgeeCall_1.4.1.tar.gz |
| StartedAt: 2020-10-16 23:10:28 -0400 (Fri, 16 Oct 2020) |
| EndedAt: 2020-10-16 23:17:14 -0400 (Fri, 16 Oct 2020) |
| EllapsedTime: 406.3 seconds |
| RetCode: 0 |
| Status: OK |
| CheckDir: BgeeCall.Rcheck |
| Warnings: 0 |
##############################################################################
##############################################################################
###
### Running command:
###
### /home/biocbuild/bbs-3.11-bioc/R/bin/R CMD check --install=check:BgeeCall.install-out.txt --library=/home/biocbuild/bbs-3.11-bioc/R/library --no-vignettes --timings BgeeCall_1.4.1.tar.gz
###
##############################################################################
##############################################################################
* using log directory ‘/home/biocbuild/bbs-3.11-bioc/meat/BgeeCall.Rcheck’
* using R version 4.0.3 (2020-10-10)
* using platform: x86_64-pc-linux-gnu (64-bit)
* using session charset: UTF-8
* using option ‘--no-vignettes’
* checking for file ‘BgeeCall/DESCRIPTION’ ... OK
* checking extension type ... Package
* this is package ‘BgeeCall’ version ‘1.4.1’
* package encoding: UTF-8
* checking package namespace information ... OK
* checking package dependencies ... OK
* checking if this is a source package ... OK
* checking if there is a namespace ... OK
* checking for hidden files and directories ... OK
* checking for portable file names ... OK
* checking for sufficient/correct file permissions ... OK
* checking whether package ‘BgeeCall’ can be installed ... OK
* checking installed package size ... NOTE
installed size is 9.1Mb
sub-directories of 1Mb or more:
extdata 8.7Mb
* checking package directory ... OK
* checking ‘build’ directory ... OK
* checking DESCRIPTION meta-information ... OK
* checking top-level files ... OK
* checking for left-over files ... OK
* checking index information ... OK
* checking package subdirectories ... OK
* checking R files for non-ASCII characters ... OK
* checking R files for syntax errors ... OK
* checking whether the package can be loaded ... OK
* checking whether the package can be loaded with stated dependencies ... OK
* checking whether the package can be unloaded cleanly ... OK
* checking whether the namespace can be loaded with stated dependencies ... OK
* checking whether the namespace can be unloaded cleanly ... OK
* checking dependencies in R code ... OK
* checking S3 generic/method consistency ... OK
* checking replacement functions ... OK
* checking foreign function calls ... OK
* checking R code for possible problems ... OK
* checking Rd files ... OK
* checking Rd metadata ... OK
* checking Rd cross-references ... OK
* checking for missing documentation entries ... OK
* checking for code/documentation mismatches ... OK
* checking Rd \usage sections ... OK
* checking Rd contents ... OK
* checking for unstated dependencies in examples ... OK
* checking files in ‘vignettes’ ... OK
* checking examples ... OK
Examples with CPU (user + system) or elapsed time > 5s
user system elapsed
generate_presence_absence 6.544 0.232 12.660
merge_transcriptome_and_intergenic 0.429 0.028 5.803
list_bgee_ref_intergenic_species 0.018 0.004 7.199
* checking for unstated dependencies in ‘tests’ ... OK
* checking tests ...
Running ‘testthat.R’
OK
* checking for unstated dependencies in vignettes ... OK
* checking package vignettes in ‘inst/doc’ ... OK
* checking running R code from vignettes ... SKIPPED
* checking re-building of vignette outputs ... SKIPPED
* checking PDF version of manual ... OK
* DONE
Status: 1 NOTE
See
‘/home/biocbuild/bbs-3.11-bioc/meat/BgeeCall.Rcheck/00check.log’
for details.
BgeeCall.Rcheck/00install.out
############################################################################## ############################################################################## ### ### Running command: ### ### /home/biocbuild/bbs-3.11-bioc/R/bin/R CMD INSTALL BgeeCall ### ############################################################################## ############################################################################## * installing to library ‘/home/biocbuild/bbs-3.11-bioc/R/library’ * installing *source* package ‘BgeeCall’ ... ** using staged installation ** R ** inst ** byte-compile and prepare package for lazy loading ** help *** installing help indices ** building package indices ** installing vignettes ** testing if installed package can be loaded from temporary location ** testing if installed package can be loaded from final location ** testing if installed package keeps a record of temporary installation path * DONE (BgeeCall)
BgeeCall.Rcheck/tests/testthat.Rout
R version 4.0.3 (2020-10-10) -- "Bunny-Wunnies Freak Out"
Copyright (C) 2020 The R Foundation for Statistical Computing
Platform: x86_64-pc-linux-gnu (64-bit)
R is free software and comes with ABSOLUTELY NO WARRANTY.
You are welcome to redistribute it under certain conditions.
Type 'license()' or 'licence()' for distribution details.
R is a collaborative project with many contributors.
Type 'contributors()' for more information and
'citation()' on how to cite R or R packages in publications.
Type 'demo()' for some demos, 'help()' for on-line help, or
'help.start()' for an HTML browser interface to help.
Type 'q()' to quit R.
> library(testthat)
> library(BgeeCall)
>
> Sys.setenv("R_TESTS" = "")
> test_check("BgeeCall")
trying URL 'ftp://ftp.bgee.org/intergenic/0.1/ref_intergenic/6239_intergenic.fa.gz'
Content type 'unknown' length 4420457 bytes (4.2 MB)
==================================================
trying URL 'ftp://ftp.bgee.org/intergenic/0.1/ref_intergenic/6239_intergenic.fa.gz'
Content type 'unknown' length 4420457 bytes (4.2 MB)
==================================================
trying URL 'ftp://ftp.bgee.org/intergenic/0.1/ref_intergenic/6239_intergenic.fa.gz'
Content type 'unknown' length 4420457 bytes (4.2 MB)
==================================================
trying URL 'ftp://ftp.bgee.org/intergenic/0.1/ref_intergenic/6239_intergenic.fa.gz'
Content type 'unknown' length 4420457 bytes (4.2 MB)
==================================================
══ testthat results ═══════════════════════════════════════════════════════════
[ OK: 15 | SKIPPED: 0 | WARNINGS: 0 | FAILED: 0 ]
>
> proc.time()
user system elapsed
29.062 1.065 59.941
BgeeCall.Rcheck/BgeeCall-Ex.timings
| name | user | system | elapsed | |
| create_kallisto_index | 0.000 | 0.000 | 0.001 | |
| download_fasta_intergenic | 0.002 | 0.000 | 0.002 | |
| download_kallisto | 0.439 | 0.130 | 3.117 | |
| generate_calls_workflow | 0.000 | 0.000 | 0.001 | |
| generate_presence_absence | 6.544 | 0.232 | 12.660 | |
| getIntergenicPrefix | 0.008 | 0.000 | 1.516 | |
| getIntergenicRelease | 0.002 | 0.003 | 1.609 | |
| getRunIds | 0.001 | 0.000 | 0.001 | |
| getSimpleArborescence | 0.001 | 0.000 | 0.001 | |
| getWorkingPath | 0.001 | 0.000 | 0.001 | |
| list_bgee_ref_intergenic_species | 0.018 | 0.004 | 7.199 | |
| list_community_ref_intergenic_species | 0.187 | 0.004 | 0.601 | |
| list_intergenic_release | 0.008 | 0.000 | 1.710 | |
| merge_transcriptome_and_intergenic | 0.429 | 0.028 | 5.803 | |
| run_kallisto | 0 | 0 | 0 | |
| run_tximport | 1.273 | 0.040 | 2.727 | |
| setAnnotationFromFile | 2.661 | 0.212 | 4.810 | |
| setAnnotationFromObject | 0.329 | 0.008 | 1.401 | |
| setIntergenicRelease | 0.007 | 0.000 | 1.467 | |
| setOutputDir | 0.001 | 0.000 | 0.000 | |
| setRNASeqLibPath | 0.001 | 0.000 | 0.000 | |
| setRunIds | 0.000 | 0.000 | 0.001 | |
| setSimpleArborescence | 0.000 | 0.001 | 0.001 | |
| setTranscriptomeFromFile | 0.022 | 0.002 | 0.025 | |
| setTranscriptomeFromObject | 0.011 | 0.000 | 0.010 | |
| setWorkingPath | 0.001 | 0.000 | 0.000 | |