| Back to Multiple platform build/check report for BioC 3.11 | 
  | 
This page was generated on 2020-10-17 11:58:05 -0400 (Sat, 17 Oct 2020).
| TO THE DEVELOPERS/MAINTAINERS OF THE BasicSTARRseq PACKAGE: Please make sure to use the following settings in order to reproduce any error or warning you see on this page. | 
| Package 116/1905 | Hostname | OS / Arch | INSTALL | BUILD | CHECK | BUILD BIN | ||||||
| BasicSTARRseq 1.16.0 Annika Buerger 
  | malbec2 | Linux (Ubuntu 18.04.4 LTS) / x86_64 | OK | OK | OK | |||||||
| tokay2 | Windows Server 2012 R2 Standard / x64 | OK | OK | OK | OK | |||||||
| machv2 | macOS 10.14.6 Mojave / x86_64 | OK | OK | OK | [ OK ] | 
| Package: BasicSTARRseq | 
| Version: 1.16.0 | 
| Command: rm -rf BasicSTARRseq.buildbin-libdir && mkdir BasicSTARRseq.buildbin-libdir && /Users/biocbuild/BBS/utils/build-universal.sh BasicSTARRseq_1.16.0.tar.gz /Library/Frameworks/R.framework/Versions/Current/Resources/bin/R BasicSTARRseq.buildbin-libdir | 
| StartedAt: 2020-10-17 06:38:15 -0400 (Sat, 17 Oct 2020) | 
| EndedAt: 2020-10-17 06:38:57 -0400 (Sat, 17 Oct 2020) | 
| EllapsedTime: 42.3 seconds | 
| RetCode: 0 | 
| Status: OK | 
| PackageFile: BasicSTARRseq_1.16.0.tgz | 
| PackageFileSize: 709.5 KiB | 
############################################################################## ############################################################################## ### ### Running command: ### ### rm -rf BasicSTARRseq.buildbin-libdir && mkdir BasicSTARRseq.buildbin-libdir && /Users/biocbuild/BBS/utils/build-universal.sh BasicSTARRseq_1.16.0.tar.gz /Library/Frameworks/R.framework/Versions/Current/Resources/bin/R BasicSTARRseq.buildbin-libdir ### ############################################################################## ############################################################################## >>>>>>> >>>>>>> INSTALLATION WITH 'R CMD INSTALL --preclean --no-multiarch --library=BasicSTARRseq.buildbin-libdir BasicSTARRseq_1.16.0.tar.gz' >>>>>>> * installing *source* package ‘BasicSTARRseq’ ... ** using staged installation ** R ** inst ** byte-compile and prepare package for lazy loading Creating a new generic function for ‘sample’ in package ‘BasicSTARRseq’ ** help *** installing help indices ** building package indices ** installing vignettes ** testing if installed package can be loaded from temporary location ** testing if installed package can be loaded from final location ** testing if installed package keeps a record of temporary installation path * DONE (BasicSTARRseq)