| Back to Multiple platform build/check report for BioC 3.11 | 
  | 
This page was generated on 2020-10-17 11:58:06 -0400 (Sat, 17 Oct 2020).
| TO THE DEVELOPERS/MAINTAINERS OF THE BEARscc PACKAGE: Please make sure to use the following settings in order to reproduce any error or warning you see on this page. | 
| Package 133/1905 | Hostname | OS / Arch | INSTALL | BUILD | CHECK | BUILD BIN | ||||||
| BEARscc 1.8.1 Benjamin Schuster-Boeckler 
  | malbec2 | Linux (Ubuntu 18.04.4 LTS) / x86_64 | OK | OK | OK | |||||||
| tokay2 | Windows Server 2012 R2 Standard / x64 | OK | OK | OK | OK | |||||||
| machv2 | macOS 10.14.6 Mojave / x86_64 | OK | [ OK ] | OK | OK | 
| Package: BEARscc | 
| Version: 1.8.1 | 
| Command: /Library/Frameworks/R.framework/Versions/Current/Resources/bin/R CMD build --keep-empty-dirs --no-resave-data BEARscc | 
| StartedAt: 2020-10-16 17:52:56 -0400 (Fri, 16 Oct 2020) | 
| EndedAt: 2020-10-16 17:54:18 -0400 (Fri, 16 Oct 2020) | 
| EllapsedTime: 81.7 seconds | 
| RetCode: 0 | 
| Status: OK | 
| PackageFile: BEARscc_1.8.1.tar.gz | 
| PackageFileSize: 629.5 KiB | 
############################################################################## ############################################################################## ### ### Running command: ### ### /Library/Frameworks/R.framework/Versions/Current/Resources/bin/R CMD build --keep-empty-dirs --no-resave-data BEARscc ### ############################################################################## ############################################################################## * checking for file ‘BEARscc/DESCRIPTION’ ... OK * preparing ‘BEARscc’: * checking DESCRIPTION meta-information ... OK * installing the package to process help pages * saving partial Rd database * creating vignettes ... OK * checking for LF line-endings in source and make files and shell scripts * checking for empty or unneeded directories * looking to see if a ‘data/datalist’ file should be added NB: this package now depends on R (>= 3.5.0) WARNING: Added dependency on R >= 3.5.0 because serialized objects in serialize/load version 3 cannot be read in older versions of R. File(s) containing such objects: ‘BEARscc/data/BEARscc_examples.RData’ WARNING: Added dependency on R >= 3.5.0 because serialized objects in serialize/load version 3 cannot be read in older versions of R. File(s) containing such objects: ‘BEARscc/data/analysis_examples.RData’ * building ‘BEARscc_1.8.1.tar.gz’