| Back to Multiple platform build/check report for BioC 3.11 | 
  | 
This page was generated on 2020-10-17 11:56:06 -0400 (Sat, 17 Oct 2020).
| TO THE DEVELOPERS/MAINTAINERS OF THE ArrayExpress PACKAGE: Please make sure to use the following settings in order to reproduce any error or warning you see on this page. | 
| Package 78/1905 | Hostname | OS / Arch | INSTALL | BUILD | CHECK | BUILD BIN | ||||||
| ArrayExpress 1.48.0 Suhaib Mohammed 
  | malbec2 | Linux (Ubuntu 18.04.4 LTS) / x86_64 | OK | OK | OK | |||||||
| tokay2 | Windows Server 2012 R2 Standard / x64 | [ OK ] | OK | OK | OK | |||||||
| machv2 | macOS 10.14.6 Mojave / x86_64 | OK | OK | OK | OK | 
| Package: ArrayExpress | 
| Version: 1.48.0 | 
| Command: C:\cygwin\bin\curl.exe -O https://malbec2.bioconductor.org/BBS/3.11/bioc/src/contrib/ArrayExpress_1.48.0.tar.gz && rm -rf ArrayExpress.buildbin-libdir && mkdir ArrayExpress.buildbin-libdir && C:\Users\biocbuild\bbs-3.11-bioc\R\bin\R.exe CMD INSTALL --merge-multiarch --build --library=ArrayExpress.buildbin-libdir ArrayExpress_1.48.0.tar.gz && C:\Users\biocbuild\bbs-3.11-bioc\R\bin\R.exe CMD INSTALL ArrayExpress_1.48.0.zip && rm ArrayExpress_1.48.0.tar.gz ArrayExpress_1.48.0.zip | 
| StartedAt: 2020-10-16 19:02:46 -0400 (Fri, 16 Oct 2020) | 
| EndedAt: 2020-10-16 19:03:41 -0400 (Fri, 16 Oct 2020) | 
| EllapsedTime: 54.6 seconds | 
| RetCode: 0 | 
| Status: OK | 
##############################################################################
##############################################################################
###
### Running command:
###
###   C:\cygwin\bin\curl.exe -O https://malbec2.bioconductor.org/BBS/3.11/bioc/src/contrib/ArrayExpress_1.48.0.tar.gz && rm -rf ArrayExpress.buildbin-libdir && mkdir ArrayExpress.buildbin-libdir && C:\Users\biocbuild\bbs-3.11-bioc\R\bin\R.exe CMD INSTALL --merge-multiarch --build --library=ArrayExpress.buildbin-libdir ArrayExpress_1.48.0.tar.gz && C:\Users\biocbuild\bbs-3.11-bioc\R\bin\R.exe CMD INSTALL ArrayExpress_1.48.0.zip && rm ArrayExpress_1.48.0.tar.gz ArrayExpress_1.48.0.zip
###
##############################################################################
##############################################################################
  % Total    % Received % Xferd  Average Speed   Time    Time     Time  Current
                                 Dload  Upload   Total   Spent    Left  Speed
  0     0    0     0    0     0      0      0 --:--:-- --:--:-- --:--:--     0
 39 41483   39 16384    0     0   128k      0 --:--:-- --:--:-- --:--:--  135k
100 41483  100 41483    0     0   323k      0 --:--:-- --:--:-- --:--:--  340k
install for i386
* installing *source* package 'ArrayExpress' ...
** using staged installation
** R
** inst
** byte-compile and prepare package for lazy loading
No methods found in package 'RSQLite' for request: 'dbListFields' when loading 'oligo'
** help
*** installing help indices
  converting help for package 'ArrayExpress'
    finding HTML links ... done
    ArrayExpress                            html  
    ae2bioc                                 html  
    extract.zip                             html  
    getAE                                   html  
    getcolproc                              html  
    getcolraw                               html  
    procset                                 html  
    queryAE                                 html  
** building package indices
** installing vignettes
** testing if installed package can be loaded from temporary location
No methods found in package 'RSQLite' for request: 'dbListFields' when loading 'oligo'
** testing if installed package can be loaded from final location
No methods found in package 'RSQLite' for request: 'dbListFields' when loading 'oligo'
** testing if installed package keeps a record of temporary installation path
install for x64
* installing *source* package 'ArrayExpress' ...
** testing if installed package can be loaded
No methods found in package 'RSQLite' for request: 'dbListFields' when loading 'oligo'
* MD5 sums
packaged installation of 'ArrayExpress' as ArrayExpress_1.48.0.zip
* DONE (ArrayExpress)
* installing to library 'C:/Users/biocbuild/bbs-3.11-bioc/R/library'
package 'ArrayExpress' successfully unpacked and MD5 sums checked