| Back to Multiple platform build/check report for BioC 3.11 | 
  | 
This page was generated on 2020-10-17 11:58:03 -0400 (Sat, 17 Oct 2020).
| TO THE DEVELOPERS/MAINTAINERS OF THE AnVIL PACKAGE: Please make sure to use the following settings in order to reproduce any error or warning you see on this page. | 
| Package 72/1905 | Hostname | OS / Arch | INSTALL | BUILD | CHECK | BUILD BIN | ||||||
| AnVIL 1.0.3 Martin Morgan 
  | malbec2 | Linux (Ubuntu 18.04.4 LTS) / x86_64 | OK | OK | OK | |||||||
| tokay2 | Windows Server 2012 R2 Standard / x64 | OK | OK | OK | OK | |||||||
| machv2 | macOS 10.14.6 Mojave / x86_64 | OK | OK | OK | [ OK ] | 
| Package: AnVIL | 
| Version: 1.0.3 | 
| Command: rm -rf AnVIL.buildbin-libdir && mkdir AnVIL.buildbin-libdir && /Users/biocbuild/BBS/utils/build-universal.sh AnVIL_1.0.3.tar.gz /Library/Frameworks/R.framework/Versions/Current/Resources/bin/R AnVIL.buildbin-libdir | 
| StartedAt: 2020-10-17 06:35:56 -0400 (Sat, 17 Oct 2020) | 
| EndedAt: 2020-10-17 06:36:28 -0400 (Sat, 17 Oct 2020) | 
| EllapsedTime: 31.9 seconds | 
| RetCode: 0 | 
| Status: OK | 
| PackageFile: AnVIL_1.0.3.tgz | 
| PackageFileSize: 628.1 KiB | 
############################################################################## ############################################################################## ### ### Running command: ### ### rm -rf AnVIL.buildbin-libdir && mkdir AnVIL.buildbin-libdir && /Users/biocbuild/BBS/utils/build-universal.sh AnVIL_1.0.3.tar.gz /Library/Frameworks/R.framework/Versions/Current/Resources/bin/R AnVIL.buildbin-libdir ### ############################################################################## ############################################################################## >>>>>>> >>>>>>> INSTALLATION WITH 'R CMD INSTALL --preclean --no-multiarch --library=AnVIL.buildbin-libdir AnVIL_1.0.3.tar.gz' >>>>>>> * installing *source* package ‘AnVIL’ ... ** using staged installation ** R ** inst ** byte-compile and prepare package for lazy loading ** help *** installing help indices ** building package indices ** installing vignettes ** testing if installed package can be loaded from temporary location ** testing if installed package can be loaded from final location ** testing if installed package keeps a record of temporary installation path * DONE (AnVIL)