Back to Multiple platform build/check report for BioC 3.11 |
|
This page was generated on 2020-10-17 11:56:04 -0400 (Sat, 17 Oct 2020).
TO THE DEVELOPERS/MAINTAINERS OF THE AlphaBeta PACKAGE: Please make sure to use the following settings in order to reproduce any error or warning you see on this page. |
Package 44/1905 | Hostname | OS / Arch | INSTALL | BUILD | CHECK | BUILD BIN | ||||||
AlphaBeta 1.2.3 Yadollah Shahryary Dizaji
| malbec2 | Linux (Ubuntu 18.04.4 LTS) / x86_64 | OK | OK | OK | |||||||
tokay2 | Windows Server 2012 R2 Standard / x64 | OK | OK | [ OK ] | OK | |||||||
machv2 | macOS 10.14.6 Mojave / x86_64 | OK | OK | OK | OK |
Package: AlphaBeta |
Version: 1.2.3 |
Command: C:\Users\biocbuild\bbs-3.11-bioc\R\bin\R.exe CMD check --force-multiarch --install=check:AlphaBeta.install-out.txt --library=C:\Users\biocbuild\bbs-3.11-bioc\R\library --no-vignettes --timings AlphaBeta_1.2.3.tar.gz |
StartedAt: 2020-10-17 01:30:20 -0400 (Sat, 17 Oct 2020) |
EndedAt: 2020-10-17 01:47:27 -0400 (Sat, 17 Oct 2020) |
EllapsedTime: 1027.1 seconds |
RetCode: 0 |
Status: OK |
CheckDir: AlphaBeta.Rcheck |
Warnings: 0 |
############################################################################## ############################################################################## ### ### Running command: ### ### C:\Users\biocbuild\bbs-3.11-bioc\R\bin\R.exe CMD check --force-multiarch --install=check:AlphaBeta.install-out.txt --library=C:\Users\biocbuild\bbs-3.11-bioc\R\library --no-vignettes --timings AlphaBeta_1.2.3.tar.gz ### ############################################################################## ############################################################################## * using log directory 'C:/Users/biocbuild/bbs-3.11-bioc/meat/AlphaBeta.Rcheck' * using R version 4.0.3 (2020-10-10) * using platform: x86_64-w64-mingw32 (64-bit) * using session charset: ISO8859-1 * using option '--no-vignettes' * checking for file 'AlphaBeta/DESCRIPTION' ... OK * checking extension type ... Package * this is package 'AlphaBeta' version '1.2.3' * package encoding: UTF-8 * checking package namespace information ... OK * checking package dependencies ... OK * checking if this is a source package ... OK * checking if there is a namespace ... OK * checking for hidden files and directories ... OK * checking for portable file names ... OK * checking whether package 'AlphaBeta' can be installed ... OK * checking installed package size ... OK * checking package directory ... OK * checking 'build' directory ... OK * checking DESCRIPTION meta-information ... OK * checking top-level files ... NOTE File LICENSE is not mentioned in the DESCRIPTION file. * checking for left-over files ... OK * checking index information ... OK * checking package subdirectories ... OK * checking R files for non-ASCII characters ... OK * checking R files for syntax errors ... OK * loading checks for arch 'i386' ** checking whether the package can be loaded ... OK ** checking whether the package can be loaded with stated dependencies ... OK ** checking whether the package can be unloaded cleanly ... OK ** checking whether the namespace can be loaded with stated dependencies ... OK ** checking whether the namespace can be unloaded cleanly ... OK * loading checks for arch 'x64' ** checking whether the package can be loaded ... OK ** checking whether the package can be loaded with stated dependencies ... OK ** checking whether the package can be unloaded cleanly ... OK ** checking whether the namespace can be loaded with stated dependencies ... OK ** checking whether the namespace can be unloaded cleanly ... OK * checking dependencies in R code ... OK * checking S3 generic/method consistency ... OK * checking replacement functions ... OK * checking foreign function calls ... OK * checking R code for possible problems ... NOTE ABplot: no visible binding for global variable 'delta.t' ABplot: no visible binding for global variable 'div.obs' BOOTmodel : LSE_intercept: no visible binding for global variable 'sel' BOOTmodel: no visible binding for global variable 'sel' BOOTmodel: multiple local function definitions for 'divergence' with different formal arguments plotPedigree: no visible binding for global variable 'meth' plotPedigree: no visible binding for global variable 'V1' plotPedigree: no visible binding for global variable 'V2' Undefined global functions or variables: V1 V2 delta.t div.obs meth sel * checking Rd files ... OK * checking Rd metadata ... OK * checking Rd cross-references ... OK * checking for missing documentation entries ... OK * checking for code/documentation mismatches ... OK * checking Rd \usage sections ... OK * checking Rd contents ... OK * checking for unstated dependencies in examples ... OK * checking files in 'vignettes' ... OK * checking examples ... ** running examples for arch 'i386' ... OK Examples with CPU (user + system) or elapsed time > 5s user system elapsed ABselectUU 106.41 0.01 106.42 BOOTmodel 101.16 0.04 101.52 ABselectMM 84.19 0.00 84.19 ABneutral 74.47 0.02 74.49 ABselectUUSOMA 6.67 0.02 6.69 ABneutralSOMA 5.82 0.00 5.81 buildPedigree 0.85 0.08 5.83 ** running examples for arch 'x64' ... OK Examples with CPU (user + system) or elapsed time > 5s user system elapsed BOOTmodel 155.21 0.02 155.26 ABselectUU 111.69 0.02 112.34 ABselectMM 106.75 0.00 106.82 ABneutral 92.14 0.00 92.40 ABneutralSOMA 10.49 0.00 10.48 ABselectUUSOMA 9.56 0.00 9.57 ABselectMMSOMA 8.18 0.00 8.19 buildPedigree 1.00 0.01 6.53 rc.meth.lvl 0.66 0.00 5.81 * checking for unstated dependencies in vignettes ... OK * checking package vignettes in 'inst/doc' ... OK * checking running R code from vignettes ... SKIPPED * checking re-building of vignette outputs ... SKIPPED * checking PDF version of manual ... OK * DONE Status: 2 NOTEs See 'C:/Users/biocbuild/bbs-3.11-bioc/meat/AlphaBeta.Rcheck/00check.log' for details.
AlphaBeta.Rcheck/00install.out
############################################################################## ############################################################################## ### ### Running command: ### ### C:\cygwin\bin\curl.exe -O https://malbec2.bioconductor.org/BBS/3.11/bioc/src/contrib/AlphaBeta_1.2.3.tar.gz && rm -rf AlphaBeta.buildbin-libdir && mkdir AlphaBeta.buildbin-libdir && C:\Users\biocbuild\bbs-3.11-bioc\R\bin\R.exe CMD INSTALL --merge-multiarch --build --library=AlphaBeta.buildbin-libdir AlphaBeta_1.2.3.tar.gz && C:\Users\biocbuild\bbs-3.11-bioc\R\bin\R.exe CMD INSTALL AlphaBeta_1.2.3.zip && rm AlphaBeta_1.2.3.tar.gz AlphaBeta_1.2.3.zip ### ############################################################################## ############################################################################## % Total % Received % Xferd Average Speed Time Time Time Current Dload Upload Total Spent Left Speed 0 0 0 0 0 0 0 0 --:--:-- --:--:-- --:--:-- 0 100 2527k 100 2527k 0 0 22.2M 0 --:--:-- --:--:-- --:--:-- 23.7M install for i386 * installing *source* package 'AlphaBeta' ... ** using staged installation ** R ** inst ** byte-compile and prepare package for lazy loading ** help *** installing help indices converting help for package 'AlphaBeta' finding HTML links ... done ABneutral html ABneutralSOMA html ABnull html ABplot html ABselectMM html ABselectMMSOMA html ABselectUU html ABselectUUSOMA html BOOTmodel html FtestRSS html buildPedigree html dMatrix html plotPedigree html rc.meth.lvl html ** building package indices ** installing vignettes ** testing if installed package can be loaded from temporary location ** testing if installed package can be loaded from final location ** testing if installed package keeps a record of temporary installation path install for x64 * installing *source* package 'AlphaBeta' ... ** testing if installed package can be loaded * MD5 sums packaged installation of 'AlphaBeta' as AlphaBeta_1.2.3.zip * DONE (AlphaBeta) * installing to library 'C:/Users/biocbuild/bbs-3.11-bioc/R/library' package 'AlphaBeta' successfully unpacked and MD5 sums checked
AlphaBeta.Rcheck/examples_i386/AlphaBeta-Ex.timings
|
AlphaBeta.Rcheck/examples_x64/AlphaBeta-Ex.timings
|