| Back to Multiple platform build/check report for BioC 3.11 |
|
This page was generated on 2020-10-17 11:56:06 -0400 (Sat, 17 Oct 2020).
| TO THE DEVELOPERS/MAINTAINERS OF THE ASSIGN PACKAGE: Please make sure to use the following settings in order to reproduce any error or warning you see on this page. |
| Package 95/1905 | Hostname | OS / Arch | INSTALL | BUILD | CHECK | BUILD BIN | ||||||
| ASSIGN 1.24.0 Ying Shen
| malbec2 | Linux (Ubuntu 18.04.4 LTS) / x86_64 | OK | OK | OK | |||||||
| tokay2 | Windows Server 2012 R2 Standard / x64 | OK | OK | OK | [ OK ] | |||||||
| machv2 | macOS 10.14.6 Mojave / x86_64 | OK | OK | OK | OK |
| Package: ASSIGN |
| Version: 1.24.0 |
| Command: rm -rf ASSIGN.buildbin-libdir && mkdir ASSIGN.buildbin-libdir && C:\Users\biocbuild\bbs-3.11-bioc\R\bin\R.exe CMD INSTALL --merge-multiarch --build --library=ASSIGN.buildbin-libdir ASSIGN_1.24.0.tar.gz |
| StartedAt: 2020-10-17 09:51:25 -0400 (Sat, 17 Oct 2020) |
| EndedAt: 2020-10-17 09:52:09 -0400 (Sat, 17 Oct 2020) |
| EllapsedTime: 43.9 seconds |
| RetCode: 0 |
| Status: OK |
| PackageFile: ASSIGN_1.24.0.zip |
| PackageFileSize: 1.691 MiB |
##############################################################################
##############################################################################
###
### Running command:
###
### rm -rf ASSIGN.buildbin-libdir && mkdir ASSIGN.buildbin-libdir && C:\Users\biocbuild\bbs-3.11-bioc\R\bin\R.exe CMD INSTALL --merge-multiarch --build --library=ASSIGN.buildbin-libdir ASSIGN_1.24.0.tar.gz
###
##############################################################################
##############################################################################
install for i386
* installing *source* package 'ASSIGN' ...
** using staged installation
** R
** data
*** moving datasets to lazyload DB
** inst
** byte-compile and prepare package for lazy loading
** help
*** installing help indices
converting help for package 'ASSIGN'
finding HTML links ... done
ComBat.step2 html
assign.convergence html
assign.cv.output html
assign.mcmc html
assign.output html
assign.preprocess html
assign.summary html
assign.wrapper html
excludegenes html
gather_assign_results html
geneList1 html
gfrn_geneList html
merge_drop html
optimizeGFRN html
pcaplot html
runassignGFRN html
testData1 html
trainingData1 html
** building package indices
** installing vignettes
** testing if installed package can be loaded from temporary location
** testing if installed package can be loaded from final location
** testing if installed package keeps a record of temporary installation path
install for x64
* installing *source* package 'ASSIGN' ...
** testing if installed package can be loaded
* MD5 sums
packaged installation of 'ASSIGN' as ASSIGN_1.24.0.zip
* DONE (ASSIGN)