| Back to Multiple platform build/check report for BioC 3.11 | 
 | 
This page was generated on 2020-10-17 11:54:21 -0400 (Sat, 17 Oct 2020).
| TO THE DEVELOPERS/MAINTAINERS OF THE AGDEX PACKAGE: Please make sure to use the following settings in order to reproduce any error or warning you see on this page. | 
| Package 37/1905 | Hostname | OS / Arch | INSTALL | BUILD | CHECK | BUILD BIN | ||||||
| AGDEX 1.36.0 Cuilan lani Gao 
 | malbec2 | Linux (Ubuntu 18.04.4 LTS) / x86_64 | OK | [ OK ] | OK |  | ||||||
| tokay2 | Windows Server 2012 R2 Standard / x64 | OK | OK | WARNINGS | OK |  | ||||||
| machv2 | macOS 10.14.6 Mojave / x86_64 | OK | OK | OK | OK |  | 
| Package: AGDEX | 
| Version: 1.36.0 | 
| Command: /home/biocbuild/bbs-3.11-bioc/R/bin/R CMD build --keep-empty-dirs --no-resave-data AGDEX | 
| StartedAt: 2020-10-16 17:37:31 -0400 (Fri, 16 Oct 2020) | 
| EndedAt: 2020-10-16 17:37:50 -0400 (Fri, 16 Oct 2020) | 
| EllapsedTime: 19.5 seconds | 
| RetCode: 0 | 
| Status: OK | 
| PackageFile: AGDEX_1.36.0.tar.gz | 
| PackageFileSize: 533.3 KiB | 
############################################################################## ############################################################################## ### ### Running command: ### ### /home/biocbuild/bbs-3.11-bioc/R/bin/R CMD build --keep-empty-dirs --no-resave-data AGDEX ### ############################################################################## ############################################################################## * checking for file ‘AGDEX/DESCRIPTION’ ... OK * preparing ‘AGDEX’: * checking DESCRIPTION meta-information ... OK * installing the package to build vignettes * creating vignettes ... OK * checking for LF line-endings in source and make files and shell scripts * checking for empty or unneeded directories * looking to see if a ‘data/datalist’ file should be added * building ‘AGDEX_1.36.0.tar.gz’