Back to
Workflows build report for BioC 3.10
Workflows build report for BioC 3.10
Results for simpleSingleCell
This page was generated on 2020-04-15 18:30:18 -0400 (Wed, 15 Apr 2020).
Package
24
/27
Hostname
OS / Arch
INSTALL
BUILD
simpleSingleCell
1.10.1
Aaron Lun
Snapshot Date:
2020-04-15 10:00:01 -0400 (Wed, 15 Apr 2020)
URL:
https://git.bioconductor.org/packages/simpleSingleCell
Branch:
RELEASE_3_10
Last Commit:
dbab834
Last Changed Date:
2019-11-18 11:47:37 -0400 (Mon, 18 Nov 2019)
malbec1
Linux (Ubuntu 18.04.4 LTS) / x86_64
OK
OK