Back to
Workflows build report for BioC 3.10
Workflows build report for BioC 3.10
Results for rnaseqDTU
This page was generated on 2020-04-15 18:30:18 -0400 (Wed, 15 Apr 2020).
Package
20
/27
Hostname
OS / Arch
INSTALL
BUILD
rnaseqDTU
1.6.0
Michael Love
Snapshot Date:
2020-04-15 10:00:01 -0400 (Wed, 15 Apr 2020)
URL:
https://git.bioconductor.org/packages/rnaseqDTU
Branch:
RELEASE_3_10
Last Commit:
3bd6d2b
Last Changed Date:
2019-10-29 11:59:30 -0400 (Tue, 29 Oct 2019)
malbec1
Linux (Ubuntu 18.04.4 LTS) / x86_64
OK
OK